Workbook
Name K_Keuzeopties: Keuzeopties[Keuzeopties]
Name K_Keuzeopties: Keuzeopties[Keuzeopties]
Name K_Keuzeopties: Keuzeopties[Keuzeopties]
Name K_Keuzeopties: Keuzeopties[Keuzeopties]
Name K_Keuzeopties: Keuzeopties[Keuzeopties]
Name K_Keuzeopties: Keuzeopties[Keuzeopties]
Name K_Keuzeopties: Keuzeopties[Keuzeopties]
Name K_Keuzeopties: Keuzeopties[Keuzeopties]
Name K_Keuzeopties: Keuzeopties[Keuzeopties]
Name K_Keuzeopties: Keuzeopties[Keuzeopties]
Name K_Keuzeopties: Keuzeopties[Keuzeopties]
Name K_Keuzeopties: Keuzeopties[Keuzeopties]
Name K_Keuzeopties: Keuzeopties[Keuzeopties]
Name K_Keuzeopties: Keuzeopties[Keuzeopties]
Name K_Keuzeopties: Keuzeopties[Keuzeopties]
Name K_Keuzeopties: Keuzeopties[Keuzeopties]
Name K_Keuzeopties: Keuzeopties[Keuzeopties]
Name K_Keuzeopties: Keuzeopties[Keuzeopties]
Name K_Keuzeopties: Keuzeopties[Keuzeopties]
Name K_Keuzeopties: Keuzeopties[Keuzeopties]
Name K_Omvang: Omvang[Omvang organisatie]
Name K_Omvang: Omvang[Omvang organisatie]
Name K_Omvang: Omvang[Omvang organisatie]
Name K_Omvang: Omvang[Omvang organisatie]
Name K_Omvang: Omvang[Omvang organisatie]
Name K_Omvang: Omvang[Omvang organisatie]
Name K_Omvang: Omvang[Omvang organisatie]
Name K_Omvang: Omvang[Omvang organisatie]
Name K_Omvang: Omvang[Omvang organisatie]
Name K_Omvang: Omvang[Omvang organisatie]
Name K_Omvang: Omvang[Omvang organisatie]
Name K_Omvang: Omvang[Omvang organisatie]
Name K_Omvang: Omvang[Omvang organisatie]
Name K_Omvang: Omvang[Omvang organisatie]
Name K_Omvang: Omvang[Omvang organisatie]
Name K_Omvang: Omvang[Omvang organisatie]
Name K_Omvang: Omvang[Omvang organisatie]
Name K_Omvang: Omvang[Omvang organisatie]
Name K_Omvang: Omvang[Omvang organisatie]
Name K_Omvang: Omvang[Omvang organisatie]
Name K_Omvang: Omvang[Omvang organisatie]
Name K_Staatssteunartikel: Staatssteunartikel[Staatssteunartikel]
Name K_Staatssteunartikel: Staatssteunartikel[Staatssteunartikel]
Name K_Staatssteunartikel: Staatssteunartikel[Staatssteunartikel]
Name K_Staatssteunartikel: Staatssteunartikel[Staatssteunartikel]
Name K_Staatssteunartikel: Staatssteunartikel[Staatssteunartikel]
Name K_Staatssteunartikel: Staatssteunartikel[Staatssteunartikel]
Name K_Staatssteunartikel: Staatssteunartikel[Staatssteunartikel]
Name K_Staatssteunartikel: Staatssteunartikel[Staatssteunartikel]
Name K_Staatssteunartikel: Staatssteunartikel[Staatssteunartikel]
Name K_Staatssteunartikel: Staatssteunartikel[Staatssteunartikel]
Name K_Staatssteunartikel: Staatssteunartikel[Staatssteunartikel]
Name K_Staatssteunartikel: Staatssteunartikel[Staatssteunartikel]
Name K_Staatssteunartikel: Staatssteunartikel[Staatssteunartikel]
Name K_Staatssteunartikel: Staatssteunartikel[Staatssteunartikel]
Name K_Staatssteunartikel: Staatssteunartikel[Staatssteunartikel]
Name K_Staatssteunartikel: Staatssteunartikel[Staatssteunartikel]
Name K_Staatssteunartikel: Staatssteunartikel[Staatssteunartikel]
Name K_Staatssteunartikel: Staatssteunartikel[Staatssteunartikel]
Name K_Staatssteunartikel: Staatssteunartikel[Staatssteunartikel]

Sheet Instructie
B2: Instructie begrotingsformat GLB-aanvraag 2023-2027
B3: Versie mei 2025 - Provincie Noord-Brabant
B35: Kostensoorten
C36: Toelichting | D36: Begrotingsoptie
B37: arbeidskosten en eigen arbeid inclusief overhead
B38: Arbeidskosten plus vast % (44,2% werkgeverslasten en 15% overhead) | C38: Deze kostensoort gebruikt u alleen bij begrotingsoptie 1 (zonder vereenvoudigde kostenoptie). De arbeidskosten worden berekend door het begrote aantal uren te vermenigvuldigen met een individueel uurtarief per medewerker. Het individuele uurtarief bevat drie componenten: het brutoloon, een opslag voor werkgeverslasten (44,2%) en een opslag voor de indirecte kosten van het project (15% overhead). Het individuele uurtarief wordt als volgt berekend: bruto jaarloon x 1,442 voor werkgeverslasten x 1,15 voor overhead / 1.720 uur op basis van een 40-urige werkweek. Is er sprake van een niet volledig gewerkt jaar of van een medewerker met een deeltijd dienstverband, dan wordt een aantal uren naar rato toegepast. Bij een dienstverband van 20 uur per week wordt bijvoorbeeld niet gerekend met 1.720 uren maar met 860 uren. Het totale aantal te subsidiëren uren, voor een bepaald jaar, kan niet meer bedragen dan 1.720 uur bij een voltijd dienstverband of een evenredig deel daarvan bij een deeltijd dienstverband. Rekenvoorbeeld uurtarief: €40.000,- (brutto jaarloon, 40 urige werkweek) * 1,442 * 1,15 / 1.720 = € 38,57. Rekenvoorbeeld subsidiabele arbeidskosten: 50 (uur inzet voor project) * € 38,57 (uurtarief) = €1.928,- | D38: Optie 1: Subsidiabele kosten zonder vereenvoudigde kostenoptie
B39: IKS voor kennisinstellingen | C39: Deze kostensoort kan uitsluitend worden gebruikt door kennisinstellingen (zoals universiteiten en onderzoeksinstituten) en alleen indien de Integrale Kostensystematiek (IKS) van de organisatie is goedgekeurd door RVO. De arbeidskosten per medewerker worden berekend door het IKS-tarief voor de medewerker te vermenigvuldigen met het aantal begrote projecturen. Let op: Het maximale aantal te begroten uren voor een bepaald (kalender)jaar = het aantal uren per jaar dat is gebruikt voor de berekening van de IKS tarieven. | D39: Optie 1: Subsidiabele kosten zonder vereenvoudigde kostenoptie en Optie 2: Subsidiabele kosten met vereenvoudigde kostenoptie voor overige kosten
B40: VKO 23% voor arbeidskosten en eigen arbeid | C40: Met deze kostensoort worden de subsidiabele arbeidskosten van het project berekend met een vereenvoudigde kostenoptie. Er wordt niet gerekend met individuele uurtarieven en een begroting van de inzet (in uren) per medewerker. De arbeidskosten (inclusief de indirecte kosten van het project) worden berekend met een vaste opslag van 23% over het totaal van de ander directe projectkosten (niet zijnde arbeidskosten). Rekenvoorbeeld: als het totaal van de overige kosten voor het project € 45.000,- bedraagt, dan mag bij keuze voor deze kostensort 0,23 * €45.000,- = € 10,350,- worden begroot voor arbeidskosten, eigen arbeid en overhead. | D40: Optie 3: Subsidiabele kosten met vereenvoudigde kostenoptie voor arbeidskosten
B41: Arbeidskosten exclusief overhead
B42: Arbeidskosten plus vast % (44,2% werkgeverslasten) | C42: Deze kostensoort wordt gebruikt wanneer u de overige kosten van het project (niet zijnde arbeidskosten) wilt berekenen met de VKO 40% voor overige kosten (zie onder kopje Overige kosten). De arbeidskosten worden berekend met individuele uurtarieven per medewerker exclusief 15% overhead, maar inclusief de vaste opslag van 44,2% voor werkgeverslasten. Rekenvoorbeeld uurtarief: €40.000,- (brutto jaarloon, 40 urige werkweek) * 1,442 / 1.720 = € 33,53. Rekenvoorbeeld subsidiabele arbeidskosten: 50 (uur inzet voor project) * € 33,53 (uurtarief) = €1.677,- Let op: Het maximale aantal te begroten uren voor een bepaald (kalender)jaar = het aantal uren per jaar dat is gebruikt voor de berekening van het uurtarief van de medewerker. | D42: Optie 2: Subsidiabele kosten met vereenvoudigde kostenoptie voor overige kosten
B43: Eigen arbeid
B44: Vast uurtarief eigen arbeid (€ 50) | C44: Voor projectmedewerkers die niet in loondienst zijn bij de aanvrager worden de subsidiabele kosten begroot met een vast tarief voor 'Eigen arbeid'. De subsidiabele kosten worden dan berekend door het aantal begrote uren te vermenigvuldigen met een uurtarief van € 50,- bij gebruik van begrotingsoptie 1 (zonder VKO) Let op: Het maximale aantal te begroten uren per persoon voor een bepaald (kalender)jaar is 1372. | D44: Optie 1: Subsidiabele kosten zonder vereenvoudigde kostenoptie;
B45: Vast uurtarief eigen arbeid (€ 43) | C45: Voor projectmedewerkers die niet in loondienst zijn bij de aanvrager worden de subsidiabele kosten begroot met een vast tarief voor 'Eigen arbeid'. De subsidiabele kosten worden dan berekend door het aantal begrote uren te vermenigvuldigen met een uurtarief van € 43,- bij gebruik van begrotingsoptie 3 (met VKO) Let op: Het maximale aantal te begroten uren per persoon voor een bepaald (kalender)jaar is 1372. | D45: Optie 2: Subsidiabele kosten met vereenvoudigde kostenoptie voor overige kosten
B46: Overige kosten
B47: Afschrijvingskosten (niet subsidiabel bij openstellingen EIP) | C47: De kostensoort Afschrijvingskosten wordt gebruikt voor de kosten van zaken die al in het bezit zijn van de aanvrager en die ten behoeve van het project worden gebruikt, zoals een kettingzaag, een trekker of een printer. Voor de berkening van de subsidiabele afschrijvingskosten moet worden aangesloten bij de eigen administratie waarbij gangbare bedrijfseconomisch aanvaarde uitgangspunten worden gehanteerd met betrekking tot afschrijvingsperiode en restwaarde. De afschrijvingskosten zijn slechts subsidiabel voor zover zij toe te rekenen zijn aan de subsidiabele activiteiten. In het geval van een trekker bijvoorbeeld, gaat het om de tijd dat deze trekker voor het project wordt gebruikt. Toerekening is naar evenredigheid van de tijd waarin het object wordt gebruikt voor het project, gerelateerd aan de normale bezetting. Met ‘normale bezetting’ wordt bedoeld het aantal prestatie-eenheden dat het betreffende object, volgens een realistische inschatting van de subsidieontvanger, over de totale levensduur van het object jaarlijks levert. Rekenvoorbeeld: Als een machine met een nieuwwaarde van €10.000,- en een afschrijvingsperiode van 10 jaar voor twee jaar in het project wordt gebruikt met een gemiddelde inzet van 2 dagen in de week, worden de subsidiabele afschrijvingskosten als volgt berekend: € 10.000,- * (2/10) * (2/5) = € 800,- | D47: Optie 1: Subsidiabele kosten zonder vereenvoudigde kostenoptie en Optie 3: Subsidiabele kosten met vereenvoudigde kostenoptie voor arbeidskosten
B48: Bijdragen in natura (niet subsidiabel bij openstellingen EIP) | C48: Bijdragen in natura zijn in geld te waarderen inbreng van producten of diensten waarvoor geen bonnen en betaalbewijzen beschikbaar zijn. Bijdragen in natura kunnen voorkomen in de vorm van goederen, diensten en grond of onroerend goed. Goederen, grond of onroerende goederen die reeds vóór aanvang van de project-activiteiten in bezit zijn van de subsidieontvanger, kunnen als bijdrage in natura in het project worden ingebracht als hierover niet (meer) wordt afgeschreven. De waarde van de bijdrage moet op onafhankelijke wijze worden bepaald. Daarnaast moet bij inbreng van apparatuur een toerekening plaatsvinden die is gebaseerd op het gebruik binnen het project ten opzichte van de werkelijke bezetting. De waarde van ingebrachte grond of onroerend goed mag niet hoger zijn dan de normale marktwaarde die objectief is bepaald, bijvoorbeeld op basis van de WOZ-waarde op het moment van inbreng. Er kan ook een verklaring van een onafhankelijke en professionele deskundige worden gebruikt. Als een gemeente grond inbrengt kan de waarde ook gebaseerd worden op een recent raadsbesluit waarin grondprijs is vastgesteld. Ook vrijwilligersuren worden als bijdrage in natura begroot. | D48: Optie 1: Subsidiabele kosten zonder vereenvoudigde kostenoptie en Optie 3: Subsidiabele kosten met vereenvoudigde kostenoptie voor arbeidskosten
B49: Andere kosten | C49: Deze kostensoort is bedoeld voor direct met het project verbonden out-of-pocket uitgaven. Dat zijn uitgaven tijdens de projectperiode waarvoor een factuur en betaalbewijs kan worden overlegd. Bijvoorbeeld uitgaven voor de inhuur van externen, de aankoop van machines en materialen, kosten voor communicatie-activiteiten en toerekenbare reis- en verblijfskosten. | D49: Optie 1: Subsidiabele kosten zonder vereenvoudigde kostenoptie en Optie 3: Subsidiabele kosten met vereenvoudigde kostenoptie voor arbeidskosten
B50: VKO 40% voor overige kosten | C50: Met deze kostensoort worden de overige kosten van het project berekend wanneer de begroting wordt opgesteld volgens optie 2. De overige kosten van het project worden bepaald door toepassing van een vaste opslag van 40% over de begrote arbeidskosten en eigen arbeid exclusief overhead. Rekenvoorbeeld: arbeidskosten inclusief werkgeverslasten, maar exclusief overhead €10.000,-. De met het forfait berekende overige projectekosten bedragen €4.000 (€10.000 x 40%). De totale projectbegroting komt op €14.000. | D50: Optie 2: Subsidiabele kosten met vereenvoudigde kostenoptie voor overige kosten

Sheet Projectinformatie
G1: Invoervelden | H1: Deze velden kunt u zelf invullen
B2: Projectnaam: | G2: Selectievelden | H2: Door met de cursor op het betreffende veld te gaan staan, verschijnt aan de rechterkant een pijltje waarmee u kunt kiezen.
G3: Doorrekenvelden | H3: Deze velden kunt u niet aanpassen
B9: *Een werkpakket is een logische clustering van activiteiten binnen het project (bijvoorbeeld: coördinatie, uitvoering onderdeel a, b, etc. en rapportage).
B11: Werkpakketnummer | C11: Werkpakketnaam
B24: ="Wij, projectpartners van het project '"&C2&"', kiezen onderstaande optie voor het begroten en verantwoorden van de projectkosten:" -> Wij, projectpartners van het project '', kiezen onderstaande optie voor het begroten en verantwoorden van de projectkosten:
B26: Optie 1: Subsidiabele kosten zonder vereenvoudigde kostenoptie

Sheet Totale begroting
B2: TOTALE BEGROTING | D2: LET OP: DIT TABBLAD WORDT AUTOMATISCH GEVULD. U HOEFT HIER NIETS IN TE VULLEN!
C4: Totale begroting | D4: Penvoerder | E4: Projectpartner 2 | F4: Projectpartner 3 | G4: Projectpartner 4 | H4: Projectpartner 5 | I4: Projectpartner 6 | J4: Projectpartner 7 | K4: Projectpartner 8 | L4: Projectpartner 9 | M4: Projectpartner 10 | N4: Projectpartner 11 | O4: Projectpartner 12 | P4: Projectpartner 13 | Q4: Projectpartner 14 | R4: Projectpartner 15 | S4: Projectpartner 16 | T4: Projectpartner 17 | U4: Projectpartner 18 | V4: Projectpartner 19 | W4: Projectpartner 20
B5: Werkpakket | D5: =IFERROR(IF(Penvoerder!$C$2="","",Penvoerder!$C$2),"") | E5: =IFERROR(IF('PP2'!$C$2="","",'PP2'!$C$2),"") | F5: =IFERROR(IF('PP3'!$C$2="","",'PP3'!$C$2),"") | G5: =IFERROR(IF('PP4'!$C$2="","",'PP4'!$C$2),"") | H5: =IFERROR(IF('PP5'!$C$2="","",'PP5'!$C$2),"") | I5: =IFERROR(IF('PP6'!$C$2="","",'PP6'!$C$2),"") | J5: =IFERROR(IF('PP7'!$C$2="","",'PP7'!$C$2),"") | K5: =IFERROR(IF('PP8'!$C$2="","",'PP8'!$C$2),"") | L5: =IFERROR(IF('PP9'!$C$2="","",'PP9'!$C$2),"") | M5: =IFERROR(IF('PP10'!$C$2="","",'PP10'!$C$2),"") | N5: =IFERROR(IF('PP11'!$C$2="","",'PP11'!$C$2),"") | O5: =IFERROR(IF('PP12'!$C$2="","",'PP12'!$C$2),"") | P5: =IFERROR(IF('PP13'!$C$2="","",'PP13'!$C$2),"") | Q5: =IFERROR(IF('PP14'!$C$2="","",'PP14'!$C$2),"") | R5: =IFERROR(IF('PP15'!$C$2="","",'PP15'!$C$2),"") | S5: =IFERROR(IF('PP16'!$C$2="","",'PP16'!$C$2),"") | T5: =IFERROR(IF('PP17'!$C$2="","",'PP17'!$C$2),"") | U5: =IFERROR(IF('PP18'!$C$2="","",'PP18'!$C$2),"") | V5: =IFERROR(IF('PP19'!$C$2="","",'PP19'!$C$2),"") | W5: =IFERROR(IF('PP20'!$C$2="","",'PP20'!$C$2),"")
B6: =Hulpblad!V2 | C6: =IF(OR($B6="",$B6=" "),"",SUM(D6:W6)) | D6: =IF(OR($B6="",$B6=" "),"",SUMIFS(Penvoerder!$H$17:$H$26,Penvoerder!$F$17:$F$26,$B6)) | E6: =IF(OR($B6="",$B6=" "),"",SUMIFS('PP2'!$H$17:$H$26,'PP2'!$F$17:$F$26,$B6)) | F6: =IF(OR($B6="",$B6=" "),"",SUMIFS('PP3'!$H$17:$H$26,'PP3'!$F$17:$F$26,$B6)) | G6: =IF(OR($B6="",$B6=" "),"",SUMIFS('PP4'!$H$17:$H$26,'PP4'!$F$17:$F$26,$B6)) | H6: =IF(OR($B6="",$B6=" "),"",SUMIFS('PP5'!$H$17:$H$26,'PP5'!$F$17:$F$26,$B6)) | I6: =IF(OR($B6="",$B6=" "),"",SUMIFS('PP6'!$H$17:$H$26,'PP6'!$F$17:$F$26,$B6)) | J6: =IF(OR($B6="",$B6=" "),"",SUMIFS('PP7'!$H$17:$H$26,'PP7'!$F$17:$F$26,$B6)) | K6: =IF(OR($B6="",$B6=" "),"",SUMIFS('PP8'!$H$17:$H$26,'PP8'!$F$17:$F$26,$B6)) | L6: =IF(OR($B6="",$B6=" "),"",SUMIFS('PP9'!$H$17:$H$26,'PP9'!$F$17:$F$26,$B6)) | M6: =IF(OR($B6="",$B6=" "),"",SUMIFS('PP10'!$H$17:$H$26,'PP10'!$F$17:$F$26,$B6)) | N6: =IF(OR($B6="",$B6=" "),"",SUMIFS('PP11'!$H$17:$H$26,'PP11'!$F$17:$F$26,$B6)) | O6: =IF(OR($B6="",$B6=" "),"",SUMIFS('PP12'!$H$17:$H$26,'PP12'!$F$17:$F$26,$B6)) | P6: =IF(OR($B6="",$B6=" "),"",SUMIFS('PP13'!$H$17:$H$26,'PP13'!$F$17:$F$26,$B6)) | Q6: =IF(OR($B6="",$B6=" "),"",SUMIFS('PP14'!$H$17:$H$26,'PP14'!$F$17:$F$26,$B6)) | R6: =IF(OR($B6="",$B6=" "),"",SUMIFS('PP15'!$H$17:$H$26,'PP15'!$F$17:$F$26,$B6)) | S6: =IF(OR($B6="",$B6=" "),"",SUMIFS('PP16'!$H$17:$H$26,'PP16'!$F$17:$F$26,$B6)) | T6: =IF(OR($B6="",$B6=" "),"",SUMIFS('PP17'!$H$17:$H$26,'PP17'!$F$17:$F$26,$B6)) | U6: =IF(OR($B6="",$B6=" "),"",SUMIFS('PP18'!$H$17:$H$26,'PP18'!$F$17:$F$26,$B6)) | V6: =IF(OR($B6="",$B6=" "),"",SUMIFS('PP19'!$H$17:$H$26,'PP19'!$F$17:$F$26,$B6)) | W6: =IF(OR($B6="",$B6=" "),"",SUMIFS('PP20'!$H$17:$H$26,'PP20'!$F$17:$F$26,$B6))
B7: =Hulpblad!V3 | C7: =IF(OR($B7="",$B7=" "),"",SUM(D7:W7)) | D7: =IF(OR($B7="",$B7=" "),"",SUMIFS(Penvoerder!$H$17:$H$26,Penvoerder!$F$17:$F$26,$B7)) | E7: =IF(OR($B7="",$B7=" "),"",SUMIFS('PP2'!$H$17:$H$26,'PP2'!$F$17:$F$26,$B7)) | F7: =IF(OR($B7="",$B7=" "),"",SUMIFS('PP3'!$H$17:$H$26,'PP3'!$F$17:$F$26,$B7)) | G7: =IF(OR($B7="",$B7=" "),"",SUMIFS('PP4'!$H$17:$H$26,'PP4'!$F$17:$F$26,$B7)) | H7: =IF(OR($B7="",$B7=" "),"",SUMIFS('PP5'!$H$17:$H$26,'PP5'!$F$17:$F$26,$B7)) | I7: =IF(OR($B7="",$B7=" "),"",SUMIFS('PP6'!$H$17:$H$26,'PP6'!$F$17:$F$26,$B7)) | J7: =IF(OR($B7="",$B7=" "),"",SUMIFS('PP7'!$H$17:$H$26,'PP7'!$F$17:$F$26,$B7)) | K7: =IF(OR($B7="",$B7=" "),"",SUMIFS('PP8'!$H$17:$H$26,'PP8'!$F$17:$F$26,$B7)) | L7: =IF(OR($B7="",$B7=" "),"",SUMIFS('PP9'!$H$17:$H$26,'PP9'!$F$17:$F$26,$B7)) | M7: =IF(OR($B7="",$B7=" "),"",SUMIFS('PP10'!$H$17:$H$26,'PP10'!$F$17:$F$26,$B7)) | N7: =IF(OR($B7="",$B7=" "),"",SUMIFS('PP11'!$H$17:$H$26,'PP11'!$F$17:$F$26,$B7)) | O7: =IF(OR($B7="",$B7=" "),"",SUMIFS('PP12'!$H$17:$H$26,'PP12'!$F$17:$F$26,$B7)) | P7: =IF(OR($B7="",$B7=" "),"",SUMIFS('PP13'!$H$17:$H$26,'PP13'!$F$17:$F$26,$B7)) | Q7: =IF(OR($B7="",$B7=" "),"",SUMIFS('PP14'!$H$17:$H$26,'PP14'!$F$17:$F$26,$B7)) | R7: =IF(OR($B7="",$B7=" "),"",SUMIFS('PP15'!$H$17:$H$26,'PP15'!$F$17:$F$26,$B7)) | S7: =IF(OR($B7="",$B7=" "),"",SUMIFS('PP16'!$H$17:$H$26,'PP16'!$F$17:$F$26,$B7)) | T7: =IF(OR($B7="",$B7=" "),"",SUMIFS('PP17'!$H$17:$H$26,'PP17'!$F$17:$F$26,$B7)) | U7: =IF(OR($B7="",$B7=" "),"",SUMIFS('PP18'!$H$17:$H$26,'PP18'!$F$17:$F$26,$B7)) | V7: =IF(OR($B7="",$B7=" "),"",SUMIFS('PP19'!$H$17:$H$26,'PP19'!$F$17:$F$26,$B7)) | W7: =IF(OR($B7="",$B7=" "),"",SUMIFS('PP20'!$H$17:$H$26,'PP20'!$F$17:$F$26,$B7))
B8: =Hulpblad!V4 | C8: =IF(OR($B8="",$B8=" "),"",SUM(D8:W8)) | D8: =IF(OR($B8="",$B8=" "),"",SUMIFS(Penvoerder!$H$17:$H$26,Penvoerder!$F$17:$F$26,$B8)) | E8: =IF(OR($B8="",$B8=" "),"",SUMIFS('PP2'!$H$17:$H$26,'PP2'!$F$17:$F$26,$B8)) | F8: =IF(OR($B8="",$B8=" "),"",SUMIFS('PP3'!$H$17:$H$26,'PP3'!$F$17:$F$26,$B8)) | G8: =IF(OR($B8="",$B8=" "),"",SUMIFS('PP4'!$H$17:$H$26,'PP4'!$F$17:$F$26,$B8)) | H8: =IF(OR($B8="",$B8=" "),"",SUMIFS('PP5'!$H$17:$H$26,'PP5'!$F$17:$F$26,$B8)) | I8: =IF(OR($B8="",$B8=" "),"",SUMIFS('PP6'!$H$17:$H$26,'PP6'!$F$17:$F$26,$B8)) | J8: =IF(OR($B8="",$B8=" "),"",SUMIFS('PP7'!$H$17:$H$26,'PP7'!$F$17:$F$26,$B8)) | K8: =IF(OR($B8="",$B8=" "),"",SUMIFS('PP8'!$H$17:$H$26,'PP8'!$F$17:$F$26,$B8)) | L8: =IF(OR($B8="",$B8=" "),"",SUMIFS('PP9'!$H$17:$H$26,'PP9'!$F$17:$F$26,$B8)) | M8: =IF(OR($B8="",$B8=" "),"",SUMIFS('PP10'!$H$17:$H$26,'PP10'!$F$17:$F$26,$B8)) | N8: =IF(OR($B8="",$B8=" "),"",SUMIFS('PP11'!$H$17:$H$26,'PP11'!$F$17:$F$26,$B8)) | O8: =IF(OR($B8="",$B8=" "),"",SUMIFS('PP12'!$H$17:$H$26,'PP12'!$F$17:$F$26,$B8)) | P8: =IF(OR($B8="",$B8=" "),"",SUMIFS('PP13'!$H$17:$H$26,'PP13'!$F$17:$F$26,$B8)) | Q8: =IF(OR($B8="",$B8=" "),"",SUMIFS('PP14'!$H$17:$H$26,'PP14'!$F$17:$F$26,$B8)) | R8: =IF(OR($B8="",$B8=" "),"",SUMIFS('PP15'!$H$17:$H$26,'PP15'!$F$17:$F$26,$B8)) | S8: =IF(OR($B8="",$B8=" "),"",SUMIFS('PP16'!$H$17:$H$26,'PP16'!$F$17:$F$26,$B8)) | T8: =IF(OR($B8="",$B8=" "),"",SUMIFS('PP17'!$H$17:$H$26,'PP17'!$F$17:$F$26,$B8)) | U8: =IF(OR($B8="",$B8=" "),"",SUMIFS('PP18'!$H$17:$H$26,'PP18'!$F$17:$F$26,$B8)) | V8: =IF(OR($B8="",$B8=" "),"",SUMIFS('PP19'!$H$17:$H$26,'PP19'!$F$17:$F$26,$B8)) | W8: =IF(OR($B8="",$B8=" "),"",SUMIFS('PP20'!$H$17:$H$26,'PP20'!$F$17:$F$26,$B8))
B9: =Hulpblad!V5 | C9: =IF(OR($B9="",$B9=" "),"",SUM(D9:W9)) | D9: =IF(OR($B9="",$B9=" "),"",SUMIFS(Penvoerder!$H$17:$H$26,Penvoerder!$F$17:$F$26,$B9)) | E9: =IF(OR($B9="",$B9=" "),"",SUMIFS('PP2'!$H$17:$H$26,'PP2'!$F$17:$F$26,$B9)) | F9: =IF(OR($B9="",$B9=" "),"",SUMIFS('PP3'!$H$17:$H$26,'PP3'!$F$17:$F$26,$B9)) | G9: =IF(OR($B9="",$B9=" "),"",SUMIFS('PP4'!$H$17:$H$26,'PP4'!$F$17:$F$26,$B9)) | H9: =IF(OR($B9="",$B9=" "),"",SUMIFS('PP5'!$H$17:$H$26,'PP5'!$F$17:$F$26,$B9)) | I9: =IF(OR($B9="",$B9=" "),"",SUMIFS('PP6'!$H$17:$H$26,'PP6'!$F$17:$F$26,$B9)) | J9: =IF(OR($B9="",$B9=" "),"",SUMIFS('PP7'!$H$17:$H$26,'PP7'!$F$17:$F$26,$B9)) | K9: =IF(OR($B9="",$B9=" "),"",SUMIFS('PP8'!$H$17:$H$26,'PP8'!$F$17:$F$26,$B9)) | L9: =IF(OR($B9="",$B9=" "),"",SUMIFS('PP9'!$H$17:$H$26,'PP9'!$F$17:$F$26,$B9)) | M9: =IF(OR($B9="",$B9=" "),"",SUMIFS('PP10'!$H$17:$H$26,'PP10'!$F$17:$F$26,$B9)) | N9: =IF(OR($B9="",$B9=" "),"",SUMIFS('PP11'!$H$17:$H$26,'PP11'!$F$17:$F$26,$B9)) | O9: =IF(OR($B9="",$B9=" "),"",SUMIFS('PP12'!$H$17:$H$26,'PP12'!$F$17:$F$26,$B9)) | P9: =IF(OR($B9="",$B9=" "),"",SUMIFS('PP13'!$H$17:$H$26,'PP13'!$F$17:$F$26,$B9)) | Q9: =IF(OR($B9="",$B9=" "),"",SUMIFS('PP14'!$H$17:$H$26,'PP14'!$F$17:$F$26,$B9)) | R9: =IF(OR($B9="",$B9=" "),"",SUMIFS('PP15'!$H$17:$H$26,'PP15'!$F$17:$F$26,$B9)) | S9: =IF(OR($B9="",$B9=" "),"",SUMIFS('PP16'!$H$17:$H$26,'PP16'!$F$17:$F$26,$B9)) | T9: =IF(OR($B9="",$B9=" "),"",SUMIFS('PP17'!$H$17:$H$26,'PP17'!$F$17:$F$26,$B9)) | U9: =IF(OR($B9="",$B9=" "),"",SUMIFS('PP18'!$H$17:$H$26,'PP18'!$F$17:$F$26,$B9)) | V9: =IF(OR($B9="",$B9=" "),"",SUMIFS('PP19'!$H$17:$H$26,'PP19'!$F$17:$F$26,$B9)) | W9: =IF(OR($B9="",$B9=" "),"",SUMIFS('PP20'!$H$17:$H$26,'PP20'!$F$17:$F$26,$B9))
B10: =Hulpblad!V6 | C10: =IF(OR($B10="",$B10=" "),"",SUM(D10:W10)) | D10: =IF(OR($B10="",$B10=" "),"",SUMIFS(Penvoerder!$H$17:$H$26,Penvoerder!$F$17:$F$26,$B10)) | E10: =IF(OR($B10="",$B10=" "),"",SUMIFS('PP2'!$H$17:$H$26,'PP2'!$F$17:$F$26,$B10)) | F10: =IF(OR($B10="",$B10=" "),"",SUMIFS('PP3'!$H$17:$H$26,'PP3'!$F$17:$F$26,$B10)) | G10: =IF(OR($B10="",$B10=" "),"",SUMIFS('PP4'!$H$17:$H$26,'PP4'!$F$17:$F$26,$B10)) | H10: =IF(OR($B10="",$B10=" "),"",SUMIFS('PP5'!$H$17:$H$26,'PP5'!$F$17:$F$26,$B10)) | I10: =IF(OR($B10="",$B10=" "),"",SUMIFS('PP6'!$H$17:$H$26,'PP6'!$F$17:$F$26,$B10)) | J10: =IF(OR($B10="",$B10=" "),"",SUMIFS('PP7'!$H$17:$H$26,'PP7'!$F$17:$F$26,$B10)) | K10: =IF(OR($B10="",$B10=" "),"",SUMIFS('PP8'!$H$17:$H$26,'PP8'!$F$17:$F$26,$B10)) | L10: =IF(OR($B10="",$B10=" "),"",SUMIFS('PP9'!$H$17:$H$26,'PP9'!$F$17:$F$26,$B10)) | M10: =IF(OR($B10="",$B10=" "),"",SUMIFS('PP10'!$H$17:$H$26,'PP10'!$F$17:$F$26,$B10)) | N10: =IF(OR($B10="",$B10=" "),"",SUMIFS('PP11'!$H$17:$H$26,'PP11'!$F$17:$F$26,$B10)) | O10: =IF(OR($B10="",$B10=" "),"",SUMIFS('PP12'!$H$17:$H$26,'PP12'!$F$17:$F$26,$B10)) | P10: =IF(OR($B10="",$B10=" "),"",SUMIFS('PP13'!$H$17:$H$26,'PP13'!$F$17:$F$26,$B10)) | Q10: =IF(OR($B10="",$B10=" "),"",SUMIFS('PP14'!$H$17:$H$26,'PP14'!$F$17:$F$26,$B10)) | R10: =IF(OR($B10="",$B10=" "),"",SUMIFS('PP15'!$H$17:$H$26,'PP15'!$F$17:$F$26,$B10)) | S10: =IF(OR($B10="",$B10=" "),"",SUMIFS('PP16'!$H$17:$H$26,'PP16'!$F$17:$F$26,$B10)) | T10: =IF(OR($B10="",$B10=" "),"",SUMIFS('PP17'!$H$17:$H$26,'PP17'!$F$17:$F$26,$B10)) | U10: =IF(OR($B10="",$B10=" "),"",SUMIFS('PP18'!$H$17:$H$26,'PP18'!$F$17:$F$26,$B10)) | V10: =IF(OR($B10="",$B10=" "),"",SUMIFS('PP19'!$H$17:$H$26,'PP19'!$F$17:$F$26,$B10)) | W10: =IF(OR($B10="",$B10=" "),"",SUMIFS('PP20'!$H$17:$H$26,'PP20'!$F$17:$F$26,$B10))
B11: =Hulpblad!V7 | C11: =IF(OR($B11="",$B11=" "),"",SUM(D11:W11)) | D11: =IF(OR($B11="",$B11=" "),"",SUMIFS(Penvoerder!$H$17:$H$26,Penvoerder!$F$17:$F$26,$B11)) | E11: =IF(OR($B11="",$B11=" "),"",SUMIFS('PP2'!$H$17:$H$26,'PP2'!$F$17:$F$26,$B11)) | F11: =IF(OR($B11="",$B11=" "),"",SUMIFS('PP3'!$H$17:$H$26,'PP3'!$F$17:$F$26,$B11)) | G11: =IF(OR($B11="",$B11=" "),"",SUMIFS('PP4'!$H$17:$H$26,'PP4'!$F$17:$F$26,$B11)) | H11: =IF(OR($B11="",$B11=" "),"",SUMIFS('PP5'!$H$17:$H$26,'PP5'!$F$17:$F$26,$B11)) | I11: =IF(OR($B11="",$B11=" "),"",SUMIFS('PP6'!$H$17:$H$26,'PP6'!$F$17:$F$26,$B11)) | J11: =IF(OR($B11="",$B11=" "),"",SUMIFS('PP7'!$H$17:$H$26,'PP7'!$F$17:$F$26,$B11)) | K11: =IF(OR($B11="",$B11=" "),"",SUMIFS('PP8'!$H$17:$H$26,'PP8'!$F$17:$F$26,$B11)) | L11: =IF(OR($B11="",$B11=" "),"",SUMIFS('PP9'!$H$17:$H$26,'PP9'!$F$17:$F$26,$B11)) | M11: =IF(OR($B11="",$B11=" "),"",SUMIFS('PP10'!$H$17:$H$26,'PP10'!$F$17:$F$26,$B11)) | N11: =IF(OR($B11="",$B11=" "),"",SUMIFS('PP11'!$H$17:$H$26,'PP11'!$F$17:$F$26,$B11)) | O11: =IF(OR($B11="",$B11=" "),"",SUMIFS('PP12'!$H$17:$H$26,'PP12'!$F$17:$F$26,$B11)) | P11: =IF(OR($B11="",$B11=" "),"",SUMIFS('PP13'!$H$17:$H$26,'PP13'!$F$17:$F$26,$B11)) | Q11: =IF(OR($B11="",$B11=" "),"",SUMIFS('PP14'!$H$17:$H$26,'PP14'!$F$17:$F$26,$B11)) | R11: =IF(OR($B11="",$B11=" "),"",SUMIFS('PP15'!$H$17:$H$26,'PP15'!$F$17:$F$26,$B11)) | S11: =IF(OR($B11="",$B11=" "),"",SUMIFS('PP16'!$H$17:$H$26,'PP16'!$F$17:$F$26,$B11)) | T11: =IF(OR($B11="",$B11=" "),"",SUMIFS('PP17'!$H$17:$H$26,'PP17'!$F$17:$F$26,$B11)) | U11: =IF(OR($B11="",$B11=" "),"",SUMIFS('PP18'!$H$17:$H$26,'PP18'!$F$17:$F$26,$B11)) | V11: =IF(OR($B11="",$B11=" "),"",SUMIFS('PP19'!$H$17:$H$26,'PP19'!$F$17:$F$26,$B11)) | W11: =IF(OR($B11="",$B11=" "),"",SUMIFS('PP20'!$H$17:$H$26,'PP20'!$F$17:$F$26,$B11))
B12: =Hulpblad!V8 | C12: =IF(OR($B12="",$B12=" "),"",SUM(D12:W12)) | D12: =IF(OR($B12="",$B12=" "),"",SUMIFS(Penvoerder!$H$17:$H$26,Penvoerder!$F$17:$F$26,$B12)) | E12: =IF(OR($B12="",$B12=" "),"",SUMIFS('PP2'!$H$17:$H$26,'PP2'!$F$17:$F$26,$B12)) | F12: =IF(OR($B12="",$B12=" "),"",SUMIFS('PP3'!$H$17:$H$26,'PP3'!$F$17:$F$26,$B12)) | G12: =IF(OR($B12="",$B12=" "),"",SUMIFS('PP4'!$H$17:$H$26,'PP4'!$F$17:$F$26,$B12)) | H12: =IF(OR($B12="",$B12=" "),"",SUMIFS('PP5'!$H$17:$H$26,'PP5'!$F$17:$F$26,$B12)) | I12: =IF(OR($B12="",$B12=" "),"",SUMIFS('PP6'!$H$17:$H$26,'PP6'!$F$17:$F$26,$B12)) | J12: =IF(OR($B12="",$B12=" "),"",SUMIFS('PP7'!$H$17:$H$26,'PP7'!$F$17:$F$26,$B12)) | K12: =IF(OR($B12="",$B12=" "),"",SUMIFS('PP8'!$H$17:$H$26,'PP8'!$F$17:$F$26,$B12)) | L12: =IF(OR($B12="",$B12=" "),"",SUMIFS('PP9'!$H$17:$H$26,'PP9'!$F$17:$F$26,$B12)) | M12: =IF(OR($B12="",$B12=" "),"",SUMIFS('PP10'!$H$17:$H$26,'PP10'!$F$17:$F$26,$B12)) | N12: =IF(OR($B12="",$B12=" "),"",SUMIFS('PP11'!$H$17:$H$26,'PP11'!$F$17:$F$26,$B12)) | O12: =IF(OR($B12="",$B12=" "),"",SUMIFS('PP12'!$H$17:$H$26,'PP12'!$F$17:$F$26,$B12)) | P12: =IF(OR($B12="",$B12=" "),"",SUMIFS('PP13'!$H$17:$H$26,'PP13'!$F$17:$F$26,$B12)) | Q12: =IF(OR($B12="",$B12=" "),"",SUMIFS('PP14'!$H$17:$H$26,'PP14'!$F$17:$F$26,$B12)) | R12: =IF(OR($B12="",$B12=" "),"",SUMIFS('PP15'!$H$17:$H$26,'PP15'!$F$17:$F$26,$B12)) | S12: =IF(OR($B12="",$B12=" "),"",SUMIFS('PP16'!$H$17:$H$26,'PP16'!$F$17:$F$26,$B12)) | T12: =IF(OR($B12="",$B12=" "),"",SUMIFS('PP17'!$H$17:$H$26,'PP17'!$F$17:$F$26,$B12)) | U12: =IF(OR($B12="",$B12=" "),"",SUMIFS('PP18'!$H$17:$H$26,'PP18'!$F$17:$F$26,$B12)) | V12: =IF(OR($B12="",$B12=" "),"",SUMIFS('PP19'!$H$17:$H$26,'PP19'!$F$17:$F$26,$B12)) | W12: =IF(OR($B12="",$B12=" "),"",SUMIFS('PP20'!$H$17:$H$26,'PP20'!$F$17:$F$26,$B12))
B13: =Hulpblad!V9 | C13: =IF(OR($B13="",$B13=" "),"",SUM(D13:W13)) | D13: =IF(OR($B13="",$B13=" "),"",SUMIFS(Penvoerder!$H$17:$H$26,Penvoerder!$F$17:$F$26,$B13)) | E13: =IF(OR($B13="",$B13=" "),"",SUMIFS('PP2'!$H$17:$H$26,'PP2'!$F$17:$F$26,$B13)) | F13: =IF(OR($B13="",$B13=" "),"",SUMIFS('PP3'!$H$17:$H$26,'PP3'!$F$17:$F$26,$B13)) | G13: =IF(OR($B13="",$B13=" "),"",SUMIFS('PP4'!$H$17:$H$26,'PP4'!$F$17:$F$26,$B13)) | H13: =IF(OR($B13="",$B13=" "),"",SUMIFS('PP5'!$H$17:$H$26,'PP5'!$F$17:$F$26,$B13)) | I13: =IF(OR($B13="",$B13=" "),"",SUMIFS('PP6'!$H$17:$H$26,'PP6'!$F$17:$F$26,$B13)) | J13: =IF(OR($B13="",$B13=" "),"",SUMIFS('PP7'!$H$17:$H$26,'PP7'!$F$17:$F$26,$B13)) | K13: =IF(OR($B13="",$B13=" "),"",SUMIFS('PP8'!$H$17:$H$26,'PP8'!$F$17:$F$26,$B13)) | L13: =IF(OR($B13="",$B13=" "),"",SUMIFS('PP9'!$H$17:$H$26,'PP9'!$F$17:$F$26,$B13)) | M13: =IF(OR($B13="",$B13=" "),"",SUMIFS('PP10'!$H$17:$H$26,'PP10'!$F$17:$F$26,$B13)) | N13: =IF(OR($B13="",$B13=" "),"",SUMIFS('PP11'!$H$17:$H$26,'PP11'!$F$17:$F$26,$B13)) | O13: =IF(OR($B13="",$B13=" "),"",SUMIFS('PP12'!$H$17:$H$26,'PP12'!$F$17:$F$26,$B13)) | P13: =IF(OR($B13="",$B13=" "),"",SUMIFS('PP13'!$H$17:$H$26,'PP13'!$F$17:$F$26,$B13)) | Q13: =IF(OR($B13="",$B13=" "),"",SUMIFS('PP14'!$H$17:$H$26,'PP14'!$F$17:$F$26,$B13)) | R13: =IF(OR($B13="",$B13=" "),"",SUMIFS('PP15'!$H$17:$H$26,'PP15'!$F$17:$F$26,$B13)) | S13: =IF(OR($B13="",$B13=" "),"",SUMIFS('PP16'!$H$17:$H$26,'PP16'!$F$17:$F$26,$B13)) | T13: =IF(OR($B13="",$B13=" "),"",SUMIFS('PP17'!$H$17:$H$26,'PP17'!$F$17:$F$26,$B13)) | U13: =IF(OR($B13="",$B13=" "),"",SUMIFS('PP18'!$H$17:$H$26,'PP18'!$F$17:$F$26,$B13)) | V13: =IF(OR($B13="",$B13=" "),"",SUMIFS('PP19'!$H$17:$H$26,'PP19'!$F$17:$F$26,$B13)) | W13: =IF(OR($B13="",$B13=" "),"",SUMIFS('PP20'!$H$17:$H$26,'PP20'!$F$17:$F$26,$B13))
B14: =Hulpblad!V10 | C14: =IF(OR($B14="",$B14=" "),"",SUM(D14:W14)) | D14: =IF(OR($B14="",$B14=" "),"",SUMIFS(Penvoerder!$H$17:$H$26,Penvoerder!$F$17:$F$26,$B14)) | E14: =IF(OR($B14="",$B14=" "),"",SUMIFS('PP2'!$H$17:$H$26,'PP2'!$F$17:$F$26,$B14)) | F14: =IF(OR($B14="",$B14=" "),"",SUMIFS('PP3'!$H$17:$H$26,'PP3'!$F$17:$F$26,$B14)) | G14: =IF(OR($B14="",$B14=" "),"",SUMIFS('PP4'!$H$17:$H$26,'PP4'!$F$17:$F$26,$B14)) | H14: =IF(OR($B14="",$B14=" "),"",SUMIFS('PP5'!$H$17:$H$26,'PP5'!$F$17:$F$26,$B14)) | I14: =IF(OR($B14="",$B14=" "),"",SUMIFS('PP6'!$H$17:$H$26,'PP6'!$F$17:$F$26,$B14)) | J14: =IF(OR($B14="",$B14=" "),"",SUMIFS('PP7'!$H$17:$H$26,'PP7'!$F$17:$F$26,$B14)) | K14: =IF(OR($B14="",$B14=" "),"",SUMIFS('PP8'!$H$17:$H$26,'PP8'!$F$17:$F$26,$B14)) | L14: =IF(OR($B14="",$B14=" "),"",SUMIFS('PP9'!$H$17:$H$26,'PP9'!$F$17:$F$26,$B14)) | M14: =IF(OR($B14="",$B14=" "),"",SUMIFS('PP10'!$H$17:$H$26,'PP10'!$F$17:$F$26,$B14)) | N14: =IF(OR($B14="",$B14=" "),"",SUMIFS('PP11'!$H$17:$H$26,'PP11'!$F$17:$F$26,$B14)) | O14: =IF(OR($B14="",$B14=" "),"",SUMIFS('PP12'!$H$17:$H$26,'PP12'!$F$17:$F$26,$B14)) | P14: =IF(OR($B14="",$B14=" "),"",SUMIFS('PP13'!$H$17:$H$26,'PP13'!$F$17:$F$26,$B14)) | Q14: =IF(OR($B14="",$B14=" "),"",SUMIFS('PP14'!$H$17:$H$26,'PP14'!$F$17:$F$26,$B14)) | R14: =IF(OR($B14="",$B14=" "),"",SUMIFS('PP15'!$H$17:$H$26,'PP15'!$F$17:$F$26,$B14)) | S14: =IF(OR($B14="",$B14=" "),"",SUMIFS('PP16'!$H$17:$H$26,'PP16'!$F$17:$F$26,$B14)) | T14: =IF(OR($B14="",$B14=" "),"",SUMIFS('PP17'!$H$17:$H$26,'PP17'!$F$17:$F$26,$B14)) | U14: =IF(OR($B14="",$B14=" "),"",SUMIFS('PP18'!$H$17:$H$26,'PP18'!$F$17:$F$26,$B14)) | V14: =IF(OR($B14="",$B14=" "),"",SUMIFS('PP19'!$H$17:$H$26,'PP19'!$F$17:$F$26,$B14)) | W14: =IF(OR($B14="",$B14=" "),"",SUMIFS('PP20'!$H$17:$H$26,'PP20'!$F$17:$F$26,$B14))
B15: =Hulpblad!V11 | C15: =IF(OR($B15="",$B15=" "),"",SUM(D15:W15)) | D15: =IF(OR($B15="",$B15=" "),"",SUMIFS(Penvoerder!$H$17:$H$26,Penvoerder!$F$17:$F$26,$B15)) | E15: =IF(OR($B15="",$B15=" "),"",SUMIFS('PP2'!$H$17:$H$26,'PP2'!$F$17:$F$26,$B15)) | F15: =IF(OR($B15="",$B15=" "),"",SUMIFS('PP3'!$H$17:$H$26,'PP3'!$F$17:$F$26,$B15)) | G15: =IF(OR($B15="",$B15=" "),"",SUMIFS('PP4'!$H$17:$H$26,'PP4'!$F$17:$F$26,$B15)) | H15: =IF(OR($B15="",$B15=" "),"",SUMIFS('PP5'!$H$17:$H$26,'PP5'!$F$17:$F$26,$B15)) | I15: =IF(OR($B15="",$B15=" "),"",SUMIFS('PP6'!$H$17:$H$26,'PP6'!$F$17:$F$26,$B15)) | J15: =IF(OR($B15="",$B15=" "),"",SUMIFS('PP7'!$H$17:$H$26,'PP7'!$F$17:$F$26,$B15)) | K15: =IF(OR($B15="",$B15=" "),"",SUMIFS('PP8'!$H$17:$H$26,'PP8'!$F$17:$F$26,$B15)) | L15: =IF(OR($B15="",$B15=" "),"",SUMIFS('PP9'!$H$17:$H$26,'PP9'!$F$17:$F$26,$B15)) | M15: =IF(OR($B15="",$B15=" "),"",SUMIFS('PP10'!$H$17:$H$26,'PP10'!$F$17:$F$26,$B15)) | N15: =IF(OR($B15="",$B15=" "),"",SUMIFS('PP11'!$H$17:$H$26,'PP11'!$F$17:$F$26,$B15)) | O15: =IF(OR($B15="",$B15=" "),"",SUMIFS('PP12'!$H$17:$H$26,'PP12'!$F$17:$F$26,$B15)) | P15: =IF(OR($B15="",$B15=" "),"",SUMIFS('PP13'!$H$17:$H$26,'PP13'!$F$17:$F$26,$B15)) | Q15: =IF(OR($B15="",$B15=" "),"",SUMIFS('PP14'!$H$17:$H$26,'PP14'!$F$17:$F$26,$B15)) | R15: =IF(OR($B15="",$B15=" "),"",SUMIFS('PP15'!$H$17:$H$26,'PP15'!$F$17:$F$26,$B15)) | S15: =IF(OR($B15="",$B15=" "),"",SUMIFS('PP16'!$H$17:$H$26,'PP16'!$F$17:$F$26,$B15)) | T15: =IF(OR($B15="",$B15=" "),"",SUMIFS('PP17'!$H$17:$H$26,'PP17'!$F$17:$F$26,$B15)) | U15: =IF(OR($B15="",$B15=" "),"",SUMIFS('PP18'!$H$17:$H$26,'PP18'!$F$17:$F$26,$B15)) | V15: =IF(OR($B15="",$B15=" "),"",SUMIFS('PP19'!$H$17:$H$26,'PP19'!$F$17:$F$26,$B15)) | W15: =IF(OR($B15="",$B15=" "),"",SUMIFS('PP20'!$H$17:$H$26,'PP20'!$F$17:$F$26,$B15))
B16: Totaal | C16: =SUM(C6:C15) -> 0 | D16: =SUM(D6:D15) -> 0 | E16: =SUM(E6:E15) -> 0 | F16: =SUM(F6:F15) -> 0 | G16: =SUM(G6:G15) -> 0 | H16: =SUM(H6:H15) -> 0 | I16: =SUM(I6:I15) -> 0 | J16: =SUM(J6:J15) -> 0 | ... W16: =SUM(W6:W15) -> 0
B17: % van totale kosten | C17: =IFERROR(C16/$C16,0) -> 0 | D17: =IFERROR(D16/$C16,0) -> 0 | E17: =IFERROR(E16/$C16,0) -> 0 | F17: =IFERROR(F16/$C16,0) -> 0 | G17: =IFERROR(G16/$C16,0) -> 0 | H17: =IFERROR(H16/$C16,0) -> 0 | I17: =IFERROR(I16/$C16,0) -> 0 | J17: =IFERROR(J16/$C16,0) -> 0 | ... W17: =IFERROR(W16/$C16,0) -> 0
D19: =IF(Penvoerder!$A$22=0,0,1) -> 0 | E19: =IF('PP2'!$A$22=0,0,1) -> 0 | F19: =IF('PP3'!$A$22=0,0,1) -> 0 | G19: =IF('PP4'!$A$22=0,0,1) -> 0 | H19: =IF('PP5'!$A$22=0,0,1) -> 0 | I19: =IF('PP6'!$A$22=0,0,1) -> 0 | J19: =IF('PP7'!$A$22=0,0,1) -> 0 | K19: =IF('PP8'!$A$22=0,0,1) -> 0 | L19: =IF('PP9'!$A$22=0,0,1) -> 0 | M19: =IF('PP10'!$A$22=0,0,1) -> 0 | N19: =IF('PP11'!$A$22=0,0,1) -> 0 | O19: =IF('PP12'!$A$22=0,0,1) -> 0 | P19: =IF('PP13'!$A$22=0,0,1) -> 0 | Q19: =IF('PP14'!$A$22=0,0,1) -> 0 | R19: =IF('PP15'!$A$22=0,0,1) -> 0 | S19: =IF('PP16'!$A$22=0,0,1) -> 0 | T19: =IF('PP17'!$A$22=0,0,1) -> 0 | U19: =IF('PP18'!$A$22=0,0,1) -> 0 | V19: =IF('PP19'!$A$22=0,0,1) -> 0 | W19: =IF('PP20'!$A$22=0,0,1) -> 0
C20: Totale begroting | D20: Penvoerder | E20: Projectpartner 2 | F20: Projectpartner 3 | G20: Projectpartner 4 | H20: Projectpartner 5 | I20: Projectpartner 6 | J20: Projectpartner 7 | K20: Projectpartner 8 | L20: Projectpartner 9 | M20: Projectpartner 10 | N20: Projectpartner 11 | O20: Projectpartner 12 | P20: Projectpartner 13 | Q20: Projectpartner 14 | R20: Projectpartner 15 | S20: Projectpartner 16 | T20: Projectpartner 17 | U20: Projectpartner 18 | V20: Projectpartner 19 | W20: Projectpartner 20
B21: Kostensoort | D21: =IFERROR(IF(Penvoerder!$C$2="","",Penvoerder!$C$2),"") | E21: =IFERROR(IF('PP2'!$C$2="","",'PP2'!$C$2),"") | F21: =IFERROR(IF('PP3'!$C$2="","",'PP3'!$C$2),"") | G21: =IFERROR(IF('PP4'!$C$2="","",'PP4'!$C$2),"") | H21: =IFERROR(IF('PP5'!$C$2="","",'PP5'!$C$2),"") | I21: =IFERROR(IF('PP6'!$C$2="","",'PP6'!$C$2),"") | J21: =IFERROR(IF('PP7'!$C$2="","",'PP7'!$C$2),"") | K21: =IFERROR(IF('PP8'!$C$2="","",'PP8'!$C$2),"") | L21: =IFERROR(IF('PP9'!$C$2="","",'PP9'!$C$2),"") | M21: =IFERROR(IF('PP10'!$C$2="","",'PP10'!$C$2),"") | N21: =IFERROR(IF('PP11'!$C$2="","",'PP11'!$C$2),"") | O21: =IFERROR(IF('PP12'!$C$2="","",'PP12'!$C$2),"") | P21: =IFERROR(IF('PP13'!$C$2="","",'PP13'!$C$2),"") | Q21: =IFERROR(IF('PP14'!$C$2="","",'PP14'!$C$2),"") | R21: =IFERROR(IF('PP15'!$C$2="","",'PP15'!$C$2),"") | S21: =IFERROR(IF('PP16'!$C$2="","",'PP16'!$C$2),"") | T21: =IFERROR(IF('PP17'!$C$2="","",'PP17'!$C$2),"") | U21: =IFERROR(IF('PP18'!$C$2="","",'PP18'!$C$2),"") | V21: =IFERROR(IF('PP19'!$C$2="","",'PP19'!$C$2),"") | W21: =IFERROR(IF('PP20'!$C$2="","",'PP20'!$C$2),"")
A22: =IF(Projectinformatie!$B$26="",1,IFERROR(HLOOKUP(VLOOKUP(Projectinformatie!$B$26,Keuzeopties[#All],3,FALSE),Keuze_Kostensoort[#All],2,FALSE),0)) -> Loonkosten plus vast % (44,2% + 15%) | B22: Loonkosten plus vast % (44,2% + 15%) | C22: =IF($A22=0,"",SUM(D22:W22)) -> 0 | D22: =SUM(Penvoerder!$G$37:$G$51) -> 0 | E22: =SUM('PP2'!$G$37:$G$51) -> 0 | F22: =SUM('PP3'!$G$37:$G$51) -> 0 | G22: =SUM('PP4'!$G$37:$G$51) -> 0 | H22: =SUM('PP5'!$G$37:$G$51) -> 0 | I22: =SUM('PP6'!$G$37:$G$51) -> 0 | J22: =SUM('PP7'!$G$37:$G$51) -> 0 | K22: =SUM('PP8'!$G$37:$G$51) -> 0 | L22: =SUM('PP9'!$G$37:$G$51) -> 0 | M22: =SUM('PP10'!$G$37:$G$51) -> 0 | N22: =SUM('PP11'!$G$37:$G$51) -> 0 | O22: =SUM('PP12'!$G$37:$G$51) -> 0 | P22: =SUM('PP13'!$G$37:$G$51) -> 0 | Q22: =SUM('PP14'!$G$37:$G$51) -> 0 | R22: =SUM('PP15'!$G$37:$G$51) -> 0 | S22: =SUM('PP16'!$G$37:$G$51) -> 0 | T22: =SUM('PP17'!$G$37:$G$51) -> 0 | U22: =SUM('PP18'!$G$37:$G$51) -> 0 | V22: =SUM('PP19'!$G$37:$G$51) -> 0 | W22: =SUM('PP20'!$G$37:$G$51) -> 0
A23: =IF(Projectinformatie!$B$26="",1,IFERROR(HLOOKUP(VLOOKUP(Projectinformatie!$B$26,Keuzeopties[#All],3,FALSE),Keuze_Kostensoort[#All],3,FALSE),0)) -> 0 | B23: Loonkosten plus vast % (44,2%) | C23: =IF($A23=0,"",SUM(D23:W23)) | D23: =SUM(Penvoerder!$G$59:$G$73) -> 0 | E23: =SUM('PP2'!$G$59:$G$73) -> 0 | F23: =SUM('PP3'!$G$59:$G$73) -> 0 | G23: =SUM('PP4'!$G$59:$G$73) -> 0 | H23: =SUM('PP5'!$G$59:$G$73) -> 0 | I23: =SUM('PP6'!$G$59:$G$73) -> 0 | J23: =SUM('PP7'!$G$59:$G$73) -> 0 | K23: =SUM('PP8'!$G$59:$G$73) -> 0 | L23: =SUM('PP9'!$G$59:$G$73) -> 0 | M23: =SUM('PP10'!$G$59:$G$73) -> 0 | N23: =SUM('PP11'!$G$59:$G$73) -> 0 | O23: =SUM('PP12'!$G$59:$G$73) -> 0 | P23: =SUM('PP13'!$G$59:$G$73) -> 0 | Q23: =SUM('PP14'!$G$59:$G$73) -> 0 | R23: =SUM('PP15'!$G$59:$G$73) -> 0 | S23: =SUM('PP16'!$G$59:$G$73) -> 0 | T23: =SUM('PP17'!$G$59:$G$73) -> 0 | U23: =SUM('PP18'!$G$59:$G$73) -> 0 | V23: =SUM('PP19'!$G$59:$G$73) -> 0 | W23: =SUM('PP20'!$G$59:$G$73) -> 0
A24: =IF(Projectinformatie!$B$26="",1,IFERROR(HLOOKUP(VLOOKUP(Projectinformatie!$B$26,Keuzeopties[#All],3,FALSE),Keuze_Kostensoort[#All],4,FALSE),0)) -> 0 | B24: Forfait van 23% voor loonkosten en eigen arbeid | C24: =IF($A24=0,"",SUM(D24:W24)) | D24: =SUM(Penvoerder!$C$81:$C$90) -> 0 | E24: =SUM('PP2'!$C$81:$C$90) -> 0 | F24: =SUM('PP3'!$C$81:$C$90) -> 0 | G24: =SUM('PP4'!$C$81:$C$90) -> 0 | H24: =SUM('PP5'!$C$81:$C$90) -> 0 | I24: =SUM('PP6'!$C$81:$C$90) -> 0 | J24: =SUM('PP7'!$C$81:$C$90) -> 0 | K24: =SUM('PP8'!$C$81:$C$90) -> 0 | L24: =SUM('PP9'!$C$81:$C$90) -> 0 | M24: =SUM('PP10'!$C$81:$C$90) -> 0 | N24: =SUM('PP11'!$C$81:$C$90) -> 0 | O24: =SUM('PP12'!$C$81:$C$90) -> 0 | P24: =SUM('PP13'!$C$81:$C$90) -> 0 | Q24: =SUM('PP14'!$C$81:$C$90) -> 0 | R24: =SUM('PP15'!$C$81:$C$90) -> 0 | S24: =SUM('PP16'!$C$81:$C$90) -> 0 | T24: =SUM('PP17'!$C$81:$C$90) -> 0 | U24: =SUM('PP18'!$C$81:$C$90) -> 0 | V24: =SUM('PP19'!$C$81:$C$90) -> 0 | W24: =SUM('PP20'!$C$81:$C$90) -> 0
A25: =IF(Projectinformatie!$B$26="",1,IFERROR(HLOOKUP(VLOOKUP(Projectinformatie!$B$26,Keuzeopties[#All],3,FALSE),Keuze_Kostensoort[#All],5,FALSE),0)) -> Vast uurtarief eigen arbeid - € 50 | B25: Vast uurtarief eigen arbeid - € 50,- | C25: =IF($A25=0,"",SUM(D25:W25)) -> 0 | D25: =SUM(Penvoerder!$E$98:$E$107) -> 0 | E25: =SUM('PP2'!$E$98:$E$107) -> 0 | F25: =SUM('PP3'!$E$98:$E$107) -> 0 | G25: =SUM('PP4'!$E$98:$E$107) -> 0 | H25: =SUM('PP5'!$E$98:$E$107) -> 0 | I25: =SUM('PP6'!$E$98:$E$107) -> 0 | J25: =SUM('PP7'!$E$98:$E$107) -> 0 | K25: =SUM('PP8'!$E$98:$E$107) -> 0 | L25: =SUM('PP9'!$E$98:$E$107) -> 0 | M25: =SUM('PP10'!$E$98:$E$107) -> 0 | N25: =SUM('PP11'!$E$98:$E$107) -> 0 | O25: =SUM('PP12'!$E$98:$E$107) -> 0 | P25: =SUM('PP13'!$E$98:$E$107) -> 0 | Q25: =SUM('PP14'!$E$98:$E$107) -> 0 | R25: =SUM('PP15'!$E$98:$E$107) -> 0 | S25: =SUM('PP16'!$E$98:$E$107) -> 0 | T25: =SUM('PP17'!$E$98:$E$107) -> 0 | U25: =SUM('PP18'!$E$98:$E$107) -> 0 | V25: =SUM('PP19'!$E$98:$E$107) -> 0 | W25: =SUM('PP20'!$E$98:$E$107) -> 0
A26: =IF(Projectinformatie!$B$26="",1,IFERROR(HLOOKUP(VLOOKUP(Projectinformatie!$B$26,Keuzeopties[#All],3,FALSE),Keuze_Kostensoort[#All],6,FALSE),0)) -> 0 | B26: Vast uurtarief eigen arbeid - € 43,- | C26: =IF($A26=0,"",SUM(D26:W26)) | D26: =SUM(Penvoerder!$E$115:$E$124) -> 0 | E26: =SUM('PP2'!$E$115:$E$124) -> 0 | F26: =SUM('PP3'!$E$115:$E$124) -> 0 | G26: =SUM('PP4'!$E$115:$E$124) -> 0 | H26: =SUM('PP5'!$E$115:$E$124) -> 0 | I26: =SUM('PP6'!$E$115:$E$124) -> 0 | J26: =SUM('PP7'!$E$115:$E$124) -> 0 | K26: =SUM('PP8'!$E$115:$E$124) -> 0 | L26: =SUM('PP9'!$E$115:$E$124) -> 0 | M26: =SUM('PP10'!$E$115:$E$124) -> 0 | N26: =SUM('PP11'!$E$115:$E$124) -> 0 | O26: =SUM('PP12'!$E$115:$E$124) -> 0 | P26: =SUM('PP13'!$E$115:$E$124) -> 0 | Q26: =SUM('PP14'!$E$115:$E$124) -> 0 | R26: =SUM('PP15'!$E$115:$E$124) -> 0 | S26: =SUM('PP16'!$E$115:$E$124) -> 0 | T26: =SUM('PP17'!$E$115:$E$124) -> 0 | U26: =SUM('PP18'!$E$115:$E$124) -> 0 | V26: =SUM('PP19'!$E$115:$E$124) -> 0 | W26: =SUM('PP20'!$E$115:$E$124) -> 0
A27: =IF(Projectinformatie!$B$26="",1,IF(SUM(D19:W19)>0,1,0)) -> 0 | B27: IKS voor kennisinstellingen | C27: =IF($A27=0,"",SUM(D27:W27)) | D27: =SUM(Penvoerder!$E$132:$E$140) -> 0 | E27: =SUM('PP2'!$E$132:$E$140) -> 0 | F27: =SUM('PP3'!$E$132:$E$140) -> 0 | G27: =SUM('PP4'!$E$132:$E$140) -> 0 | H27: =SUM('PP5'!$E$132:$E$140) -> 0 | I27: =SUM('PP6'!$E$132:$E$140) -> 0 | J27: =SUM('PP7'!$E$132:$E$140) -> 0 | K27: =SUM('PP8'!$E$132:$E$140) -> 0 | L27: =SUM('PP9'!$E$132:$E$140) -> 0 | M27: =SUM('PP10'!$E$132:$E$140) -> 0 | N27: =SUM('PP11'!$E$132:$E$140) -> 0 | O27: =SUM('PP12'!$E$132:$E$140) -> 0 | P27: =SUM('PP13'!$E$132:$E$140) -> 0 | Q27: =SUM('PP14'!$E$132:$E$140) -> 0 | R27: =SUM('PP15'!$E$132:$E$140) -> 0 | S27: =SUM('PP16'!$E$132:$E$140) -> 0 | T27: =SUM('PP17'!$E$132:$E$140) -> 0 | U27: =SUM('PP18'!$E$132:$E$140) -> 0 | V27: =SUM('PP19'!$E$132:$E$140) -> 0 | W27: =SUM('PP20'!$E$132:$E$140) -> 0
A28: =IF(Projectinformatie!$B$26="",1,IFERROR(HLOOKUP(VLOOKUP(Projectinformatie!$B$26,Keuzeopties[#All],3,FALSE),Keuze_Kostensoort[#All],8,FALSE),0)) -> Bijdragen in natura (niet subsidiabel bij openstelling EIP) | B28: Bijdragen in natura | C28: =IF($A28=0,"",SUM(D28:W28)) -> 0 | D28: =SUM(Penvoerder!$E$148:$E$164) -> 0 | E28: =SUM('PP2'!$E$148:$E$164) -> 0 | F28: =SUM('PP3'!$E$148:$E$164) -> 0 | G28: =SUM('PP4'!$E$148:$E$164) -> 0 | H28: =SUM('PP5'!$E$148:$E$164) -> 0 | I28: =SUM('PP6'!$E$148:$E$164) -> 0 | J28: =SUM('PP7'!$E$148:$E$164) -> 0 | K28: =SUM('PP8'!$E$148:$E$164) -> 0 | L28: =SUM('PP9'!$E$148:$E$164) -> 0 | M28: =SUM('PP10'!$E$148:$E$164) -> 0 | N28: =SUM('PP11'!$E$148:$E$164) -> 0 | O28: =SUM('PP12'!$E$148:$E$164) -> 0 | P28: =SUM('PP13'!$E$148:$E$164) -> 0 | Q28: =SUM('PP14'!$E$148:$E$164) -> 0 | R28: =SUM('PP15'!$E$148:$E$164) -> 0 | S28: =SUM('PP16'!$E$148:$E$164) -> 0 | T28: =SUM('PP17'!$E$148:$E$164) -> 0 | U28: =SUM('PP18'!$E$148:$E$164) -> 0 | V28: =SUM('PP19'!$E$148:$E$164) -> 0 | W28: =SUM('PP20'!$E$148:$E$164) -> 0
A29: =IF(Projectinformatie!$B$26="",1,IFERROR(HLOOKUP(VLOOKUP(Projectinformatie!$B$26,Keuzeopties[#All],3,FALSE),Keuze_Kostensoort[#All],9,FALSE),0)) -> Afschrijvingskosten (niet subsidiabel bij openstelling EIP) | B29: Afschrijvingskosten | C29: =IF($A29=0,"",SUM(D29:W29)) -> 0 | D29: =SUM(Penvoerder!$I$172:$I$179) -> 0 | E29: =SUM('PP2'!$I$172:$I$179) -> 0 | F29: =SUM('PP3'!$I$172:$I$179) -> 0 | G29: =SUM('PP4'!$I$172:$I$179) -> 0 | H29: =SUM('PP5'!$I$172:$I$179) -> 0 | I29: =SUM('PP6'!$I$172:$I$179) -> 0 | J29: =SUM('PP7'!$I$172:$I$179) -> 0 | K29: =SUM('PP8'!$I$172:$I$179) -> 0 | L29: =SUM('PP9'!$I$172:$I$179) -> 0 | M29: =SUM('PP10'!$I$172:$I$179) -> 0 | N29: =SUM('PP11'!$I$172:$I$179) -> 0 | O29: =SUM('PP12'!$I$172:$I$179) -> 0 | P29: =SUM('PP13'!$I$172:$I$179) -> 0 | Q29: =SUM('PP14'!$I$172:$I$179) -> 0 | R29: =SUM('PP15'!$I$172:$I$179) -> 0 | S29: =SUM('PP16'!$I$172:$I$179) -> 0 | T29: =SUM('PP17'!$I$172:$I$179) -> 0 | U29: =SUM('PP18'!$I$172:$I$179) -> 0 | V29: =SUM('PP19'!$I$172:$I$179) -> 0 | W29: =SUM('PP20'!$I$172:$I$179) -> 0
A30: =IF(Projectinformatie!$B$26="",1,IFERROR(HLOOKUP(VLOOKUP(Projectinformatie!$B$26,Keuzeopties[#All],3,FALSE),Keuze_Kostensoort[#All],10,FALSE),0)) -> Andere kosten | B30: Overige kosten | C30: =IF($A30=0,"",SUM(D30:W30)) -> 0 | D30: =SUM(Penvoerder!$F$187:$F$202) -> 0 | E30: =SUM('PP2'!$F$187:$F$202) -> 0 | F30: =SUM('PP3'!$F$187:$F$202) -> 0 | G30: =SUM('PP4'!$F$187:$F$202) -> 0 | H30: =SUM('PP5'!$F$187:$F$202) -> 0 | I30: =SUM('PP6'!$F$187:$F$202) -> 0 | J30: =SUM('PP7'!$F$187:$F$202) -> 0 | K30: =SUM('PP8'!$F$187:$F$202) -> 0 | L30: =SUM('PP9'!$F$187:$F$202) -> 0 | M30: =SUM('PP10'!$F$187:$F$202) -> 0 | N30: =SUM('PP11'!$F$187:$F$202) -> 0 | O30: =SUM('PP12'!$F$187:$F$202) -> 0 | P30: =SUM('PP13'!$F$187:$F$202) -> 0 | Q30: =SUM('PP14'!$F$187:$F$202) -> 0 | R30: =SUM('PP15'!$F$187:$F$202) -> 0 | S30: =SUM('PP16'!$F$187:$F$202) -> 0 | T30: =SUM('PP17'!$F$187:$F$202) -> 0 | U30: =SUM('PP18'!$F$187:$F$202) -> 0 | V30: =SUM('PP19'!$F$187:$F$202) -> 0 | W30: =SUM('PP20'!$F$187:$F$202) -> 0
A31: =IF(Projectinformatie!$B$26="",1,IFERROR(HLOOKUP(VLOOKUP(Projectinformatie!$B$26,Keuzeopties[#All],3,FALSE),Keuze_Kostensoort[#All],11,FALSE),0)) -> 0 | B31: Forfait van 40% voor overige kosten | C31: =IF($A31=0,"",SUM(D31:W31)) | D31: =SUM(Penvoerder!$C$210:$C$219) -> 0 | E31: =SUM('PP2'!$C$210:$C$219) -> 0 | F31: =SUM('PP3'!$C$210:$C$219) -> 0 | G31: =SUM('PP4'!$C$210:$C$219) -> 0 | H31: =SUM('PP5'!$C$210:$C$219) -> 0 | I31: =SUM('PP6'!$C$210:$C$219) -> 0 | J31: =SUM('PP7'!$C$210:$C$219) -> 0 | K31: =SUM('PP8'!$C$210:$C$219) -> 0 | L31: =SUM('PP9'!$C$210:$C$219) -> 0 | M31: =SUM('PP10'!$C$210:$C$219) -> 0 | N31: =SUM('PP11'!$C$210:$C$219) -> 0 | O31: =SUM('PP12'!$C$210:$C$219) -> 0 | P31: =SUM('PP13'!$C$210:$C$219) -> 0 | Q31: =SUM('PP14'!$C$210:$C$219) -> 0 | R31: =SUM('PP15'!$C$210:$C$219) -> 0 | S31: =SUM('PP16'!$C$210:$C$219) -> 0 | T31: =SUM('PP17'!$C$210:$C$219) -> 0 | U31: =SUM('PP18'!$C$210:$C$219) -> 0 | V31: =SUM('PP19'!$C$210:$C$219) -> 0 | W31: =SUM('PP20'!$C$210:$C$219) -> 0
B32: Totaal | C32: =SUM(C22:C31) -> 0 | D32: =SUM(D22:D31) -> 0 | E32: =SUM(E22:E31) -> 0 | F32: =SUM(F22:F31) -> 0 | G32: =SUM(G22:G31) -> 0 | H32: =SUM(H22:H31) -> 0 | I32: =SUM(I22:I31) -> 0 | J32: =SUM(J22:J31) -> 0 | ... W32: =SUM(W22:W31) -> 0
B33: % van totale kosten | C33: =IFERROR(C32/$C32,0) -> 0 | D33: =IFERROR(D32/$C32,0) -> 0 | E33: =IFERROR(E32/$C32,0) -> 0 | F33: =IFERROR(F32/$C32,0) -> 0 | G33: =IFERROR(G32/$C32,0) -> 0 | H33: =IFERROR(H32/$C32,0) -> 0 | I33: =IFERROR(I32/$C32,0) -> 0 | J33: =IFERROR(J32/$C32,0) -> 0 | ... W33: =IFERROR(W32/$C32,0) -> 0
B34: In bovenstaande tabel zijn alleen de kostensoorten zichtbaar (in groen gekleurde cellen) die van toepassing zijn voor uw project op basis van de gekozen begrotingsoptie op tabblad 'Projectinfomatie'.
B36: Totalen werkpakketten en kostensoorten gelijk? | C36: =IF(ROUND(C16,2)-ROUND(C32,2)=0,"JA",C16-C32) -> JA | D36: =IF(ROUND(D16,2)-ROUND(D32,2)=0,"JA",D16-D32) -> JA | E36: =IF(ROUND(E16,2)-ROUND(E32,2)=0,"JA",E16-E32) -> JA | F36: =IF(ROUND(F16,2)-ROUND(F32,2)=0,"JA",F16-F32) -> JA | G36: =IF(ROUND(G16,2)-ROUND(G32,2)=0,"JA",G16-G32) -> JA | H36: =IF(ROUND(H16,2)-ROUND(H32,2)=0,"JA",H16-H32) -> JA | I36: =IF(ROUND(I16,2)-ROUND(I32,2)=0,"JA",I16-I32) -> JA | J36: =IF(ROUND(J16,2)-ROUND(J32,2)=0,"JA",J16-J32) -> JA | ... W36: =IF(ROUND(W16,2)-ROUND(W32,2)=0,"JA",W16-W32) -> JA
B37: Sluit het totaal van de werkpakketten niet aan op het totaal van de kostensoorten? Ga dan voor de betreffende partner na of bij de kostenregels alle werkpakketten zijn ingevuld, of dat een werkpakketnaam is aangepast.

Sheet Totale financiering
B2: TOTALE FINANCIERING | D2: LET OP: DIT TABBLAD WORDT AUTOMATISCH GEVULD. U HOEFT HIER NIETS IN TE VULLEN!
C4: Totale financiering | D4: Penvoerder | E4: Projectpartner 2 | F4: Projectpartner 3 | G4: Projectpartner 4 | H4: Projectpartner 5 | I4: Projectpartner 6 | J4: Projectpartner 7 | K4: Projectpartner 8 | L4: Projectpartner 9 | M4: Projectpartner 10 | N4: Projectpartner 11 | O4: Projectpartner 12 | P4: Projectpartner 13 | Q4: Projectpartner 14 | R4: Projectpartner 15 | S4: Projectpartner 16 | T4: Projectpartner 17 | U4: Projectpartner 18 | V4: Projectpartner 19 | W4: Projectpartner 20
B5: Financier | D5: =IFERROR(IF(Penvoerder!$C$2="","",Penvoerder!$C$2),"") | E5: =IFERROR(IF('PP2'!$C$2="","",'PP2'!$C$2),"") | F5: =IFERROR(IF('PP3'!$C$2="","",'PP3'!$C$2),"") | G5: =IFERROR(IF('PP4'!$C$2="","",'PP4'!$C$2),"") | H5: =IFERROR(IF('PP5'!$C$2="","",'PP5'!$C$2),"") | I5: =IFERROR(IF('PP6'!$C$2="","",'PP6'!$C$2),"") | J5: =IFERROR(IF('PP7'!$C$2="","",'PP7'!$C$2),"") | K5: =IFERROR(IF('PP8'!$C$2="","",'PP8'!$C$2),"") | L5: =IFERROR(IF('PP9'!$C$2="","",'PP9'!$C$2),"") | M5: =IFERROR(IF('PP10'!$C$2="","",'PP10'!$C$2),"") | N5: =IFERROR(IF('PP11'!$C$2="","",'PP11'!$C$2),"") | O5: =IFERROR(IF('PP12'!$C$2="","",'PP12'!$C$2),"") | P5: =IFERROR(IF('PP13'!$C$2="","",'PP13'!$C$2),"") | Q5: =IFERROR(IF('PP14'!$C$2="","",'PP14'!$C$2),"") | R5: =IFERROR(IF('PP15'!$C$2="","",'PP15'!$C$2),"") | S5: =IFERROR(IF('PP16'!$C$2="","",'PP16'!$C$2),"") | T5: =IFERROR(IF('PP17'!$C$2="","",'PP17'!$C$2),"") | U5: =IFERROR(IF('PP18'!$C$2="","",'PP18'!$C$2),"") | V5: =IFERROR(IF('PP19'!$C$2="","",'PP19'!$C$2),"") | W5: =IFERROR(IF('PP20'!$C$2="","",'PP20'!$C$2),"")
B6: Gevraagde subsidie - GLB | C6: =SUM(D6:W6) -> 0 | D6: =Penvoerder!$C230 -> 0 | E6: ='PP2'!$C230 -> 0 | F6: ='PP3'!$C230 -> 0 | G6: ='PP4'!$C230 -> 0 | H6: ='PP5'!$C230 -> 0 | I6: ='PP6'!$C230 -> 0 | J6: ='PP7'!$C230 -> 0 | K6: ='PP8'!$C230 -> 0 | L6: ='PP9'!$C230 -> 0 | M6: ='PP10'!$C230 -> 0 | N6: ='PP11'!$C230 -> 0 | O6: ='PP12'!$C230 -> 0 | P6: ='PP13'!$C230 -> 0 | Q6: ='PP14'!$C230 -> 0 | R6: ='PP15'!$C230 -> 0 | S6: ='PP16'!$C230 -> 0 | T6: ='PP17'!$C230 -> 0 | U6: ='PP18'!$C230 -> 0 | V6: ='PP19'!$C230 -> 0 | W6: ='PP20'!$C230 -> 0
B7: Eigen bijdrage publiek | C7: =SUM(D7:W7) -> 0 | D7: =Penvoerder!$C231 -> 0 | E7: ='PP2'!$C231 -> 0 | F7: ='PP3'!$C231 -> 0 | G7: ='PP4'!$C231 -> 0 | H7: ='PP5'!$C231 -> 0 | I7: ='PP6'!$C231 -> 0 | J7: ='PP7'!$C231 -> 0 | K7: ='PP8'!$C231 -> 0 | L7: ='PP9'!$C231 -> 0 | M7: ='PP10'!$C231 -> 0 | N7: ='PP11'!$C231 -> 0 | O7: ='PP12'!$C231 -> 0 | P7: ='PP13'!$C231 -> 0 | Q7: ='PP14'!$C231 -> 0 | R7: ='PP15'!$C231 -> 0 | S7: ='PP16'!$C231 -> 0 | T7: ='PP17'!$C231 -> 0 | U7: ='PP18'!$C231 -> 0 | V7: ='PP19'!$C231 -> 0 | W7: ='PP20'!$C231 -> 0
B8: Eigen bijdrage privaat | C8: =SUM(D8:W8) -> 0 | D8: =Penvoerder!$C232 -> 0 | E8: ='PP2'!$C232 -> 0 | F8: ='PP3'!$C232 -> 0 | G8: ='PP4'!$C232 -> 0 | H8: ='PP5'!$C232 -> 0 | I8: ='PP6'!$C232 -> 0 | J8: ='PP7'!$C232 -> 0 | K8: ='PP8'!$C232 -> 0 | L8: ='PP9'!$C232 -> 0 | M8: ='PP10'!$C232 -> 0 | N8: ='PP11'!$C232 -> 0 | O8: ='PP12'!$C232 -> 0 | P8: ='PP13'!$C232 -> 0 | Q8: ='PP14'!$C232 -> 0 | R8: ='PP15'!$C232 -> 0 | S8: ='PP16'!$C232 -> 0 | T8: ='PP17'!$C232 -> 0 | U8: ='PP18'!$C232 -> 0 | V8: ='PP19'!$C232 -> 0 | W8: ='PP20'!$C232 -> 0
B9: Overige publieke financiering | C9: =SUM(D9:W9) -> 0 | D9: =Penvoerder!$C233 -> 0 | E9: ='PP2'!$C233 -> 0 | F9: ='PP3'!$C233 -> 0 | G9: ='PP4'!$C233 -> 0 | H9: ='PP5'!$C233 -> 0 | I9: ='PP6'!$C233 -> 0 | J9: ='PP7'!$C233 -> 0 | K9: ='PP8'!$C233 -> 0 | L9: ='PP9'!$C233 -> 0 | M9: ='PP10'!$C233 -> 0 | N9: ='PP11'!$C233 -> 0 | O9: ='PP12'!$C233 -> 0 | P9: ='PP13'!$C233 -> 0 | Q9: ='PP14'!$C233 -> 0 | R9: ='PP15'!$C233 -> 0 | S9: ='PP16'!$C233 -> 0 | T9: ='PP17'!$C233 -> 0 | U9: ='PP18'!$C233 -> 0 | V9: ='PP19'!$C233 -> 0 | W9: ='PP20'!$C233 -> 0
B10: Overige private financiering | C10: =SUM(D10:W10) -> 0 | D10: =Penvoerder!$C234 -> 0 | E10: ='PP2'!$C234 -> 0 | F10: ='PP3'!$C234 -> 0 | G10: ='PP4'!$C234 -> 0 | H10: ='PP5'!$C234 -> 0 | I10: ='PP6'!$C234 -> 0 | J10: ='PP7'!$C234 -> 0 | K10: ='PP8'!$C234 -> 0 | L10: ='PP9'!$C234 -> 0 | M10: ='PP10'!$C234 -> 0 | N10: ='PP11'!$C234 -> 0 | O10: ='PP12'!$C234 -> 0 | P10: ='PP13'!$C234 -> 0 | Q10: ='PP14'!$C234 -> 0 | R10: ='PP15'!$C234 -> 0 | S10: ='PP16'!$C234 -> 0 | T10: ='PP17'!$C234 -> 0 | U10: ='PP18'!$C234 -> 0 | V10: ='PP19'!$C234 -> 0 | W10: ='PP20'!$C234 -> 0
B11: Totaal | C11: =SUM(D11:W11) -> 0 | D11: =SUM(D6:D10) -> 0 | E11: =SUM(E6:E10) -> 0 | F11: =SUM(F6:F10) -> 0 | G11: =SUM(G6:G10) -> 0 | H11: =SUM(H6:H10) -> 0 | I11: =SUM(I6:I10) -> 0 | J11: =SUM(J6:J10) -> 0 | K11: =SUM(K6:K10) -> 0 | ... W11: =SUM(W6:W10) -> 0
B12: Totale kosten | C12: =SUM(D12:W12) -> 0 | D12: =Penvoerder!$D$27 -> 0 | E12: ='PP2'!$D$27 -> 0 | F12: ='PP3'!$D$27 -> 0 | G12: ='PP4'!$D$27 -> 0 | H12: ='PP5'!$D$27 -> 0 | I12: ='PP6'!$D$27 -> 0 | J12: ='PP7'!$D$27 -> 0 | K12: ='PP8'!$D$27 -> 0 | L12: ='PP9'!$D$27 -> 0 | M12: ='PP10'!$D$27 -> 0 | N12: ='PP11'!$D$27 -> 0 | O12: ='PP12'!$D$27 -> 0 | P12: ='PP13'!$D$27 -> 0 | Q12: ='PP14'!$D$27 -> 0 | R12: ='PP15'!$D$27 -> 0 | S12: ='PP16'!$D$27 -> 0 | T12: ='PP17'!$D$27 -> 0 | U12: ='PP18'!$D$27 -> 0 | V12: ='PP19'!$D$27 -> 0 | W12: ='PP20'!$D$27 -> 0
B13: Sluitende financiering? | C13: =IF(ROUND(C11,2)-ROUND(C12,2)=0,"JA",C11-C12) -> JA | D13: =IF(ROUND(D11,2)-ROUND(D12,2)=0,"JA",D11-D12) -> JA | E13: =IF(ROUND(E11,2)-ROUND(E12,2)=0,"JA",E11-E12) -> JA | F13: =IF(ROUND(F11,2)-ROUND(F12,2)=0,"JA",F11-F12) -> JA | G13: =IF(ROUND(G11,2)-ROUND(G12,2)=0,"JA",G11-G12) -> JA | H13: =IF(ROUND(H11,2)-ROUND(H12,2)=0,"JA",H11-H12) -> JA | I13: =IF(ROUND(I11,2)-ROUND(I12,2)=0,"JA",I11-I12) -> JA | J13: =IF(ROUND(J11,2)-ROUND(J12,2)=0,"JA",J11-J12) -> JA | ... W13: =IF(ROUND(W11,2)-ROUND(W12,2)=0,"JA",W11-W12) -> JA

Sheet Penvoerder
I1: Invoervelden | J1: Deze velden kunt u zelf invullen
B2: Naam Penvoerder: | I2: Selectievelden | J2: Door met de cursor op het betreffende veld te gaan staan, verschijnt aan de rechterkant een pijltje waarmee u kunt kiezen.
I3: Doorrekenvelden | J3: Deze velden kunt u niet aanpassen
B4: Vestigingsplaats:
B5: KVK-nummer:
B6: Type organisatie:
B7: Omvang organisatie*: | D7: *Gebruikersgids bij de definitie van MKB
B11: =IF(COUNTA(C2:D7)<5,"Vul eerst hierboven alle informatie over de penvoerder in.",IF(Projectinformatie!B26="","Er is voor het project nog geen optie gekozen voor het begroten en verantwoorden van de kosten. Kies de optie op tabblad 'Projectinformatie' onder de werkpakketten.",VLOOKUP(Projectinformatie!B26,Hulpblad!R:S,2,FALSE))) -> Vul eerst hierboven alle informatie over de penvoerder in.
B14: Samenvatting kostenbegroting (deze twee tabellen worden automatisch gevuld, u hoeft hier niets in te vullen!)
A16: =IF(OR(COUNTA(C2:D8)<5,Projectinformatie!B26=""),0,1) -> 0 | B16: Kostensoorten | D16: Totale kosten | F16: Werkpakket | H16: Totale kosten
A17: =IFERROR(HLOOKUP(VLOOKUP(Projectinformatie!$B$26,Keuzeopties[#All],3,FALSE)&IF($C$6="Kennisinstelling","K",""),Keuze_Kostensoort[#All],2,FALSE),0) -> Loonkosten plus vast % (44,2% + 15%) | B17: =Hulpblad!G2 -> Loonkosten plus vast % (44,2% + 15%) | D17: =IF(A17=0,0,SUM($G$37:$G$51)) -> 0 | F17: =Hulpblad!V2 | H17: =IF(OR(F17="",F17=" "),"",SUMIFS($G$37:$G$51,$B$37:$B$51,F17)+SUMIFS($G$59:$G$73,$B$59:$B$73,F17)+SUMIFS($C$81:$C$90,$B$81:$B$90,F17)+SUMIFS($E$98:$E$107,$B$98:$B$107,F17)+SUMIFS($I$172:$I$179,$B$172:$B$179,F17)+SUMIFS($E$132:$E$140,$B$132:$B$140,F17)+SUMIFS($E$148:$E$164,$B$148:$B$164,F17)+SUMIFS($E$115:$E$124,$B$115:$B$124,F17)+SUMIFS($F$187:$F$202,$B$187:$B$202,F17)+SUMIFS($C$210:$C$219,$B$210:$B$219,F17))
A18: =IFERROR(HLOOKUP(VLOOKUP(Projectinformatie!$B$26,Keuzeopties[#All],3,FALSE)&IF($C$6="Kennisinstelling","K",""),Keuze_Kostensoort[#All],3,FALSE),0) -> 0 | B18: =Hulpblad!G3 -> Loonkosten plus vast % (44,2%) | D18: =IF(A18=0,0,SUM($G$59:$G$73)) -> 0 | F18: =Hulpblad!V3 | H18: =IF(OR(F18="",F18=" "),"",SUMIFS($G$37:$G$51,$B$37:$B$51,F18)+SUMIFS($G$59:$G$73,$B$59:$B$73,F18)+SUMIFS($C$81:$C$90,$B$81:$B$90,F18)+SUMIFS($E$98:$E$107,$B$98:$B$107,F18)+SUMIFS($I$172:$I$179,$B$172:$B$179,F18)+SUMIFS($E$132:$E$140,$B$132:$B$140,F18)+SUMIFS($E$148:$E$164,$B$148:$B$164,F18)+SUMIFS($E$115:$E$124,$B$115:$B$124,F18)+SUMIFS($F$187:$F$202,$B$187:$B$202,F18)+SUMIFS($C$210:$C$219,$B$210:$B$219,F18))
A19: =IFERROR(HLOOKUP(VLOOKUP(Projectinformatie!$B$26,Keuzeopties[#All],3,FALSE)&IF($C$6="Kennisinstelling","K",""),Keuze_Kostensoort[#All],4,FALSE),0) -> 0 | B19: =Hulpblad!G4 -> Forfait van 23% voor loonkosten en eigen arbeid | D19: =IF(A19=0,0,SUM($C$81:$C$90)) -> 0 | F19: =Hulpblad!V4 | H19: =IF(OR(F19="",F19=" "),"",SUMIFS($G$37:$G$51,$B$37:$B$51,F19)+SUMIFS($G$59:$G$73,$B$59:$B$73,F19)+SUMIFS($C$81:$C$90,$B$81:$B$90,F19)+SUMIFS($E$98:$E$107,$B$98:$B$107,F19)+SUMIFS($I$172:$I$179,$B$172:$B$179,F19)+SUMIFS($E$132:$E$140,$B$132:$B$140,F19)+SUMIFS($E$148:$E$164,$B$148:$B$164,F19)+SUMIFS($E$115:$E$124,$B$115:$B$124,F19)+SUMIFS($F$187:$F$202,$B$187:$B$202,F19)+SUMIFS($C$210:$C$219,$B$210:$B$219,F19))
A20: =IFERROR(HLOOKUP(VLOOKUP(Projectinformatie!$B$26,Keuzeopties[#All],3,FALSE)&IF($C$6="Kennisinstelling","K",""),Keuze_Kostensoort[#All],5,FALSE),0) -> Vast uurtarief eigen arbeid - € 50 | B20: =Hulpblad!G5 -> Vast uurtarief eigen arbeid - € 50 | D20: =IF(A20=0,0,SUM($E$98:$E$107)) -> 0 | F20: =Hulpblad!V5 | H20: =IF(OR(F20="",F20=" "),"",SUMIFS($G$37:$G$51,$B$37:$B$51,F20)+SUMIFS($G$59:$G$73,$B$59:$B$73,F20)+SUMIFS($C$81:$C$90,$B$81:$B$90,F20)+SUMIFS($E$98:$E$107,$B$98:$B$107,F20)+SUMIFS($I$172:$I$179,$B$172:$B$179,F20)+SUMIFS($E$132:$E$140,$B$132:$B$140,F20)+SUMIFS($E$148:$E$164,$B$148:$B$164,F20)+SUMIFS($E$115:$E$124,$B$115:$B$124,F20)+SUMIFS($F$187:$F$202,$B$187:$B$202,F20)+SUMIFS($C$210:$C$219,$B$210:$B$219,F20))
A21: =IFERROR(HLOOKUP(VLOOKUP(Projectinformatie!$B$26,Keuzeopties[#All],3,FALSE)&IF($C$6="Kennisinstelling","K",""),Keuze_Kostensoort[#All],6,FALSE),0) -> 0 | B21: =Hulpblad!G6 -> Vast uurtarief eigen arbeid - € 43 | D21: =IF(A21=0,0,SUM($E$115:$E$124)) -> 0 | F21: =Hulpblad!V6 | H21: =IF(OR(F21="",F21=" "),"",SUMIFS($G$37:$G$51,$B$37:$B$51,F21)+SUMIFS($G$59:$G$73,$B$59:$B$73,F21)+SUMIFS($C$81:$C$90,$B$81:$B$90,F21)+SUMIFS($E$98:$E$107,$B$98:$B$107,F21)+SUMIFS($I$172:$I$179,$B$172:$B$179,F21)+SUMIFS($E$132:$E$140,$B$132:$B$140,F21)+SUMIFS($E$148:$E$164,$B$148:$B$164,F21)+SUMIFS($E$115:$E$124,$B$115:$B$124,F21)+SUMIFS($F$187:$F$202,$B$187:$B$202,F21)+SUMIFS($C$210:$C$219,$B$210:$B$219,F21))
A22: =IFERROR(HLOOKUP(VLOOKUP(Projectinformatie!$B$26,Keuzeopties[#All],3,FALSE)&IF($C$6="Kennisinstelling","K",""),Keuze_Kostensoort[#All],7,FALSE),0) -> 0 | B22: =Hulpblad!G7 -> IKS voor kennisinstellingen | D22: =IF(A22=0,0,SUM($E$132:$E$140)) -> 0 | F22: =Hulpblad!V7 | H22: =IF(OR(F22="",F22=" "),"",SUMIFS($G$37:$G$51,$B$37:$B$51,F22)+SUMIFS($G$59:$G$73,$B$59:$B$73,F22)+SUMIFS($C$81:$C$90,$B$81:$B$90,F22)+SUMIFS($E$98:$E$107,$B$98:$B$107,F22)+SUMIFS($I$172:$I$179,$B$172:$B$179,F22)+SUMIFS($E$132:$E$140,$B$132:$B$140,F22)+SUMIFS($E$148:$E$164,$B$148:$B$164,F22)+SUMIFS($E$115:$E$124,$B$115:$B$124,F22)+SUMIFS($F$187:$F$202,$B$187:$B$202,F22)+SUMIFS($C$210:$C$219,$B$210:$B$219,F22))
A23: =IFERROR(HLOOKUP(VLOOKUP(Projectinformatie!$B$26,Keuzeopties[#All],3,FALSE)&IF($C$6="Kennisinstelling","K",""),Keuze_Kostensoort[#All],8,FALSE),0) -> Bijdragen in natura (niet subsidiabel bij openstelling EIP) | B23: =Hulpblad!G8 -> Bijdragen in natura (niet subsidiabel bij openstelling EIP) | D23: =IF(A23=0,0,SUM($E$148:$E$164)) -> 0 | F23: =Hulpblad!V8 | H23: =IF(OR(F23="",F23=" "),"",SUMIFS($G$37:$G$51,$B$37:$B$51,F23)+SUMIFS($G$59:$G$73,$B$59:$B$73,F23)+SUMIFS($C$81:$C$90,$B$81:$B$90,F23)+SUMIFS($E$98:$E$107,$B$98:$B$107,F23)+SUMIFS($I$172:$I$179,$B$172:$B$179,F23)+SUMIFS($E$132:$E$140,$B$132:$B$140,F23)+SUMIFS($E$148:$E$164,$B$148:$B$164,F23)+SUMIFS($E$115:$E$124,$B$115:$B$124,F23)+SUMIFS($F$187:$F$202,$B$187:$B$202,F23)+SUMIFS($C$210:$C$219,$B$210:$B$219,F23))
A24: =IFERROR(HLOOKUP(VLOOKUP(Projectinformatie!$B$26,Keuzeopties[#All],3,FALSE)&IF(C15="Kennisinstelling","K",""),Keuze_Kostensoort[#All],9,FALSE),0) -> Afschrijvingskosten (niet subsidiabel bij openstelling EIP) | B24: =Hulpblad!G9 -> Afschrijvingskosten (niet subsidiabel bij openstelling EIP) | D24: =IF(A24=0,0,SUM($I$172:$I$179)) -> 0 | F24: =Hulpblad!V9 | H24: =IF(OR(F24="",F24=" "),"",SUMIFS($G$37:$G$51,$B$37:$B$51,F24)+SUMIFS($G$59:$G$73,$B$59:$B$73,F24)+SUMIFS($C$81:$C$90,$B$81:$B$90,F24)+SUMIFS($E$98:$E$107,$B$98:$B$107,F24)+SUMIFS($I$172:$I$179,$B$172:$B$179,F24)+SUMIFS($E$132:$E$140,$B$132:$B$140,F24)+SUMIFS($E$148:$E$164,$B$148:$B$164,F24)+SUMIFS($E$115:$E$124,$B$115:$B$124,F24)+SUMIFS($F$187:$F$202,$B$187:$B$202,F24)+SUMIFS($C$210:$C$219,$B$210:$B$219,F24))
A25: =IFERROR(HLOOKUP(VLOOKUP(Projectinformatie!$B$26,Keuzeopties[#All],3,FALSE)&IF(C16="Kennisinstelling","K",""),Keuze_Kostensoort[#All],10,FALSE),0) -> Andere kosten | B25: =Hulpblad!G10 -> Andere kosten | D25: =IF(A25=0,0,SUM($F$187:$F$202)) -> 0 | F25: =Hulpblad!V10 | H25: =IF(OR(F25="",F25=" "),"",SUMIFS($G$37:$G$51,$B$37:$B$51,F25)+SUMIFS($G$59:$G$73,$B$59:$B$73,F25)+SUMIFS($C$81:$C$90,$B$81:$B$90,F25)+SUMIFS($E$98:$E$107,$B$98:$B$107,F25)+SUMIFS($I$172:$I$179,$B$172:$B$179,F25)+SUMIFS($E$132:$E$140,$B$132:$B$140,F25)+SUMIFS($E$148:$E$164,$B$148:$B$164,F25)+SUMIFS($E$115:$E$124,$B$115:$B$124,F25)+SUMIFS($F$187:$F$202,$B$187:$B$202,F25)+SUMIFS($C$210:$C$219,$B$210:$B$219,F25))
A26: =IFERROR(HLOOKUP(VLOOKUP(Projectinformatie!$B$26,Keuzeopties[#All],3,FALSE)&IF(C17="Kennisinstelling","K",""),Keuze_Kostensoort[#All],11,FALSE),0) -> 0 | B26: =Hulpblad!G11 -> Forfait 40% voor overige kosten | D26: =IF(A26=0,0,SUM($C$210:$C$219)) -> 0 | F26: =Hulpblad!V11 | H26: =IF(OR(F26="",F26=" "),"",SUMIFS($G$37:$G$51,$B$37:$B$51,F26)+SUMIFS($G$59:$G$73,$B$59:$B$73,F26)+SUMIFS($C$81:$C$90,$B$81:$B$90,F26)+SUMIFS($E$98:$E$107,$B$98:$B$107,F26)+SUMIFS($I$172:$I$179,$B$172:$B$179,F26)+SUMIFS($E$132:$E$140,$B$132:$B$140,F26)+SUMIFS($E$148:$E$164,$B$148:$B$164,F26)+SUMIFS($E$115:$E$124,$B$115:$B$124,F26)+SUMIFS($F$187:$F$202,$B$187:$B$202,F26)+SUMIFS($C$210:$C$219,$B$210:$B$219,F26))
B27: TOTAAL | D27: =SUM(D17:D26) -> 0 | F27: TOTAAL | H27: =SUM(H17:H26) -> 0
B29: CHECK: | C29: =IF(D27=H27,IF(C239<>"Ja","Let op: de financiering is nog niet gelijk aan de opgevoerde kosten. Zie ook de financieringstabel onder de kostenbegroting.","De kosten en financiering sluiten op elkaar aan."),"Let op: de totale kosten van bovenstaande tabellen zijn niet aan elkaar gelijk. Waarschijnlijk is bij één of meerdere inputregels nog geen werkpakket geselecteerd. "&"Als een werkpakketnaam gewijzigd is, moet deze opnieuw in de inputregel worden geselecteerd.") -> De kosten en financiering sluiten op elkaar aan.
B31: Kostenbegroting invoertabellen
A33: =IF($A$16=0,"",IF(COUNTIFS($A$17:$A$26,B33)=1,1,"nvt")) | B33: =B17 -> Loonkosten plus vast % (44,2% + 15%)
B34: =IF(A33="nvt",VLOOKUP(A33,Alle_Kostensoorten[],2,FALSE),VLOOKUP(B33,Alle_Kostensoorten[],2,FALSE)) -> Toelichting: Zie voor berekening tabblad 'Instructie'
B36: Werkpakket | C36: Functie medewerker(s) | D36: Jaar | E36: Uurtarief (incl. 15% overhead) | F36: Aantal uren | G36: Totale kosten
G37: =IF($A$33=1,$F37*$E37,0) -> 0
G38: =IF($A$33=1,$F38*$E38,0) -> 0
G39: =IF($A$33=1,$F39*$E39,0) -> 0
G40: =IF($A$33=1,$F40*$E40,0) -> 0
G41: =IF($A$33=1,$F41*$E41,0) -> 0
G42: =IF($A$33=1,$F42*$E42,0) -> 0
G43: =IF($A$33=1,$F43*$E43,0) -> 0
G44: =IF($A$33=1,$F44*$E44,0) -> 0
G45: =IF($A$33=1,$F45*$E45,0) -> 0
G46: =IF($A$33=1,$F46*$E46,0) -> 0
G47: =IF($A$33=1,$F47*$E47,0) -> 0
G48: =IF($A$33=1,$F48*$E48,0) -> 0
... G51: =IF($A$33=1,$F51*$E51,0) -> 0
B52: TOTAAL | G52: =SUM(G37:G51) -> 0
A55: =IF($A$16=0,"",IF(COUNTIFS($A$17:$A$26,B55)=1,1,"nvt")) | B55: =B18 -> Loonkosten plus vast % (44,2%)
B56: =IF(A55="nvt",VLOOKUP(A55,Alle_Kostensoorten[],2,FALSE),VLOOKUP(B55,Alle_Kostensoorten[],2,FALSE)) -> Toelichting: Zie voor berekening tabblad 'Instructie'
B58: Werkpakket | C58: Functie medewerker(s) | D58: Jaar | E58: Uurtarief | F58: Aantal uren | G58: Totale kosten
G59: =IF($A$55=1,$F59*$E59,0) -> 0
G60: =IF($A$55=1,$F60*55,0) -> 0
G61: =IF($A$55=1,$F61*55,0) -> 0
G62: =IF($A$55=1,$F62*55,0) -> 0
G63: =IF($A$55=1,$F63*55,0) -> 0
G64: =IF($A$55=1,$F64*55,0) -> 0
G65: =IF($A$55=1,$F65*55,0) -> 0
G66: =IF($A$55=1,$F66*55,0) -> 0
G67: =IF($A$55=1,$F67*55,0) -> 0
G68: =IF($A$55=1,$F68*55,0) -> 0
G69: =IF($A$55=1,$F69*55,0) -> 0
G70: =IF($A$55=1,$F70*55,0) -> 0
G71: =IF($A$55=1,$F71*55,0) -> 0
... G73: =IF($A$55=1,$F73*55,0) -> 0
B74: TOTAAL | G74: =SUM(G59:G73) -> 0
A77: =IF($A$16=0,"",IF(COUNTIFS($A$17:$A$26,B77)=1,1,"nvt")) | B77: =B19 -> Forfait van 23% voor loonkosten en eigen arbeid
B78: =IF(A77=1,VLOOKUP(B77,Alle_Kostensoorten[],2,FALSE),VLOOKUP(A77,Alle_Kostensoorten[],2,FALSE)) -> #N/A
B80: Werkpakket | C80: Totale kosten
B81: =Hulpblad!V2 | C81: =IF(AND($A$77=1,$B81<>"",$B81<>" "),(SUMIFS($E$148:$E$164,$B$148:$B$164,$B81)+SUMIFS($I$172:$I$179,$B$172:$B$179,$B81)+SUMIFS($F$187:$F$202,$B$187:$B$202,$B81))*0.23,0) -> 0
B82: =Hulpblad!V3 | C82: =IF(AND($A$77=1,$B82<>"",$B82<>" "),(SUMIFS($E$148:$E$164,$B$148:$B$164,$B82)+SUMIFS($I$172:$I$179,$B$172:$B$179,$B82)+SUMIFS($F$187:$F$202,$B$187:$B$202,$B82))*0.23,0) -> 0
B83: =Hulpblad!V4 | C83: =IF(AND($A$77=1,$B83<>"",$B83<>" "),(SUMIFS($E$148:$E$164,$B$148:$B$164,$B83)+SUMIFS($I$172:$I$179,$B$172:$B$179,$B83)+SUMIFS($F$187:$F$202,$B$187:$B$202,$B83))*0.23,0) -> 0
B84: =Hulpblad!V5 | C84: =IF(AND($A$77=1,$B84<>"",$B84<>" "),(SUMIFS($E$148:$E$164,$B$148:$B$164,$B84)+SUMIFS($I$172:$I$179,$B$172:$B$179,$B84)+SUMIFS($F$187:$F$202,$B$187:$B$202,$B84))*0.23,0) -> 0
B85: =Hulpblad!V6 | C85: =IF(AND($A$77=1,$B85<>"",$B85<>" "),(SUMIFS($E$148:$E$164,$B$148:$B$164,$B85)+SUMIFS($I$172:$I$179,$B$172:$B$179,$B85)+SUMIFS($F$187:$F$202,$B$187:$B$202,$B85))*0.23,0) -> 0
B86: =Hulpblad!V7 | C86: =IF(AND($A$77=1,$B86<>"",$B86<>" "),(SUMIFS($E$148:$E$164,$B$148:$B$164,$B86)+SUMIFS($I$172:$I$179,$B$172:$B$179,$B86)+SUMIFS($F$187:$F$202,$B$187:$B$202,$B86))*0.23,0) -> 0
B87: =Hulpblad!V8 | C87: =IF(AND($A$77=1,$B87<>"",$B87<>" "),(SUMIFS($E$148:$E$164,$B$148:$B$164,$B87)+SUMIFS($I$172:$I$179,$B$172:$B$179,$B87)+SUMIFS($F$187:$F$202,$B$187:$B$202,$B87))*0.23,0) -> 0
B88: =Hulpblad!V9 | C88: =IF(AND($A$77=1,$B88<>"",$B88<>" "),(SUMIFS($E$148:$E$164,$B$148:$B$164,$B88)+SUMIFS($I$172:$I$179,$B$172:$B$179,$B88)+SUMIFS($F$187:$F$202,$B$187:$B$202,$B88))*0.23,0) -> 0
B89: =Hulpblad!V10 | C89: =IF(AND($A$77=1,$B89<>"",$B89<>" "),(SUMIFS($E$148:$E$164,$B$148:$B$164,$B89)+SUMIFS($I$172:$I$179,$B$172:$B$179,$B89)+SUMIFS($F$187:$F$202,$B$187:$B$202,$B89))*0.23,0) -> 0
B90: =Hulpblad!V11 | C90: =IF(AND($A$77=1,$B90<>"",$B90<>" "),(SUMIFS($E$148:$E$164,$B$148:$B$164,$B90)+SUMIFS($I$172:$I$179,$B$172:$B$179,$B90)+SUMIFS($F$187:$F$202,$B$187:$B$202,$B90))*0.23,0) -> 0
B91: TOTAAL | C91: =SUM(C81:C90) -> 0
A94: =IF($A$16=0,"",IF(COUNTIFS($A$17:$A$26,B94)=1,1,"nvt")) | B94: =B20 -> Vast uurtarief eigen arbeid - € 50
B95: =IF(A94=1,VLOOKUP(B94,Alle_Kostensoorten[],2,FALSE),VLOOKUP(A94,Alle_Kostensoorten[],2,FALSE)) -> #N/A
B97: Werkpakket | C97: Functie medewerker(s) | D97: Aantal uren totaal | E97: Totale kosten
E98: =IF($A$94=1,$D98*50,0) -> 0
E99: =IF($A$94=1,$D99*50,0) -> 0
E100: =IF($A$94=1,$D100*50,0) -> 0
E101: =IF($A$94=1,$D101*50,0) -> 0
E102: =IF($A$94=1,$D102*50,0) -> 0
E103: =IF($A$94=1,$D103*50,0) -> 0
E104: =IF($A$94=1,$D104*50,0) -> 0
E105: =IF($A$94=1,$D105*50,0) -> 0
E106: =IF($A$94=1,$D106*50,0) -> 0
E107: =IF($A$94=1,$D107*50,0) -> 0
B108: TOTAAL | E108: =SUM(E98:E107) -> 0
A111: =IF($A$16=0,"",IF(COUNTIFS($A$17:$A$26,B111)=1,1,"nvt")) | B111: =B21 -> Vast uurtarief eigen arbeid - € 43
B112: =IF(A111=1,VLOOKUP(B111,Alle_Kostensoorten[],2,FALSE),VLOOKUP(A111,Alle_Kostensoorten[],2,FALSE)) -> #N/A
B114: Werkpakket | C114: Functie medewerker(s) | D114: Aantal uren totaal | E114: Totale kosten
E115: =IF($A$111=1,$D115*43,0) -> 0
E116: =IF($A$111=1,$D116*43,0) -> 0
E117: =IF($A$111=1,$D117*43,0) -> 0
E118: =IF($A$111=1,$D118*43,0) -> 0
E119: =IF($A$111=1,$D119*43,0) -> 0
E120: =IF($A$111=1,$D120*43,0) -> 0
E121: =IF($A$111=1,$D121*43,0) -> 0
E122: =IF($A$111=1,$D122*43,0) -> 0
E123: =IF($A$111=1,$D123*43,0) -> 0
E124: =IF($A$111=1,$D124*43,0) -> 0
B125: TOTAAL | E125: =SUM(E115:E124) -> 0
...

Sheet PP2
I1: Invoervelden | J1: Deze velden kunt u zelf invullen
B2: Naam Partner 2: | I2: Selectievelden | J2: Door met de cursor op het betreffende veld te gaan staan, verschijnt aan de rechterkant een pijltje waarmee u kunt kiezen.
I3: Doorrekenvelden | J3: Deze velden kunt u niet aanpassen
B4: Vestigingsplaats:
B5: KVK-nummer:
B6: Type organisatie:
B7: Omvang organisatie: | D7: *Gebruikersgids bij de definitie van MKB
B11: =IF(COUNTA(C2:D7)<5,"Vul eerst hierboven alle informatie over de projectpartner in.",IF(Projectinformatie!B26="","Er is voor het project nog geen optie gekozen voor het begroten en verantwoorden van de kosten. Kies de optie op tabblad 'Projectinformatie' onder de werkpakketten.",VLOOKUP(Projectinformatie!B26,Hulpblad!R:S,2,FALSE))) -> Vul eerst hierboven alle informatie over de projectpartner in.
B14: Samenvatting kostenbegroting (deze twee tabellen worden automatisch gevuld, u hoeft hier niets in te vullen!)
A16: =IF(OR(COUNTA(C2:D8)<5,Projectinformatie!B26=""),0,1) -> 0 | B16: Kostensoorten | D16: Totale kosten | F16: Werkpakket | H16: Totale kosten
A17: =IFERROR(HLOOKUP(VLOOKUP(Projectinformatie!$B$26,Keuzeopties[#All],3,FALSE)&IF($C$6="Kennisinstelling","K",""),Keuze_Kostensoort[#All],2,FALSE),0) -> Loonkosten plus vast % (44,2% + 15%) | B17: =Hulpblad!G2 -> Loonkosten plus vast % (44,2% + 15%) | D17: =IF(A17=0,0,SUM($G$37:$G$51)) -> 0 | F17: =Hulpblad!V2 | H17: =IF(OR(F17="",F17=" "),"",SUMIFS($G$37:$G$51,$B$37:$B$51,F17)+SUMIFS($G$59:$G$73,$B$59:$B$73,F17)+SUMIFS($C$81:$C$90,$B$81:$B$90,F17)+SUMIFS($E$98:$E$107,$B$98:$B$107,F17)+SUMIFS($I$172:$I$179,$B$172:$B$179,F17)+SUMIFS($E$132:$E$140,$B$132:$B$140,F17)+SUMIFS($E$148:$E$164,$B$148:$B$164,F17)+SUMIFS($E$115:$E$124,$B$115:$B$124,F17)+SUMIFS($F$187:$F$202,$B$187:$B$202,F17)+SUMIFS($C$210:$C$219,$B$210:$B$219,F17))
A18: =IFERROR(HLOOKUP(VLOOKUP(Projectinformatie!$B$26,Keuzeopties[#All],3,FALSE)&IF($C$6="Kennisinstelling","K",""),Keuze_Kostensoort[#All],3,FALSE),0) -> 0 | B18: =Hulpblad!G3 -> Loonkosten plus vast % (44,2%) | D18: =IF(A18=0,0,SUM($G$59:$G$73)) -> 0 | F18: =Hulpblad!V3 | H18: =IF(OR(F18="",F18=" "),"",SUMIFS($G$37:$G$51,$B$37:$B$51,F18)+SUMIFS($G$59:$G$73,$B$59:$B$73,F18)+SUMIFS($C$81:$C$90,$B$81:$B$90,F18)+SUMIFS($E$98:$E$107,$B$98:$B$107,F18)+SUMIFS($I$172:$I$179,$B$172:$B$179,F18)+SUMIFS($E$132:$E$140,$B$132:$B$140,F18)+SUMIFS($E$148:$E$164,$B$148:$B$164,F18)+SUMIFS($E$115:$E$124,$B$115:$B$124,F18)+SUMIFS($F$187:$F$202,$B$187:$B$202,F18)+SUMIFS($C$210:$C$219,$B$210:$B$219,F18))
A19: =IFERROR(HLOOKUP(VLOOKUP(Projectinformatie!$B$26,Keuzeopties[#All],3,FALSE)&IF($C$6="Kennisinstelling","K",""),Keuze_Kostensoort[#All],4,FALSE),0) -> 0 | B19: =Hulpblad!G4 -> Forfait van 23% voor loonkosten en eigen arbeid | D19: =IF(A19=0,0,SUM($C$81:$C$90)) -> 0 | F19: =Hulpblad!V4 | H19: =IF(OR(F19="",F19=" "),"",SUMIFS($G$37:$G$51,$B$37:$B$51,F19)+SUMIFS($G$59:$G$73,$B$59:$B$73,F19)+SUMIFS($C$81:$C$90,$B$81:$B$90,F19)+SUMIFS($E$98:$E$107,$B$98:$B$107,F19)+SUMIFS($I$172:$I$179,$B$172:$B$179,F19)+SUMIFS($E$132:$E$140,$B$132:$B$140,F19)+SUMIFS($E$148:$E$164,$B$148:$B$164,F19)+SUMIFS($E$115:$E$124,$B$115:$B$124,F19)+SUMIFS($F$187:$F$202,$B$187:$B$202,F19)+SUMIFS($C$210:$C$219,$B$210:$B$219,F19))
A20: =IFERROR(HLOOKUP(VLOOKUP(Projectinformatie!$B$26,Keuzeopties[#All],3,FALSE)&IF($C$6="Kennisinstelling","K",""),Keuze_Kostensoort[#All],5,FALSE),0) -> Vast uurtarief eigen arbeid - € 50 | B20: =Hulpblad!G5 -> Vast uurtarief eigen arbeid - € 50 | D20: =IF(A20=0,0,SUM($E$98:$E$107)) -> 0 | F20: =Hulpblad!V5 | H20: =IF(OR(F20="",F20=" "),"",SUMIFS($G$37:$G$51,$B$37:$B$51,F20)+SUMIFS($G$59:$G$73,$B$59:$B$73,F20)+SUMIFS($C$81:$C$90,$B$81:$B$90,F20)+SUMIFS($E$98:$E$107,$B$98:$B$107,F20)+SUMIFS($I$172:$I$179,$B$172:$B$179,F20)+SUMIFS($E$132:$E$140,$B$132:$B$140,F20)+SUMIFS($E$148:$E$164,$B$148:$B$164,F20)+SUMIFS($E$115:$E$124,$B$115:$B$124,F20)+SUMIFS($F$187:$F$202,$B$187:$B$202,F20)+SUMIFS($C$210:$C$219,$B$210:$B$219,F20))
A21: =IFERROR(HLOOKUP(VLOOKUP(Projectinformatie!$B$26,Keuzeopties[#All],3,FALSE)&IF($C$6="Kennisinstelling","K",""),Keuze_Kostensoort[#All],6,FALSE),0) -> 0 | B21: =Hulpblad!G6 -> Vast uurtarief eigen arbeid - € 43 | D21: =IF(A21=0,0,SUM($E$115:$E$124)) -> 0 | F21: =Hulpblad!V6 | H21: =IF(OR(F21="",F21=" "),"",SUMIFS($G$37:$G$51,$B$37:$B$51,F21)+SUMIFS($G$59:$G$73,$B$59:$B$73,F21)+SUMIFS($C$81:$C$90,$B$81:$B$90,F21)+SUMIFS($E$98:$E$107,$B$98:$B$107,F21)+SUMIFS($I$172:$I$179,$B$172:$B$179,F21)+SUMIFS($E$132:$E$140,$B$132:$B$140,F21)+SUMIFS($E$148:$E$164,$B$148:$B$164,F21)+SUMIFS($E$115:$E$124,$B$115:$B$124,F21)+SUMIFS($F$187:$F$202,$B$187:$B$202,F21)+SUMIFS($C$210:$C$219,$B$210:$B$219,F21))
A22: =IFERROR(HLOOKUP(VLOOKUP(Projectinformatie!$B$26,Keuzeopties[#All],3,FALSE)&IF($C$6="Kennisinstelling","K",""),Keuze_Kostensoort[#All],7,FALSE),0) -> 0 | B22: =Hulpblad!G7 -> IKS voor kennisinstellingen | D22: =IF(A22=0,0,SUM($E$132:$E$140)) -> 0 | F22: =Hulpblad!V7 | H22: =IF(OR(F22="",F22=" "),"",SUMIFS($G$37:$G$51,$B$37:$B$51,F22)+SUMIFS($G$59:$G$73,$B$59:$B$73,F22)+SUMIFS($C$81:$C$90,$B$81:$B$90,F22)+SUMIFS($E$98:$E$107,$B$98:$B$107,F22)+SUMIFS($I$172:$I$179,$B$172:$B$179,F22)+SUMIFS($E$132:$E$140,$B$132:$B$140,F22)+SUMIFS($E$148:$E$164,$B$148:$B$164,F22)+SUMIFS($E$115:$E$124,$B$115:$B$124,F22)+SUMIFS($F$187:$F$202,$B$187:$B$202,F22)+SUMIFS($C$210:$C$219,$B$210:$B$219,F22))
A23: =IFERROR(HLOOKUP(VLOOKUP(Projectinformatie!$B$26,Keuzeopties[#All],3,FALSE)&IF($C$6="Kennisinstelling","K",""),Keuze_Kostensoort[#All],8,FALSE),0) -> Bijdragen in natura (niet subsidiabel bij openstelling EIP) | B23: =Hulpblad!G8 -> Bijdragen in natura (niet subsidiabel bij openstelling EIP) | D23: =IF(A23=0,0,SUM($E$148:$E$164)) -> 0 | F23: =Hulpblad!V8 | H23: =IF(OR(F23="",F23=" "),"",SUMIFS($G$37:$G$51,$B$37:$B$51,F23)+SUMIFS($G$59:$G$73,$B$59:$B$73,F23)+SUMIFS($C$81:$C$90,$B$81:$B$90,F23)+SUMIFS($E$98:$E$107,$B$98:$B$107,F23)+SUMIFS($I$172:$I$179,$B$172:$B$179,F23)+SUMIFS($E$132:$E$140,$B$132:$B$140,F23)+SUMIFS($E$148:$E$164,$B$148:$B$164,F23)+SUMIFS($E$115:$E$124,$B$115:$B$124,F23)+SUMIFS($F$187:$F$202,$B$187:$B$202,F23)+SUMIFS($C$210:$C$219,$B$210:$B$219,F23))
A24: =IFERROR(HLOOKUP(VLOOKUP(Projectinformatie!$B$26,Keuzeopties[#All],3,FALSE)&IF(C15="Kennisinstelling","K",""),Keuze_Kostensoort[#All],9,FALSE),0) -> Afschrijvingskosten (niet subsidiabel bij openstelling EIP) | B24: =Hulpblad!G9 -> Afschrijvingskosten (niet subsidiabel bij openstelling EIP) | D24: =IF(A24=0,0,SUM($I$172:$I$179)) -> 0 | F24: =Hulpblad!V9 | H24: =IF(OR(F24="",F24=" "),"",SUMIFS($G$37:$G$51,$B$37:$B$51,F24)+SUMIFS($G$59:$G$73,$B$59:$B$73,F24)+SUMIFS($C$81:$C$90,$B$81:$B$90,F24)+SUMIFS($E$98:$E$107,$B$98:$B$107,F24)+SUMIFS($I$172:$I$179,$B$172:$B$179,F24)+SUMIFS($E$132:$E$140,$B$132:$B$140,F24)+SUMIFS($E$148:$E$164,$B$148:$B$164,F24)+SUMIFS($E$115:$E$124,$B$115:$B$124,F24)+SUMIFS($F$187:$F$202,$B$187:$B$202,F24)+SUMIFS($C$210:$C$219,$B$210:$B$219,F24))
A25: =IFERROR(HLOOKUP(VLOOKUP(Projectinformatie!$B$26,Keuzeopties[#All],3,FALSE)&IF(C16="Kennisinstelling","K",""),Keuze_Kostensoort[#All],10,FALSE),0) -> Andere kosten | B25: =Hulpblad!G10 -> Andere kosten | D25: =IF(A25=0,0,SUM($F$187:$F$202)) -> 0 | F25: =Hulpblad!V10 | H25: =IF(OR(F25="",F25=" "),"",SUMIFS($G$37:$G$51,$B$37:$B$51,F25)+SUMIFS($G$59:$G$73,$B$59:$B$73,F25)+SUMIFS($C$81:$C$90,$B$81:$B$90,F25)+SUMIFS($E$98:$E$107,$B$98:$B$107,F25)+SUMIFS($I$172:$I$179,$B$172:$B$179,F25)+SUMIFS($E$132:$E$140,$B$132:$B$140,F25)+SUMIFS($E$148:$E$164,$B$148:$B$164,F25)+SUMIFS($E$115:$E$124,$B$115:$B$124,F25)+SUMIFS($F$187:$F$202,$B$187:$B$202,F25)+SUMIFS($C$210:$C$219,$B$210:$B$219,F25))
A26: =IFERROR(HLOOKUP(VLOOKUP(Projectinformatie!$B$26,Keuzeopties[#All],3,FALSE)&IF(C17="Kennisinstelling","K",""),Keuze_Kostensoort[#All],11,FALSE),0) -> 0 | B26: =Hulpblad!G11 -> Forfait 40% voor overige kosten | D26: =IF(A26=0,0,SUM($C$210:$C$219)) -> 0 | F26: =Hulpblad!V11 | H26: =IF(OR(F26="",F26=" "),"",SUMIFS($G$37:$G$51,$B$37:$B$51,F26)+SUMIFS($G$59:$G$73,$B$59:$B$73,F26)+SUMIFS($C$81:$C$90,$B$81:$B$90,F26)+SUMIFS($E$98:$E$107,$B$98:$B$107,F26)+SUMIFS($I$172:$I$179,$B$172:$B$179,F26)+SUMIFS($E$132:$E$140,$B$132:$B$140,F26)+SUMIFS($E$148:$E$164,$B$148:$B$164,F26)+SUMIFS($E$115:$E$124,$B$115:$B$124,F26)+SUMIFS($F$187:$F$202,$B$187:$B$202,F26)+SUMIFS($C$210:$C$219,$B$210:$B$219,F26))
B27: TOTAAL | D27: =SUM(D17:D26) -> 0 | F27: TOTAAL | H27: =SUM(H17:H26) -> 0
B29: CHECK: | C29: =IF(D27=H27,IF(C239<>"Ja","Let op: de financiering is nog niet gelijk aan de opgevoerde kosten. Zie ook de financieringstabel onder de kostenbegroting.","De kosten en financiering sluiten op elkaar aan."),"Let op: de totale kosten van bovenstaande tabellen zijn niet aan elkaar gelijk. Waarschijnlijk is bij één of meerdere inputregels nog geen werkpakket geselecteerd. "&"Als een werkpakketnaam gewijzigd is, moet deze opnieuw in de inputregel worden geselecteerd.") -> De kosten en financiering sluiten op elkaar aan.
B31: Kostenbegroting invoertabellen
A33: =IF($A$16=0,"",IF(COUNTIFS($A$17:$A$26,B33)=1,1,"nvt")) | B33: =B17 -> Loonkosten plus vast % (44,2% + 15%)
B34: =IF(A33="nvt",VLOOKUP(A33,Alle_Kostensoorten[],2,FALSE),VLOOKUP(B33,Alle_Kostensoorten[],2,FALSE)) -> Toelichting: Zie voor berekening tabblad 'Instructie'
B36: Werkpakket | C36: Functie medewerker(s) | D36: Jaar | E36: Uurtarief (incl. 15% overhead) | F36: Aantal uren | G36: Totale kosten
G37: =IF($A$33=1,$F37*$E37,0) -> 0
G38: =IF($A$33=1,$F38*$E38,0) -> 0
G39: =IF($A$33=1,$F39*$E39,0) -> 0
G40: =IF($A$33=1,$F40*$E40,0) -> 0
G41: =IF($A$33=1,$F41*$E41,0) -> 0
G42: =IF($A$33=1,$F42*$E42,0) -> 0
G43: =IF($A$33=1,$F43*$E43,0) -> 0
G44: =IF($A$33=1,$F44*$E44,0) -> 0
G45: =IF($A$33=1,$F45*$E45,0) -> 0
G46: =IF($A$33=1,$F46*$E46,0) -> 0
G47: =IF($A$33=1,$F47*$E47,0) -> 0
G48: =IF($A$33=1,$F48*$E48,0) -> 0
... G51: =IF($A$33=1,$F51*$E51,0) -> 0
B52: TOTAAL | G52: =SUM(G37:G51) -> 0
A55: =IF($A$16=0,"",IF(COUNTIFS($A$17:$A$26,B55)=1,1,"nvt")) | B55: =B18 -> Loonkosten plus vast % (44,2%)
B56: =IF(A55="nvt",VLOOKUP(A55,Alle_Kostensoorten[],2,FALSE),VLOOKUP(B55,Alle_Kostensoorten[],2,FALSE)) -> Toelichting: Zie voor berekening tabblad 'Instructie'
B58: Werkpakket | C58: Functie medewerker(s) | D58: Jaar | E58: Uurtarief | F58: Aantal uren | G58: Totale kosten
G59: =IF($A$55=1,$F59*$E59,0) -> 0
G60: =IF($A$55=1,$F60*55,0) -> 0
G61: =IF($A$55=1,$F61*55,0) -> 0
G62: =IF($A$55=1,$F62*55,0) -> 0
G63: =IF($A$55=1,$F63*55,0) -> 0
G64: =IF($A$55=1,$F64*55,0) -> 0
G65: =IF($A$55=1,$F65*55,0) -> 0
G66: =IF($A$55=1,$F66*55,0) -> 0
G67: =IF($A$55=1,$F67*55,0) -> 0
G68: =IF($A$55=1,$F68*55,0) -> 0
G69: =IF($A$55=1,$F69*55,0) -> 0
G70: =IF($A$55=1,$F70*55,0) -> 0
G71: =IF($A$55=1,$F71*55,0) -> 0
... G73: =IF($A$55=1,$F73*55,0) -> 0
B74: TOTAAL | G74: =SUM(G59:G73) -> 0
A77: =IF($A$16=0,"",IF(COUNTIFS($A$17:$A$26,B77)=1,1,"nvt")) | B77: =B19 -> Forfait van 23% voor loonkosten en eigen arbeid
B78: =IF(A77=1,VLOOKUP(B77,Alle_Kostensoorten[],2,FALSE),VLOOKUP(A77,Alle_Kostensoorten[],2,FALSE)) -> #N/A
B80: Werkpakket | C80: Totale kosten
B81: =Hulpblad!V2 | C81: =IF(AND($A$77=1,$B81<>"",$B81<>" "),(SUMIFS($E$148:$E$164,$B$148:$B$164,$B81)+SUMIFS($I$172:$I$179,$B$172:$B$179,$B81)+SUMIFS($F$187:$F$202,$B$187:$B$202,$B81))*0.23,0) -> 0
B82: =Hulpblad!V3 | C82: =IF(AND($A$77=1,$B82<>"",$B82<>" "),(SUMIFS($E$148:$E$164,$B$148:$B$164,$B82)+SUMIFS($I$172:$I$179,$B$172:$B$179,$B82)+SUMIFS($F$187:$F$202,$B$187:$B$202,$B82))*0.23,0) -> 0
B83: =Hulpblad!V4 | C83: =IF(AND($A$77=1,$B83<>"",$B83<>" "),(SUMIFS($E$148:$E$164,$B$148:$B$164,$B83)+SUMIFS($I$172:$I$179,$B$172:$B$179,$B83)+SUMIFS($F$187:$F$202,$B$187:$B$202,$B83))*0.23,0) -> 0
B84: =Hulpblad!V5 | C84: =IF(AND($A$77=1,$B84<>"",$B84<>" "),(SUMIFS($E$148:$E$164,$B$148:$B$164,$B84)+SUMIFS($I$172:$I$179,$B$172:$B$179,$B84)+SUMIFS($F$187:$F$202,$B$187:$B$202,$B84))*0.23,0) -> 0
B85: =Hulpblad!V6 | C85: =IF(AND($A$77=1,$B85<>"",$B85<>" "),(SUMIFS($E$148:$E$164,$B$148:$B$164,$B85)+SUMIFS($I$172:$I$179,$B$172:$B$179,$B85)+SUMIFS($F$187:$F$202,$B$187:$B$202,$B85))*0.23,0) -> 0
B86: =Hulpblad!V7 | C86: =IF(AND($A$77=1,$B86<>"",$B86<>" "),(SUMIFS($E$148:$E$164,$B$148:$B$164,$B86)+SUMIFS($I$172:$I$179,$B$172:$B$179,$B86)+SUMIFS($F$187:$F$202,$B$187:$B$202,$B86))*0.23,0) -> 0
B87: =Hulpblad!V8 | C87: =IF(AND($A$77=1,$B87<>"",$B87<>" "),(SUMIFS($E$148:$E$164,$B$148:$B$164,$B87)+SUMIFS($I$172:$I$179,$B$172:$B$179,$B87)+SUMIFS($F$187:$F$202,$B$187:$B$202,$B87))*0.23,0) -> 0
B88: =Hulpblad!V9 | C88: =IF(AND($A$77=1,$B88<>"",$B88<>" "),(SUMIFS($E$148:$E$164,$B$148:$B$164,$B88)+SUMIFS($I$172:$I$179,$B$172:$B$179,$B88)+SUMIFS($F$187:$F$202,$B$187:$B$202,$B88))*0.23,0) -> 0
B89: =Hulpblad!V10 | C89: =IF(AND($A$77=1,$B89<>"",$B89<>" "),(SUMIFS($E$148:$E$164,$B$148:$B$164,$B89)+SUMIFS($I$172:$I$179,$B$172:$B$179,$B89)+SUMIFS($F$187:$F$202,$B$187:$B$202,$B89))*0.23,0) -> 0
B90: =Hulpblad!V11 | C90: =IF(AND($A$77=1,$B90<>"",$B90<>" "),(SUMIFS($E$148:$E$164,$B$148:$B$164,$B90)+SUMIFS($I$172:$I$179,$B$172:$B$179,$B90)+SUMIFS($F$187:$F$202,$B$187:$B$202,$B90))*0.23,0) -> 0
B91: TOTAAL | C91: =SUM(C81:C90) -> 0
A94: =IF($A$16=0,"",IF(COUNTIFS($A$17:$A$26,B94)=1,1,"nvt")) | B94: =B20 -> Vast uurtarief eigen arbeid - € 50
B95: =IF(A94=1,VLOOKUP(B94,Alle_Kostensoorten[],2,FALSE),VLOOKUP(A94,Alle_Kostensoorten[],2,FALSE)) -> #N/A
B97: Werkpakket | C97: Functie medewerker(s) | D97: Aantal uren totaal | E97: Totale kosten
E98: =IF($A$94=1,$D98*50,0) -> 0
E99: =IF($A$94=1,$D99*50,0) -> 0
E100: =IF($A$94=1,$D100*50,0) -> 0
E101: =IF($A$94=1,$D101*50,0) -> 0
E102: =IF($A$94=1,$D102*50,0) -> 0
E103: =IF($A$94=1,$D103*50,0) -> 0
E104: =IF($A$94=1,$D104*50,0) -> 0
E105: =IF($A$94=1,$D105*50,0) -> 0
E106: =IF($A$94=1,$D106*50,0) -> 0
E107: =IF($A$94=1,$D107*50,0) -> 0
B108: TOTAAL | E108: =SUM(E98:E107) -> 0
A111: =IF($A$16=0,"",IF(COUNTIFS($A$17:$A$26,B111)=1,1,"nvt")) | B111: =B21 -> Vast uurtarief eigen arbeid - € 43
B112: =IF(A111=1,VLOOKUP(B111,Alle_Kostensoorten[],2,FALSE),VLOOKUP(A111,Alle_Kostensoorten[],2,FALSE)) -> #N/A
B114: Werkpakket | C114: Functie medewerker(s) | D114: Aantal uren totaal | E114: Totale kosten
E115: =IF($A$111=1,$D115*43,0) -> 0
E116: =IF($A$111=1,$D116*43,0) -> 0
E117: =IF($A$111=1,$D117*43,0) -> 0
E118: =IF($A$111=1,$D118*43,0) -> 0
E119: =IF($A$111=1,$D119*43,0) -> 0
E120: =IF($A$111=1,$D120*43,0) -> 0
E121: =IF($A$111=1,$D121*43,0) -> 0
E122: =IF($A$111=1,$D122*43,0) -> 0
E123: =IF($A$111=1,$D123*43,0) -> 0
E124: =IF($A$111=1,$D124*43,0) -> 0
B125: TOTAAL | E125: =SUM(E115:E124) -> 0
...

Sheet PP3
I1: Invoervelden | J1: Deze velden kunt u zelf invullen
B2: Naam Partner 3: | I2: Selectievelden | J2: Door met de cursor op het betreffende veld te gaan staan, verschijnt aan de rechterkant een pijltje waarmee u kunt kiezen.
I3: Doorrekenvelden | J3: Deze velden kunt u niet aanpassen
B4: Vestigingsplaats:
B5: KVK-nummer:
B6: Type organisatie:
B7: Omvang organisatie: | D7: *Gebruikersgids bij de definitie van MKB
B11: =IF(COUNTA(C2:D7)<5,"Vul eerst hierboven alle informatie over de projectpartner in.",IF(Projectinformatie!B26="","Er is voor het project nog geen optie gekozen voor het begroten en verantwoorden van de kosten. Kies de optie op tabblad 'Projectinformatie' onder de werkpakketten.",VLOOKUP(Projectinformatie!B26,Hulpblad!R:S,2,FALSE))) -> Vul eerst hierboven alle informatie over de projectpartner in.
B14: Samenvatting kostenbegroting (deze twee tabellen worden automatisch gevuld, u hoeft hier niets in te vullen!)
A16: =IF(OR(COUNTA(C2:D8)<5,Projectinformatie!B26=""),0,1) -> 0 | B16: Kostensoorten | D16: Totale kosten | F16: Werkpakket | H16: Totale kosten
A17: =IFERROR(HLOOKUP(VLOOKUP(Projectinformatie!$B$26,Keuzeopties[#All],3,FALSE)&IF($C$6="Kennisinstelling","K",""),Keuze_Kostensoort[#All],2,FALSE),0) -> Loonkosten plus vast % (44,2% + 15%) | B17: =Hulpblad!G2 -> Loonkosten plus vast % (44,2% + 15%) | D17: =IF(A17=0,0,SUM($G$37:$G$51)) -> 0 | F17: =Hulpblad!V2 | H17: =IF(OR(F17="",F17=" "),"",SUMIFS($G$37:$G$51,$B$37:$B$51,F17)+SUMIFS($G$59:$G$73,$B$59:$B$73,F17)+SUMIFS($C$81:$C$90,$B$81:$B$90,F17)+SUMIFS($E$98:$E$107,$B$98:$B$107,F17)+SUMIFS($I$172:$I$179,$B$172:$B$179,F17)+SUMIFS($E$132:$E$140,$B$132:$B$140,F17)+SUMIFS($E$148:$E$164,$B$148:$B$164,F17)+SUMIFS($E$115:$E$124,$B$115:$B$124,F17)+SUMIFS($F$187:$F$202,$B$187:$B$202,F17)+SUMIFS($C$210:$C$219,$B$210:$B$219,F17))
A18: =IFERROR(HLOOKUP(VLOOKUP(Projectinformatie!$B$26,Keuzeopties[#All],3,FALSE)&IF($C$6="Kennisinstelling","K",""),Keuze_Kostensoort[#All],3,FALSE),0) -> 0 | B18: =Hulpblad!G3 -> Loonkosten plus vast % (44,2%) | D18: =IF(A18=0,0,SUM($G$59:$G$73)) -> 0 | F18: =Hulpblad!V3 | H18: =IF(OR(F18="",F18=" "),"",SUMIFS($G$37:$G$51,$B$37:$B$51,F18)+SUMIFS($G$59:$G$73,$B$59:$B$73,F18)+SUMIFS($C$81:$C$90,$B$81:$B$90,F18)+SUMIFS($E$98:$E$107,$B$98:$B$107,F18)+SUMIFS($I$172:$I$179,$B$172:$B$179,F18)+SUMIFS($E$132:$E$140,$B$132:$B$140,F18)+SUMIFS($E$148:$E$164,$B$148:$B$164,F18)+SUMIFS($E$115:$E$124,$B$115:$B$124,F18)+SUMIFS($F$187:$F$202,$B$187:$B$202,F18)+SUMIFS($C$210:$C$219,$B$210:$B$219,F18))
A19: =IFERROR(HLOOKUP(VLOOKUP(Projectinformatie!$B$26,Keuzeopties[#All],3,FALSE)&IF($C$6="Kennisinstelling","K",""),Keuze_Kostensoort[#All],4,FALSE),0) -> 0 | B19: =Hulpblad!G4 -> Forfait van 23% voor loonkosten en eigen arbeid | D19: =IF(A19=0,0,SUM($C$81:$C$90)) -> 0 | F19: =Hulpblad!V4 | H19: =IF(OR(F19="",F19=" "),"",SUMIFS($G$37:$G$51,$B$37:$B$51,F19)+SUMIFS($G$59:$G$73,$B$59:$B$73,F19)+SUMIFS($C$81:$C$90,$B$81:$B$90,F19)+SUMIFS($E$98:$E$107,$B$98:$B$107,F19)+SUMIFS($I$172:$I$179,$B$172:$B$179,F19)+SUMIFS($E$132:$E$140,$B$132:$B$140,F19)+SUMIFS($E$148:$E$164,$B$148:$B$164,F19)+SUMIFS($E$115:$E$124,$B$115:$B$124,F19)+SUMIFS($F$187:$F$202,$B$187:$B$202,F19)+SUMIFS($C$210:$C$219,$B$210:$B$219,F19))
A20: =IFERROR(HLOOKUP(VLOOKUP(Projectinformatie!$B$26,Keuzeopties[#All],3,FALSE)&IF($C$6="Kennisinstelling","K",""),Keuze_Kostensoort[#All],5,FALSE),0) -> Vast uurtarief eigen arbeid - € 50 | B20: =Hulpblad!G5 -> Vast uurtarief eigen arbeid - € 50 | D20: =IF(A20=0,0,SUM($E$98:$E$107)) -> 0 | F20: =Hulpblad!V5 | H20: =IF(OR(F20="",F20=" "),"",SUMIFS($G$37:$G$51,$B$37:$B$51,F20)+SUMIFS($G$59:$G$73,$B$59:$B$73,F20)+SUMIFS($C$81:$C$90,$B$81:$B$90,F20)+SUMIFS($E$98:$E$107,$B$98:$B$107,F20)+SUMIFS($I$172:$I$179,$B$172:$B$179,F20)+SUMIFS($E$132:$E$140,$B$132:$B$140,F20)+SUMIFS($E$148:$E$164,$B$148:$B$164,F20)+SUMIFS($E$115:$E$124,$B$115:$B$124,F20)+SUMIFS($F$187:$F$202,$B$187:$B$202,F20)+SUMIFS($C$210:$C$219,$B$210:$B$219,F20))
A21: =IFERROR(HLOOKUP(VLOOKUP(Projectinformatie!$B$26,Keuzeopties[#All],3,FALSE)&IF($C$6="Kennisinstelling","K",""),Keuze_Kostensoort[#All],6,FALSE),0) -> 0 | B21: =Hulpblad!G6 -> Vast uurtarief eigen arbeid - € 43 | D21: =IF(A21=0,0,SUM($E$115:$E$124)) -> 0 | F21: =Hulpblad!V6 | H21: =IF(OR(F21="",F21=" "),"",SUMIFS($G$37:$G$51,$B$37:$B$51,F21)+SUMIFS($G$59:$G$73,$B$59:$B$73,F21)+SUMIFS($C$81:$C$90,$B$81:$B$90,F21)+SUMIFS($E$98:$E$107,$B$98:$B$107,F21)+SUMIFS($I$172:$I$179,$B$172:$B$179,F21)+SUMIFS($E$132:$E$140,$B$132:$B$140,F21)+SUMIFS($E$148:$E$164,$B$148:$B$164,F21)+SUMIFS($E$115:$E$124,$B$115:$B$124,F21)+SUMIFS($F$187:$F$202,$B$187:$B$202,F21)+SUMIFS($C$210:$C$219,$B$210:$B$219,F21))
A22: =IFERROR(HLOOKUP(VLOOKUP(Projectinformatie!$B$26,Keuzeopties[#All],3,FALSE)&IF($C$6="Kennisinstelling","K",""),Keuze_Kostensoort[#All],7,FALSE),0) -> 0 | B22: =Hulpblad!G7 -> IKS voor kennisinstellingen | D22: =IF(A22=0,0,SUM($E$132:$E$140)) -> 0 | F22: =Hulpblad!V7 | H22: =IF(OR(F22="",F22=" "),"",SUMIFS($G$37:$G$51,$B$37:$B$51,F22)+SUMIFS($G$59:$G$73,$B$59:$B$73,F22)+SUMIFS($C$81:$C$90,$B$81:$B$90,F22)+SUMIFS($E$98:$E$107,$B$98:$B$107,F22)+SUMIFS($I$172:$I$179,$B$172:$B$179,F22)+SUMIFS($E$132:$E$140,$B$132:$B$140,F22)+SUMIFS($E$148:$E$164,$B$148:$B$164,F22)+SUMIFS($E$115:$E$124,$B$115:$B$124,F22)+SUMIFS($F$187:$F$202,$B$187:$B$202,F22)+SUMIFS($C$210:$C$219,$B$210:$B$219,F22))
A23: =IFERROR(HLOOKUP(VLOOKUP(Projectinformatie!$B$26,Keuzeopties[#All],3,FALSE)&IF($C$6="Kennisinstelling","K",""),Keuze_Kostensoort[#All],8,FALSE),0) -> Bijdragen in natura (niet subsidiabel bij openstelling EIP) | B23: =Hulpblad!G8 -> Bijdragen in natura (niet subsidiabel bij openstelling EIP) | D23: =IF(A23=0,0,SUM($E$148:$E$164)) -> 0 | F23: =Hulpblad!V8 | H23: =IF(OR(F23="",F23=" "),"",SUMIFS($G$37:$G$51,$B$37:$B$51,F23)+SUMIFS($G$59:$G$73,$B$59:$B$73,F23)+SUMIFS($C$81:$C$90,$B$81:$B$90,F23)+SUMIFS($E$98:$E$107,$B$98:$B$107,F23)+SUMIFS($I$172:$I$179,$B$172:$B$179,F23)+SUMIFS($E$132:$E$140,$B$132:$B$140,F23)+SUMIFS($E$148:$E$164,$B$148:$B$164,F23)+SUMIFS($E$115:$E$124,$B$115:$B$124,F23)+SUMIFS($F$187:$F$202,$B$187:$B$202,F23)+SUMIFS($C$210:$C$219,$B$210:$B$219,F23))
A24: =IFERROR(HLOOKUP(VLOOKUP(Projectinformatie!$B$26,Keuzeopties[#All],3,FALSE)&IF(C15="Kennisinstelling","K",""),Keuze_Kostensoort[#All],9,FALSE),0) -> Afschrijvingskosten (niet subsidiabel bij openstelling EIP) | B24: =Hulpblad!G9 -> Afschrijvingskosten (niet subsidiabel bij openstelling EIP) | D24: =IF(A24=0,0,SUM($I$172:$I$179)) -> 0 | F24: =Hulpblad!V9 | H24: =IF(OR(F24="",F24=" "),"",SUMIFS($G$37:$G$51,$B$37:$B$51,F24)+SUMIFS($G$59:$G$73,$B$59:$B$73,F24)+SUMIFS($C$81:$C$90,$B$81:$B$90,F24)+SUMIFS($E$98:$E$107,$B$98:$B$107,F24)+SUMIFS($I$172:$I$179,$B$172:$B$179,F24)+SUMIFS($E$132:$E$140,$B$132:$B$140,F24)+SUMIFS($E$148:$E$164,$B$148:$B$164,F24)+SUMIFS($E$115:$E$124,$B$115:$B$124,F24)+SUMIFS($F$187:$F$202,$B$187:$B$202,F24)+SUMIFS($C$210:$C$219,$B$210:$B$219,F24))
A25: =IFERROR(HLOOKUP(VLOOKUP(Projectinformatie!$B$26,Keuzeopties[#All],3,FALSE)&IF(C16="Kennisinstelling","K",""),Keuze_Kostensoort[#All],10,FALSE),0) -> Andere kosten | B25: =Hulpblad!G10 -> Andere kosten | D25: =IF(A25=0,0,SUM($F$187:$F$202)) -> 0 | F25: =Hulpblad!V10 | H25: =IF(OR(F25="",F25=" "),"",SUMIFS($G$37:$G$51,$B$37:$B$51,F25)+SUMIFS($G$59:$G$73,$B$59:$B$73,F25)+SUMIFS($C$81:$C$90,$B$81:$B$90,F25)+SUMIFS($E$98:$E$107,$B$98:$B$107,F25)+SUMIFS($I$172:$I$179,$B$172:$B$179,F25)+SUMIFS($E$132:$E$140,$B$132:$B$140,F25)+SUMIFS($E$148:$E$164,$B$148:$B$164,F25)+SUMIFS($E$115:$E$124,$B$115:$B$124,F25)+SUMIFS($F$187:$F$202,$B$187:$B$202,F25)+SUMIFS($C$210:$C$219,$B$210:$B$219,F25))
A26: =IFERROR(HLOOKUP(VLOOKUP(Projectinformatie!$B$26,Keuzeopties[#All],3,FALSE)&IF(C17="Kennisinstelling","K",""),Keuze_Kostensoort[#All],11,FALSE),0) -> 0 | B26: =Hulpblad!G11 -> Forfait 40% voor overige kosten | D26: =IF(A26=0,0,SUM($C$210:$C$219)) -> 0 | F26: =Hulpblad!V11 | H26: =IF(OR(F26="",F26=" "),"",SUMIFS($G$37:$G$51,$B$37:$B$51,F26)+SUMIFS($G$59:$G$73,$B$59:$B$73,F26)+SUMIFS($C$81:$C$90,$B$81:$B$90,F26)+SUMIFS($E$98:$E$107,$B$98:$B$107,F26)+SUMIFS($I$172:$I$179,$B$172:$B$179,F26)+SUMIFS($E$132:$E$140,$B$132:$B$140,F26)+SUMIFS($E$148:$E$164,$B$148:$B$164,F26)+SUMIFS($E$115:$E$124,$B$115:$B$124,F26)+SUMIFS($F$187:$F$202,$B$187:$B$202,F26)+SUMIFS($C$210:$C$219,$B$210:$B$219,F26))
B27: TOTAAL | D27: =SUM(D17:D26) -> 0 | F27: TOTAAL | H27: =SUM(H17:H26) -> 0
B29: CHECK: | C29: =IF(D27=H27,IF(C239<>"Ja","Let op: de financiering is nog niet gelijk aan de opgevoerde kosten. Zie ook de financieringstabel onder de kostenbegroting.","De kosten en financiering sluiten op elkaar aan."),"Let op: de totale kosten van bovenstaande tabellen zijn niet aan elkaar gelijk. Waarschijnlijk is bij één of meerdere inputregels nog geen werkpakket geselecteerd. "&"Als een werkpakketnaam gewijzigd is, moet deze opnieuw in de inputregel worden geselecteerd.") -> De kosten en financiering sluiten op elkaar aan.
B31: Kostenbegroting invoertabellen
A33: =IF($A$16=0,"",IF(COUNTIFS($A$17:$A$26,B33)=1,1,"nvt")) | B33: =B17 -> Loonkosten plus vast % (44,2% + 15%)
B34: =IF(A33="nvt",VLOOKUP(A33,Alle_Kostensoorten[],2,FALSE),VLOOKUP(B33,Alle_Kostensoorten[],2,FALSE)) -> Toelichting: Zie voor berekening tabblad 'Instructie'
B36: Werkpakket | C36: Functie medewerker(s) | D36: Jaar | E36: Uurtarief (incl. 15% overhead) | F36: Aantal uren | G36: Totale kosten
G37: =IF($A$33=1,$F37*$E37,0) -> 0
G38: =IF($A$33=1,$F38*$E38,0) -> 0
G39: =IF($A$33=1,$F39*$E39,0) -> 0
G40: =IF($A$33=1,$F40*$E40,0) -> 0
G41: =IF($A$33=1,$F41*$E41,0) -> 0
G42: =IF($A$33=1,$F42*$E42,0) -> 0
G43: =IF($A$33=1,$F43*$E43,0) -> 0
G44: =IF($A$33=1,$F44*$E44,0) -> 0
G45: =IF($A$33=1,$F45*$E45,0) -> 0
G46: =IF($A$33=1,$F46*$E46,0) -> 0
G47: =IF($A$33=1,$F47*$E47,0) -> 0
G48: =IF($A$33=1,$F48*$E48,0) -> 0
... G51: =IF($A$33=1,$F51*$E51,0) -> 0
B52: TOTAAL | G52: =SUM(G37:G51) -> 0
A55: =IF($A$16=0,"",IF(COUNTIFS($A$17:$A$26,B55)=1,1,"nvt")) | B55: =B18 -> Loonkosten plus vast % (44,2%)
B56: =IF(A55="nvt",VLOOKUP(A55,Alle_Kostensoorten[],2,FALSE),VLOOKUP(B55,Alle_Kostensoorten[],2,FALSE)) -> Toelichting: Zie voor berekening tabblad 'Instructie'
B58: Werkpakket | C58: Functie medewerker(s) | D58: Jaar | E58: Uurtarief | F58: Aantal uren | G58: Totale kosten
G59: =IF($A$55=1,$F59*$E59,0) -> 0
G60: =IF($A$55=1,$F60*55,0) -> 0
G61: =IF($A$55=1,$F61*55,0) -> 0
G62: =IF($A$55=1,$F62*55,0) -> 0
G63: =IF($A$55=1,$F63*55,0) -> 0
G64: =IF($A$55=1,$F64*55,0) -> 0
G65: =IF($A$55=1,$F65*55,0) -> 0
G66: =IF($A$55=1,$F66*55,0) -> 0
G67: =IF($A$55=1,$F67*55,0) -> 0
G68: =IF($A$55=1,$F68*55,0) -> 0
G69: =IF($A$55=1,$F69*55,0) -> 0
G70: =IF($A$55=1,$F70*55,0) -> 0
G71: =IF($A$55=1,$F71*55,0) -> 0
... G73: =IF($A$55=1,$F73*55,0) -> 0
B74: TOTAAL | G74: =SUM(G59:G73) -> 0
A77: =IF($A$16=0,"",IF(COUNTIFS($A$17:$A$26,B77)=1,1,"nvt")) | B77: =B19 -> Forfait van 23% voor loonkosten en eigen arbeid
B78: =IF(A77=1,VLOOKUP(B77,Alle_Kostensoorten[],2,FALSE),VLOOKUP(A77,Alle_Kostensoorten[],2,FALSE)) -> #N/A
B80: Werkpakket | C80: Totale kosten
B81: =Hulpblad!V2 | C81: =IF(AND($A$77=1,$B81<>"",$B81<>" "),(SUMIFS($E$148:$E$164,$B$148:$B$164,$B81)+SUMIFS($I$172:$I$179,$B$172:$B$179,$B81)+SUMIFS($F$187:$F$202,$B$187:$B$202,$B81))*0.23,0) -> 0
B82: =Hulpblad!V3 | C82: =IF(AND($A$77=1,$B82<>"",$B82<>" "),(SUMIFS($E$148:$E$164,$B$148:$B$164,$B82)+SUMIFS($I$172:$I$179,$B$172:$B$179,$B82)+SUMIFS($F$187:$F$202,$B$187:$B$202,$B82))*0.23,0) -> 0
B83: =Hulpblad!V4 | C83: =IF(AND($A$77=1,$B83<>"",$B83<>" "),(SUMIFS($E$148:$E$164,$B$148:$B$164,$B83)+SUMIFS($I$172:$I$179,$B$172:$B$179,$B83)+SUMIFS($F$187:$F$202,$B$187:$B$202,$B83))*0.23,0) -> 0
B84: =Hulpblad!V5 | C84: =IF(AND($A$77=1,$B84<>"",$B84<>" "),(SUMIFS($E$148:$E$164,$B$148:$B$164,$B84)+SUMIFS($I$172:$I$179,$B$172:$B$179,$B84)+SUMIFS($F$187:$F$202,$B$187:$B$202,$B84))*0.23,0) -> 0
B85: =Hulpblad!V6 | C85: =IF(AND($A$77=1,$B85<>"",$B85<>" "),(SUMIFS($E$148:$E$164,$B$148:$B$164,$B85)+SUMIFS($I$172:$I$179,$B$172:$B$179,$B85)+SUMIFS($F$187:$F$202,$B$187:$B$202,$B85))*0.23,0) -> 0
B86: =Hulpblad!V7 | C86: =IF(AND($A$77=1,$B86<>"",$B86<>" "),(SUMIFS($E$148:$E$164,$B$148:$B$164,$B86)+SUMIFS($I$172:$I$179,$B$172:$B$179,$B86)+SUMIFS($F$187:$F$202,$B$187:$B$202,$B86))*0.23,0) -> 0
B87: =Hulpblad!V8 | C87: =IF(AND($A$77=1,$B87<>"",$B87<>" "),(SUMIFS($E$148:$E$164,$B$148:$B$164,$B87)+SUMIFS($I$172:$I$179,$B$172:$B$179,$B87)+SUMIFS($F$187:$F$202,$B$187:$B$202,$B87))*0.23,0) -> 0
B88: =Hulpblad!V9 | C88: =IF(AND($A$77=1,$B88<>"",$B88<>" "),(SUMIFS($E$148:$E$164,$B$148:$B$164,$B88)+SUMIFS($I$172:$I$179,$B$172:$B$179,$B88)+SUMIFS($F$187:$F$202,$B$187:$B$202,$B88))*0.23,0) -> 0
B89: =Hulpblad!V10 | C89: =IF(AND($A$77=1,$B89<>"",$B89<>" "),(SUMIFS($E$148:$E$164,$B$148:$B$164,$B89)+SUMIFS($I$172:$I$179,$B$172:$B$179,$B89)+SUMIFS($F$187:$F$202,$B$187:$B$202,$B89))*0.23,0) -> 0
B90: =Hulpblad!V11 | C90: =IF(AND($A$77=1,$B90<>"",$B90<>" "),(SUMIFS($E$148:$E$164,$B$148:$B$164,$B90)+SUMIFS($I$172:$I$179,$B$172:$B$179,$B90)+SUMIFS($F$187:$F$202,$B$187:$B$202,$B90))*0.23,0) -> 0
B91: TOTAAL | C91: =SUM(C81:C90) -> 0
A94: =IF($A$16=0,"",IF(COUNTIFS($A$17:$A$26,B94)=1,1,"nvt")) | B94: =B20 -> Vast uurtarief eigen arbeid - € 50
B95: =IF(A94=1,VLOOKUP(B94,Alle_Kostensoorten[],2,FALSE),VLOOKUP(A94,Alle_Kostensoorten[],2,FALSE)) -> #N/A
B97: Werkpakket | C97: Functie medewerker(s) | D97: Aantal uren totaal | E97: Totale kosten
E98: =IF($A$94=1,$D98*50,0) -> 0
E99: =IF($A$94=1,$D99*50,0) -> 0
E100: =IF($A$94=1,$D100*50,0) -> 0
E101: =IF($A$94=1,$D101*50,0) -> 0
E102: =IF($A$94=1,$D102*50,0) -> 0
E103: =IF($A$94=1,$D103*50,0) -> 0
E104: =IF($A$94=1,$D104*50,0) -> 0
E105: =IF($A$94=1,$D105*50,0) -> 0
E106: =IF($A$94=1,$D106*50,0) -> 0
E107: =IF($A$94=1,$D107*50,0) -> 0
B108: TOTAAL | E108: =SUM(E98:E107) -> 0
A111: =IF($A$16=0,"",IF(COUNTIFS($A$17:$A$26,B111)=1,1,"nvt")) | B111: =B21 -> Vast uurtarief eigen arbeid - € 43
B112: =IF(A111=1,VLOOKUP(B111,Alle_Kostensoorten[],2,FALSE),VLOOKUP(A111,Alle_Kostensoorten[],2,FALSE)) -> #N/A
B114: Werkpakket | C114: Functie medewerker(s) | D114: Aantal uren totaal | E114: Totale kosten
E115: =IF($A$111=1,$D115*43,0) -> 0
E116: =IF($A$111=1,$D116*43,0) -> 0
E117: =IF($A$111=1,$D117*43,0) -> 0
E118: =IF($A$111=1,$D118*43,0) -> 0
E119: =IF($A$111=1,$D119*43,0) -> 0
E120: =IF($A$111=1,$D120*43,0) -> 0
E121: =IF($A$111=1,$D121*43,0) -> 0
E122: =IF($A$111=1,$D122*43,0) -> 0
E123: =IF($A$111=1,$D123*43,0) -> 0
E124: =IF($A$111=1,$D124*43,0) -> 0
B125: TOTAAL | E125: =SUM(E115:E124) -> 0
...

Sheet PP4
I1: Invoervelden | J1: Deze velden kunt u zelf invullen
B2: Naam Partner 4: | I2: Selectievelden | J2: Door met de cursor op het betreffende veld te gaan staan, verschijnt aan de rechterkant een pijltje waarmee u kunt kiezen.
I3: Doorrekenvelden | J3: Deze velden kunt u niet aanpassen
B4: Vestigingsplaats:
B5: KVK-nummer:
B6: Type organisatie:
B7: Omvang organisatie: | D7: *Gebruikersgids bij de definitie van MKB
B11: =IF(COUNTA(C2:D7)<5,"Vul eerst hierboven alle informatie over de projectpartner in.",IF(Projectinformatie!B26="","Er is voor het project nog geen optie gekozen voor het begroten en verantwoorden van de kosten. Kies de optie op tabblad 'Projectinformatie' onder de werkpakketten.",VLOOKUP(Projectinformatie!B26,Hulpblad!R:S,2,FALSE))) -> Vul eerst hierboven alle informatie over de projectpartner in.
B14: Samenvatting kostenbegroting (deze twee tabellen worden automatisch gevuld, u hoeft hier niets in te vullen!)
A16: =IF(OR(COUNTA(C2:D8)<5,Projectinformatie!B26=""),0,1) -> 0 | B16: Kostensoorten | D16: Totale kosten | F16: Werkpakket | H16: Totale kosten
A17: =IFERROR(HLOOKUP(VLOOKUP(Projectinformatie!$B$26,Keuzeopties[#All],3,FALSE)&IF($C$6="Kennisinstelling","K",""),Keuze_Kostensoort[#All],2,FALSE),0) -> Loonkosten plus vast % (44,2% + 15%) | B17: =Hulpblad!G2 -> Loonkosten plus vast % (44,2% + 15%) | D17: =IF(A17=0,0,SUM($G$37:$G$51)) -> 0 | F17: =Hulpblad!V2 | H17: =IF(OR(F17="",F17=" "),"",SUMIFS($G$37:$G$51,$B$37:$B$51,F17)+SUMIFS($G$59:$G$73,$B$59:$B$73,F17)+SUMIFS($C$81:$C$90,$B$81:$B$90,F17)+SUMIFS($E$98:$E$107,$B$98:$B$107,F17)+SUMIFS($I$172:$I$179,$B$172:$B$179,F17)+SUMIFS($E$132:$E$140,$B$132:$B$140,F17)+SUMIFS($E$148:$E$164,$B$148:$B$164,F17)+SUMIFS($E$115:$E$124,$B$115:$B$124,F17)+SUMIFS($F$187:$F$202,$B$187:$B$202,F17)+SUMIFS($C$210:$C$219,$B$210:$B$219,F17))
A18: =IFERROR(HLOOKUP(VLOOKUP(Projectinformatie!$B$26,Keuzeopties[#All],3,FALSE)&IF($C$6="Kennisinstelling","K",""),Keuze_Kostensoort[#All],3,FALSE),0) -> 0 | B18: =Hulpblad!G3 -> Loonkosten plus vast % (44,2%) | D18: =IF(A18=0,0,SUM($G$59:$G$73)) -> 0 | F18: =Hulpblad!V3 | H18: =IF(OR(F18="",F18=" "),"",SUMIFS($G$37:$G$51,$B$37:$B$51,F18)+SUMIFS($G$59:$G$73,$B$59:$B$73,F18)+SUMIFS($C$81:$C$90,$B$81:$B$90,F18)+SUMIFS($E$98:$E$107,$B$98:$B$107,F18)+SUMIFS($I$172:$I$179,$B$172:$B$179,F18)+SUMIFS($E$132:$E$140,$B$132:$B$140,F18)+SUMIFS($E$148:$E$164,$B$148:$B$164,F18)+SUMIFS($E$115:$E$124,$B$115:$B$124,F18)+SUMIFS($F$187:$F$202,$B$187:$B$202,F18)+SUMIFS($C$210:$C$219,$B$210:$B$219,F18))
A19: =IFERROR(HLOOKUP(VLOOKUP(Projectinformatie!$B$26,Keuzeopties[#All],3,FALSE)&IF($C$6="Kennisinstelling","K",""),Keuze_Kostensoort[#All],4,FALSE),0) -> 0 | B19: =Hulpblad!G4 -> Forfait van 23% voor loonkosten en eigen arbeid | D19: =IF(A19=0,0,SUM($C$81:$C$90)) -> 0 | F19: =Hulpblad!V4 | H19: =IF(OR(F19="",F19=" "),"",SUMIFS($G$37:$G$51,$B$37:$B$51,F19)+SUMIFS($G$59:$G$73,$B$59:$B$73,F19)+SUMIFS($C$81:$C$90,$B$81:$B$90,F19)+SUMIFS($E$98:$E$107,$B$98:$B$107,F19)+SUMIFS($I$172:$I$179,$B$172:$B$179,F19)+SUMIFS($E$132:$E$140,$B$132:$B$140,F19)+SUMIFS($E$148:$E$164,$B$148:$B$164,F19)+SUMIFS($E$115:$E$124,$B$115:$B$124,F19)+SUMIFS($F$187:$F$202,$B$187:$B$202,F19)+SUMIFS($C$210:$C$219,$B$210:$B$219,F19))
A20: =IFERROR(HLOOKUP(VLOOKUP(Projectinformatie!$B$26,Keuzeopties[#All],3,FALSE)&IF($C$6="Kennisinstelling","K",""),Keuze_Kostensoort[#All],5,FALSE),0) -> Vast uurtarief eigen arbeid - € 50 | B20: =Hulpblad!G5 -> Vast uurtarief eigen arbeid - € 50 | D20: =IF(A20=0,0,SUM($E$98:$E$107)) -> 0 | F20: =Hulpblad!V5 | H20: =IF(OR(F20="",F20=" "),"",SUMIFS($G$37:$G$51,$B$37:$B$51,F20)+SUMIFS($G$59:$G$73,$B$59:$B$73,F20)+SUMIFS($C$81:$C$90,$B$81:$B$90,F20)+SUMIFS($E$98:$E$107,$B$98:$B$107,F20)+SUMIFS($I$172:$I$179,$B$172:$B$179,F20)+SUMIFS($E$132:$E$140,$B$132:$B$140,F20)+SUMIFS($E$148:$E$164,$B$148:$B$164,F20)+SUMIFS($E$115:$E$124,$B$115:$B$124,F20)+SUMIFS($F$187:$F$202,$B$187:$B$202,F20)+SUMIFS($C$210:$C$219,$B$210:$B$219,F20))
A21: =IFERROR(HLOOKUP(VLOOKUP(Projectinformatie!$B$26,Keuzeopties[#All],3,FALSE)&IF($C$6="Kennisinstelling","K",""),Keuze_Kostensoort[#All],6,FALSE),0) -> 0 | B21: =Hulpblad!G6 -> Vast uurtarief eigen arbeid - € 43 | D21: =IF(A21=0,0,SUM($E$115:$E$124)) -> 0 | F21: =Hulpblad!V6 | H21: =IF(OR(F21="",F21=" "),"",SUMIFS($G$37:$G$51,$B$37:$B$51,F21)+SUMIFS($G$59:$G$73,$B$59:$B$73,F21)+SUMIFS($C$81:$C$90,$B$81:$B$90,F21)+SUMIFS($E$98:$E$107,$B$98:$B$107,F21)+SUMIFS($I$172:$I$179,$B$172:$B$179,F21)+SUMIFS($E$132:$E$140,$B$132:$B$140,F21)+SUMIFS($E$148:$E$164,$B$148:$B$164,F21)+SUMIFS($E$115:$E$124,$B$115:$B$124,F21)+SUMIFS($F$187:$F$202,$B$187:$B$202,F21)+SUMIFS($C$210:$C$219,$B$210:$B$219,F21))
A22: =IFERROR(HLOOKUP(VLOOKUP(Projectinformatie!$B$26,Keuzeopties[#All],3,FALSE)&IF($C$6="Kennisinstelling","K",""),Keuze_Kostensoort[#All],7,FALSE),0) -> 0 | B22: =Hulpblad!G7 -> IKS voor kennisinstellingen | D22: =IF(A22=0,0,SUM($E$132:$E$140)) -> 0 | F22: =Hulpblad!V7 | H22: =IF(OR(F22="",F22=" "),"",SUMIFS($G$37:$G$51,$B$37:$B$51,F22)+SUMIFS($G$59:$G$73,$B$59:$B$73,F22)+SUMIFS($C$81:$C$90,$B$81:$B$90,F22)+SUMIFS($E$98:$E$107,$B$98:$B$107,F22)+SUMIFS($I$172:$I$179,$B$172:$B$179,F22)+SUMIFS($E$132:$E$140,$B$132:$B$140,F22)+SUMIFS($E$148:$E$164,$B$148:$B$164,F22)+SUMIFS($E$115:$E$124,$B$115:$B$124,F22)+SUMIFS($F$187:$F$202,$B$187:$B$202,F22)+SUMIFS($C$210:$C$219,$B$210:$B$219,F22))
A23: =IFERROR(HLOOKUP(VLOOKUP(Projectinformatie!$B$26,Keuzeopties[#All],3,FALSE)&IF($C$6="Kennisinstelling","K",""),Keuze_Kostensoort[#All],8,FALSE),0) -> Bijdragen in natura (niet subsidiabel bij openstelling EIP) | B23: =Hulpblad!G8 -> Bijdragen in natura (niet subsidiabel bij openstelling EIP) | D23: =IF(A23=0,0,SUM($E$148:$E$164)) -> 0 | F23: =Hulpblad!V8 | H23: =IF(OR(F23="",F23=" "),"",SUMIFS($G$37:$G$51,$B$37:$B$51,F23)+SUMIFS($G$59:$G$73,$B$59:$B$73,F23)+SUMIFS($C$81:$C$90,$B$81:$B$90,F23)+SUMIFS($E$98:$E$107,$B$98:$B$107,F23)+SUMIFS($I$172:$I$179,$B$172:$B$179,F23)+SUMIFS($E$132:$E$140,$B$132:$B$140,F23)+SUMIFS($E$148:$E$164,$B$148:$B$164,F23)+SUMIFS($E$115:$E$124,$B$115:$B$124,F23)+SUMIFS($F$187:$F$202,$B$187:$B$202,F23)+SUMIFS($C$210:$C$219,$B$210:$B$219,F23))
A24: =IFERROR(HLOOKUP(VLOOKUP(Projectinformatie!$B$26,Keuzeopties[#All],3,FALSE)&IF(C15="Kennisinstelling","K",""),Keuze_Kostensoort[#All],9,FALSE),0) -> Afschrijvingskosten (niet subsidiabel bij openstelling EIP) | B24: =Hulpblad!G9 -> Afschrijvingskosten (niet subsidiabel bij openstelling EIP) | D24: =IF(A24=0,0,SUM($I$172:$I$179)) -> 0 | F24: =Hulpblad!V9 | H24: =IF(OR(F24="",F24=" "),"",SUMIFS($G$37:$G$51,$B$37:$B$51,F24)+SUMIFS($G$59:$G$73,$B$59:$B$73,F24)+SUMIFS($C$81:$C$90,$B$81:$B$90,F24)+SUMIFS($E$98:$E$107,$B$98:$B$107,F24)+SUMIFS($I$172:$I$179,$B$172:$B$179,F24)+SUMIFS($E$132:$E$140,$B$132:$B$140,F24)+SUMIFS($E$148:$E$164,$B$148:$B$164,F24)+SUMIFS($E$115:$E$124,$B$115:$B$124,F24)+SUMIFS($F$187:$F$202,$B$187:$B$202,F24)+SUMIFS($C$210:$C$219,$B$210:$B$219,F24))
A25: =IFERROR(HLOOKUP(VLOOKUP(Projectinformatie!$B$26,Keuzeopties[#All],3,FALSE)&IF(C16="Kennisinstelling","K",""),Keuze_Kostensoort[#All],10,FALSE),0) -> Andere kosten | B25: =Hulpblad!G10 -> Andere kosten | D25: =IF(A25=0,0,SUM($F$187:$F$202)) -> 0 | F25: =Hulpblad!V10 | H25: =IF(OR(F25="",F25=" "),"",SUMIFS($G$37:$G$51,$B$37:$B$51,F25)+SUMIFS($G$59:$G$73,$B$59:$B$73,F25)+SUMIFS($C$81:$C$90,$B$81:$B$90,F25)+SUMIFS($E$98:$E$107,$B$98:$B$107,F25)+SUMIFS($I$172:$I$179,$B$172:$B$179,F25)+SUMIFS($E$132:$E$140,$B$132:$B$140,F25)+SUMIFS($E$148:$E$164,$B$148:$B$164,F25)+SUMIFS($E$115:$E$124,$B$115:$B$124,F25)+SUMIFS($F$187:$F$202,$B$187:$B$202,F25)+SUMIFS($C$210:$C$219,$B$210:$B$219,F25))
A26: =IFERROR(HLOOKUP(VLOOKUP(Projectinformatie!$B$26,Keuzeopties[#All],3,FALSE)&IF(C17="Kennisinstelling","K",""),Keuze_Kostensoort[#All],11,FALSE),0) -> 0 | B26: =Hulpblad!G11 -> Forfait 40% voor overige kosten | D26: =IF(A26=0,0,SUM($C$210:$C$219)) -> 0 | F26: =Hulpblad!V11 | H26: =IF(OR(F26="",F26=" "),"",SUMIFS($G$37:$G$51,$B$37:$B$51,F26)+SUMIFS($G$59:$G$73,$B$59:$B$73,F26)+SUMIFS($C$81:$C$90,$B$81:$B$90,F26)+SUMIFS($E$98:$E$107,$B$98:$B$107,F26)+SUMIFS($I$172:$I$179,$B$172:$B$179,F26)+SUMIFS($E$132:$E$140,$B$132:$B$140,F26)+SUMIFS($E$148:$E$164,$B$148:$B$164,F26)+SUMIFS($E$115:$E$124,$B$115:$B$124,F26)+SUMIFS($F$187:$F$202,$B$187:$B$202,F26)+SUMIFS($C$210:$C$219,$B$210:$B$219,F26))
B27: TOTAAL | D27: =SUM(D17:D26) -> 0 | F27: TOTAAL | H27: =SUM(H17:H26) -> 0
B29: CHECK: | C29: =IF(D27=H27,IF(C239<>"Ja","Let op: de financiering is nog niet gelijk aan de opgevoerde kosten. Zie ook de financieringstabel onder de kostenbegroting.","De kosten en financiering sluiten op elkaar aan."),"Let op: de totale kosten van bovenstaande tabellen zijn niet aan elkaar gelijk. Waarschijnlijk is bij één of meerdere inputregels nog geen werkpakket geselecteerd. "&"Als een werkpakketnaam gewijzigd is, moet deze opnieuw in de inputregel worden geselecteerd.") -> De kosten en financiering sluiten op elkaar aan.
B31: Kostenbegroting invoertabellen
A33: =IF($A$16=0,"",IF(COUNTIFS($A$17:$A$26,B33)=1,1,"nvt")) | B33: =B17 -> Loonkosten plus vast % (44,2% + 15%)
B34: =IF(A33="nvt",VLOOKUP(A33,Alle_Kostensoorten[],2,FALSE),VLOOKUP(B33,Alle_Kostensoorten[],2,FALSE)) -> Toelichting: Zie voor berekening tabblad 'Instructie'
B36: Werkpakket | C36: Functie medewerker(s) | D36: Jaar | E36: Uurtarief (incl. 15% overhead) | F36: Aantal uren | G36: Totale kosten
G37: =IF($A$33=1,$F37*$E37,0) -> 0
G38: =IF($A$33=1,$F38*$E38,0) -> 0
G39: =IF($A$33=1,$F39*$E39,0) -> 0
G40: =IF($A$33=1,$F40*$E40,0) -> 0
G41: =IF($A$33=1,$F41*$E41,0) -> 0
G42: =IF($A$33=1,$F42*$E42,0) -> 0
G43: =IF($A$33=1,$F43*$E43,0) -> 0
G44: =IF($A$33=1,$F44*$E44,0) -> 0
G45: =IF($A$33=1,$F45*$E45,0) -> 0
G46: =IF($A$33=1,$F46*$E46,0) -> 0
G47: =IF($A$33=1,$F47*$E47,0) -> 0
G48: =IF($A$33=1,$F48*$E48,0) -> 0
... G51: =IF($A$33=1,$F51*$E51,0) -> 0
B52: TOTAAL | G52: =SUM(G37:G51) -> 0
A55: =IF($A$16=0,"",IF(COUNTIFS($A$17:$A$26,B55)=1,1,"nvt")) | B55: =B18 -> Loonkosten plus vast % (44,2%)
B56: =IF(A55="nvt",VLOOKUP(A55,Alle_Kostensoorten[],2,FALSE),VLOOKUP(B55,Alle_Kostensoorten[],2,FALSE)) -> Toelichting: Zie voor berekening tabblad 'Instructie'
B58: Werkpakket | C58: Functie medewerker(s) | D58: Jaar | E58: Uurtarief | F58: Aantal uren | G58: Totale kosten
G59: =IF($A$55=1,$F59*$E59,0) -> 0
G60: =IF($A$55=1,$F60*55,0) -> 0
G61: =IF($A$55=1,$F61*55,0) -> 0
G62: =IF($A$55=1,$F62*55,0) -> 0
G63: =IF($A$55=1,$F63*55,0) -> 0
G64: =IF($A$55=1,$F64*55,0) -> 0
G65: =IF($A$55=1,$F65*55,0) -> 0
G66: =IF($A$55=1,$F66*55,0) -> 0
G67: =IF($A$55=1,$F67*55,0) -> 0
G68: =IF($A$55=1,$F68*55,0) -> 0
G69: =IF($A$55=1,$F69*55,0) -> 0
G70: =IF($A$55=1,$F70*55,0) -> 0
G71: =IF($A$55=1,$F71*55,0) -> 0
... G73: =IF($A$55=1,$F73*55,0) -> 0
B74: TOTAAL | G74: =SUM(G59:G73) -> 0
A77: =IF($A$16=0,"",IF(COUNTIFS($A$17:$A$26,B77)=1,1,"nvt")) | B77: =B19 -> Forfait van 23% voor loonkosten en eigen arbeid
B78: =IF(A77=1,VLOOKUP(B77,Alle_Kostensoorten[],2,FALSE),VLOOKUP(A77,Alle_Kostensoorten[],2,FALSE)) -> #N/A
B80: Werkpakket | C80: Totale kosten
B81: =Hulpblad!V2 | C81: =IF(AND($A$77=1,$B81<>"",$B81<>" "),(SUMIFS($E$148:$E$164,$B$148:$B$164,$B81)+SUMIFS($I$172:$I$179,$B$172:$B$179,$B81)+SUMIFS($F$187:$F$202,$B$187:$B$202,$B81))*0.23,0) -> 0
B82: =Hulpblad!V3 | C82: =IF(AND($A$77=1,$B82<>"",$B82<>" "),(SUMIFS($E$148:$E$164,$B$148:$B$164,$B82)+SUMIFS($I$172:$I$179,$B$172:$B$179,$B82)+SUMIFS($F$187:$F$202,$B$187:$B$202,$B82))*0.23,0) -> 0
B83: =Hulpblad!V4 | C83: =IF(AND($A$77=1,$B83<>"",$B83<>" "),(SUMIFS($E$148:$E$164,$B$148:$B$164,$B83)+SUMIFS($I$172:$I$179,$B$172:$B$179,$B83)+SUMIFS($F$187:$F$202,$B$187:$B$202,$B83))*0.23,0) -> 0
B84: =Hulpblad!V5 | C84: =IF(AND($A$77=1,$B84<>"",$B84<>" "),(SUMIFS($E$148:$E$164,$B$148:$B$164,$B84)+SUMIFS($I$172:$I$179,$B$172:$B$179,$B84)+SUMIFS($F$187:$F$202,$B$187:$B$202,$B84))*0.23,0) -> 0
B85: =Hulpblad!V6 | C85: =IF(AND($A$77=1,$B85<>"",$B85<>" "),(SUMIFS($E$148:$E$164,$B$148:$B$164,$B85)+SUMIFS($I$172:$I$179,$B$172:$B$179,$B85)+SUMIFS($F$187:$F$202,$B$187:$B$202,$B85))*0.23,0) -> 0
B86: =Hulpblad!V7 | C86: =IF(AND($A$77=1,$B86<>"",$B86<>" "),(SUMIFS($E$148:$E$164,$B$148:$B$164,$B86)+SUMIFS($I$172:$I$179,$B$172:$B$179,$B86)+SUMIFS($F$187:$F$202,$B$187:$B$202,$B86))*0.23,0) -> 0
B87: =Hulpblad!V8 | C87: =IF(AND($A$77=1,$B87<>"",$B87<>" "),(SUMIFS($E$148:$E$164,$B$148:$B$164,$B87)+SUMIFS($I$172:$I$179,$B$172:$B$179,$B87)+SUMIFS($F$187:$F$202,$B$187:$B$202,$B87))*0.23,0) -> 0
B88: =Hulpblad!V9 | C88: =IF(AND($A$77=1,$B88<>"",$B88<>" "),(SUMIFS($E$148:$E$164,$B$148:$B$164,$B88)+SUMIFS($I$172:$I$179,$B$172:$B$179,$B88)+SUMIFS($F$187:$F$202,$B$187:$B$202,$B88))*0.23,0) -> 0
B89: =Hulpblad!V10 | C89: =IF(AND($A$77=1,$B89<>"",$B89<>" "),(SUMIFS($E$148:$E$164,$B$148:$B$164,$B89)+SUMIFS($I$172:$I$179,$B$172:$B$179,$B89)+SUMIFS($F$187:$F$202,$B$187:$B$202,$B89))*0.23,0) -> 0
B90: =Hulpblad!V11 | C90: =IF(AND($A$77=1,$B90<>"",$B90<>" "),(SUMIFS($E$148:$E$164,$B$148:$B$164,$B90)+SUMIFS($I$172:$I$179,$B$172:$B$179,$B90)+SUMIFS($F$187:$F$202,$B$187:$B$202,$B90))*0.23,0) -> 0
B91: TOTAAL | C91: =SUM(C81:C90) -> 0
A94: =IF($A$16=0,"",IF(COUNTIFS($A$17:$A$26,B94)=1,1,"nvt")) | B94: =B20 -> Vast uurtarief eigen arbeid - € 50
B95: =IF(A94=1,VLOOKUP(B94,Alle_Kostensoorten[],2,FALSE),VLOOKUP(A94,Alle_Kostensoorten[],2,FALSE)) -> #N/A
B97: Werkpakket | C97: Functie medewerker(s) | D97: Aantal uren totaal | E97: Totale kosten
E98: =IF($A$94=1,$D98*50,0) -> 0
E99: =IF($A$94=1,$D99*50,0) -> 0
E100: =IF($A$94=1,$D100*50,0) -> 0
E101: =IF($A$94=1,$D101*50,0) -> 0
E102: =IF($A$94=1,$D102*50,0) -> 0
E103: =IF($A$94=1,$D103*50,0) -> 0
E104: =IF($A$94=1,$D104*50,0) -> 0
E105: =IF($A$94=1,$D105*50,0) -> 0
E106: =IF($A$94=1,$D106*50,0) -> 0
E107: =IF($A$94=1,$D107*50,0) -> 0
B108: TOTAAL | E108: =SUM(E98:E107) -> 0
A111: =IF($A$16=0,"",IF(COUNTIFS($A$17:$A$26,B111)=1,1,"nvt")) | B111: =B21 -> Vast uurtarief eigen arbeid - € 43
B112: =IF(A111=1,VLOOKUP(B111,Alle_Kostensoorten[],2,FALSE),VLOOKUP(A111,Alle_Kostensoorten[],2,FALSE)) -> #N/A
B114: Werkpakket | C114: Functie medewerker(s) | D114: Aantal uren totaal | E114: Totale kosten
E115: =IF($A$111=1,$D115*43,0) -> 0
E116: =IF($A$111=1,$D116*43,0) -> 0
E117: =IF($A$111=1,$D117*43,0) -> 0
E118: =IF($A$111=1,$D118*43,0) -> 0
E119: =IF($A$111=1,$D119*43,0) -> 0
E120: =IF($A$111=1,$D120*43,0) -> 0
E121: =IF($A$111=1,$D121*43,0) -> 0
E122: =IF($A$111=1,$D122*43,0) -> 0
E123: =IF($A$111=1,$D123*43,0) -> 0
E124: =IF($A$111=1,$D124*43,0) -> 0
B125: TOTAAL | E125: =SUM(E115:E124) -> 0
...

Sheet PP5
I1: Invoervelden | J1: Deze velden kunt u zelf invullen
B2: Naam Partner 5: | I2: Selectievelden | J2: Door met de cursor op het betreffende veld te gaan staan, verschijnt aan de rechterkant een pijltje waarmee u kunt kiezen.
I3: Doorrekenvelden | J3: Deze velden kunt u niet aanpassen
B4: Vestigingsplaats:
B5: KVK-nummer:
B6: Type organisatie:
B7: Omvang organisatie: | D7: *Gebruikersgids bij de definitie van MKB
B11: =IF(COUNTA(C2:D7)<5,"Vul eerst hierboven alle informatie over de projectpartner in.",IF(Projectinformatie!B26="","Er is voor het project nog geen optie gekozen voor het begroten en verantwoorden van de kosten. Kies de optie op tabblad 'Projectinformatie' onder de werkpakketten.",VLOOKUP(Projectinformatie!B26,Hulpblad!R:S,2,FALSE))) -> Vul eerst hierboven alle informatie over de projectpartner in.
B14: Samenvatting kostenbegroting (deze twee tabellen worden automatisch gevuld, u hoeft hier niets in te vullen!)
A16: =IF(OR(COUNTA(C2:D8)<5,Projectinformatie!B26=""),0,1) -> 0 | B16: Kostensoorten | D16: Totale kosten | F16: Werkpakket | H16: Totale kosten
A17: =IFERROR(HLOOKUP(VLOOKUP(Projectinformatie!$B$26,Keuzeopties[#All],3,FALSE)&IF($C$6="Kennisinstelling","K",""),Keuze_Kostensoort[#All],2,FALSE),0) -> Loonkosten plus vast % (44,2% + 15%) | B17: =Hulpblad!G2 -> Loonkosten plus vast % (44,2% + 15%) | D17: =IF(A17=0,0,SUM($G$37:$G$51)) -> 0 | F17: =Hulpblad!V2 | H17: =IF(OR(F17="",F17=" "),"",SUMIFS($G$37:$G$51,$B$37:$B$51,F17)+SUMIFS($G$59:$G$73,$B$59:$B$73,F17)+SUMIFS($C$81:$C$90,$B$81:$B$90,F17)+SUMIFS($E$98:$E$107,$B$98:$B$107,F17)+SUMIFS($I$172:$I$179,$B$172:$B$179,F17)+SUMIFS($E$132:$E$140,$B$132:$B$140,F17)+SUMIFS($E$148:$E$164,$B$148:$B$164,F17)+SUMIFS($E$115:$E$124,$B$115:$B$124,F17)+SUMIFS($F$187:$F$202,$B$187:$B$202,F17)+SUMIFS($C$210:$C$219,$B$210:$B$219,F17))
A18: =IFERROR(HLOOKUP(VLOOKUP(Projectinformatie!$B$26,Keuzeopties[#All],3,FALSE)&IF($C$6="Kennisinstelling","K",""),Keuze_Kostensoort[#All],3,FALSE),0) -> 0 | B18: =Hulpblad!G3 -> Loonkosten plus vast % (44,2%) | D18: =IF(A18=0,0,SUM($G$59:$G$73)) -> 0 | F18: =Hulpblad!V3 | H18: =IF(OR(F18="",F18=" "),"",SUMIFS($G$37:$G$51,$B$37:$B$51,F18)+SUMIFS($G$59:$G$73,$B$59:$B$73,F18)+SUMIFS($C$81:$C$90,$B$81:$B$90,F18)+SUMIFS($E$98:$E$107,$B$98:$B$107,F18)+SUMIFS($I$172:$I$179,$B$172:$B$179,F18)+SUMIFS($E$132:$E$140,$B$132:$B$140,F18)+SUMIFS($E$148:$E$164,$B$148:$B$164,F18)+SUMIFS($E$115:$E$124,$B$115:$B$124,F18)+SUMIFS($F$187:$F$202,$B$187:$B$202,F18)+SUMIFS($C$210:$C$219,$B$210:$B$219,F18))
A19: =IFERROR(HLOOKUP(VLOOKUP(Projectinformatie!$B$26,Keuzeopties[#All],3,FALSE)&IF($C$6="Kennisinstelling","K",""),Keuze_Kostensoort[#All],4,FALSE),0) -> 0 | B19: =Hulpblad!G4 -> Forfait van 23% voor loonkosten en eigen arbeid | D19: =IF(A19=0,0,SUM($C$81:$C$90)) -> 0 | F19: =Hulpblad!V4 | H19: =IF(OR(F19="",F19=" "),"",SUMIFS($G$37:$G$51,$B$37:$B$51,F19)+SUMIFS($G$59:$G$73,$B$59:$B$73,F19)+SUMIFS($C$81:$C$90,$B$81:$B$90,F19)+SUMIFS($E$98:$E$107,$B$98:$B$107,F19)+SUMIFS($I$172:$I$179,$B$172:$B$179,F19)+SUMIFS($E$132:$E$140,$B$132:$B$140,F19)+SUMIFS($E$148:$E$164,$B$148:$B$164,F19)+SUMIFS($E$115:$E$124,$B$115:$B$124,F19)+SUMIFS($F$187:$F$202,$B$187:$B$202,F19)+SUMIFS($C$210:$C$219,$B$210:$B$219,F19))
A20: =IFERROR(HLOOKUP(VLOOKUP(Projectinformatie!$B$26,Keuzeopties[#All],3,FALSE)&IF($C$6="Kennisinstelling","K",""),Keuze_Kostensoort[#All],5,FALSE),0) -> Vast uurtarief eigen arbeid - € 50 | B20: =Hulpblad!G5 -> Vast uurtarief eigen arbeid - € 50 | D20: =IF(A20=0,0,SUM($E$98:$E$107)) -> 0 | F20: =Hulpblad!V5 | H20: =IF(OR(F20="",F20=" "),"",SUMIFS($G$37:$G$51,$B$37:$B$51,F20)+SUMIFS($G$59:$G$73,$B$59:$B$73,F20)+SUMIFS($C$81:$C$90,$B$81:$B$90,F20)+SUMIFS($E$98:$E$107,$B$98:$B$107,F20)+SUMIFS($I$172:$I$179,$B$172:$B$179,F20)+SUMIFS($E$132:$E$140,$B$132:$B$140,F20)+SUMIFS($E$148:$E$164,$B$148:$B$164,F20)+SUMIFS($E$115:$E$124,$B$115:$B$124,F20)+SUMIFS($F$187:$F$202,$B$187:$B$202,F20)+SUMIFS($C$210:$C$219,$B$210:$B$219,F20))
A21: =IFERROR(HLOOKUP(VLOOKUP(Projectinformatie!$B$26,Keuzeopties[#All],3,FALSE)&IF($C$6="Kennisinstelling","K",""),Keuze_Kostensoort[#All],6,FALSE),0) -> 0 | B21: =Hulpblad!G6 -> Vast uurtarief eigen arbeid - € 43 | D21: =IF(A21=0,0,SUM($E$115:$E$124)) -> 0 | F21: =Hulpblad!V6 | H21: =IF(OR(F21="",F21=" "),"",SUMIFS($G$37:$G$51,$B$37:$B$51,F21)+SUMIFS($G$59:$G$73,$B$59:$B$73,F21)+SUMIFS($C$81:$C$90,$B$81:$B$90,F21)+SUMIFS($E$98:$E$107,$B$98:$B$107,F21)+SUMIFS($I$172:$I$179,$B$172:$B$179,F21)+SUMIFS($E$132:$E$140,$B$132:$B$140,F21)+SUMIFS($E$148:$E$164,$B$148:$B$164,F21)+SUMIFS($E$115:$E$124,$B$115:$B$124,F21)+SUMIFS($F$187:$F$202,$B$187:$B$202,F21)+SUMIFS($C$210:$C$219,$B$210:$B$219,F21))
A22: =IFERROR(HLOOKUP(VLOOKUP(Projectinformatie!$B$26,Keuzeopties[#All],3,FALSE)&IF($C$6="Kennisinstelling","K",""),Keuze_Kostensoort[#All],7,FALSE),0) -> 0 | B22: =Hulpblad!G7 -> IKS voor kennisinstellingen | D22: =IF(A22=0,0,SUM($E$132:$E$140)) -> 0 | F22: =Hulpblad!V7 | H22: =IF(OR(F22="",F22=" "),"",SUMIFS($G$37:$G$51,$B$37:$B$51,F22)+SUMIFS($G$59:$G$73,$B$59:$B$73,F22)+SUMIFS($C$81:$C$90,$B$81:$B$90,F22)+SUMIFS($E$98:$E$107,$B$98:$B$107,F22)+SUMIFS($I$172:$I$179,$B$172:$B$179,F22)+SUMIFS($E$132:$E$140,$B$132:$B$140,F22)+SUMIFS($E$148:$E$164,$B$148:$B$164,F22)+SUMIFS($E$115:$E$124,$B$115:$B$124,F22)+SUMIFS($F$187:$F$202,$B$187:$B$202,F22)+SUMIFS($C$210:$C$219,$B$210:$B$219,F22))
A23: =IFERROR(HLOOKUP(VLOOKUP(Projectinformatie!$B$26,Keuzeopties[#All],3,FALSE)&IF($C$6="Kennisinstelling","K",""),Keuze_Kostensoort[#All],8,FALSE),0) -> Bijdragen in natura (niet subsidiabel bij openstelling EIP) | B23: =Hulpblad!G8 -> Bijdragen in natura (niet subsidiabel bij openstelling EIP) | D23: =IF(A23=0,0,SUM($E$148:$E$164)) -> 0 | F23: =Hulpblad!V8 | H23: =IF(OR(F23="",F23=" "),"",SUMIFS($G$37:$G$51,$B$37:$B$51,F23)+SUMIFS($G$59:$G$73,$B$59:$B$73,F23)+SUMIFS($C$81:$C$90,$B$81:$B$90,F23)+SUMIFS($E$98:$E$107,$B$98:$B$107,F23)+SUMIFS($I$172:$I$179,$B$172:$B$179,F23)+SUMIFS($E$132:$E$140,$B$132:$B$140,F23)+SUMIFS($E$148:$E$164,$B$148:$B$164,F23)+SUMIFS($E$115:$E$124,$B$115:$B$124,F23)+SUMIFS($F$187:$F$202,$B$187:$B$202,F23)+SUMIFS($C$210:$C$219,$B$210:$B$219,F23))
A24: =IFERROR(HLOOKUP(VLOOKUP(Projectinformatie!$B$26,Keuzeopties[#All],3,FALSE)&IF(C15="Kennisinstelling","K",""),Keuze_Kostensoort[#All],9,FALSE),0) -> Afschrijvingskosten (niet subsidiabel bij openstelling EIP) | B24: =Hulpblad!G9 -> Afschrijvingskosten (niet subsidiabel bij openstelling EIP) | D24: =IF(A24=0,0,SUM($I$172:$I$179)) -> 0 | F24: =Hulpblad!V9 | H24: =IF(OR(F24="",F24=" "),"",SUMIFS($G$37:$G$51,$B$37:$B$51,F24)+SUMIFS($G$59:$G$73,$B$59:$B$73,F24)+SUMIFS($C$81:$C$90,$B$81:$B$90,F24)+SUMIFS($E$98:$E$107,$B$98:$B$107,F24)+SUMIFS($I$172:$I$179,$B$172:$B$179,F24)+SUMIFS($E$132:$E$140,$B$132:$B$140,F24)+SUMIFS($E$148:$E$164,$B$148:$B$164,F24)+SUMIFS($E$115:$E$124,$B$115:$B$124,F24)+SUMIFS($F$187:$F$202,$B$187:$B$202,F24)+SUMIFS($C$210:$C$219,$B$210:$B$219,F24))
A25: =IFERROR(HLOOKUP(VLOOKUP(Projectinformatie!$B$26,Keuzeopties[#All],3,FALSE)&IF(C16="Kennisinstelling","K",""),Keuze_Kostensoort[#All],10,FALSE),0) -> Andere kosten | B25: =Hulpblad!G10 -> Andere kosten | D25: =IF(A25=0,0,SUM($F$187:$F$202)) -> 0 | F25: =Hulpblad!V10 | H25: =IF(OR(F25="",F25=" "),"",SUMIFS($G$37:$G$51,$B$37:$B$51,F25)+SUMIFS($G$59:$G$73,$B$59:$B$73,F25)+SUMIFS($C$81:$C$90,$B$81:$B$90,F25)+SUMIFS($E$98:$E$107,$B$98:$B$107,F25)+SUMIFS($I$172:$I$179,$B$172:$B$179,F25)+SUMIFS($E$132:$E$140,$B$132:$B$140,F25)+SUMIFS($E$148:$E$164,$B$148:$B$164,F25)+SUMIFS($E$115:$E$124,$B$115:$B$124,F25)+SUMIFS($F$187:$F$202,$B$187:$B$202,F25)+SUMIFS($C$210:$C$219,$B$210:$B$219,F25))
A26: =IFERROR(HLOOKUP(VLOOKUP(Projectinformatie!$B$26,Keuzeopties[#All],3,FALSE)&IF(C17="Kennisinstelling","K",""),Keuze_Kostensoort[#All],11,FALSE),0) -> 0 | B26: =Hulpblad!G11 -> Forfait 40% voor overige kosten | D26: =IF(A26=0,0,SUM($C$210:$C$219)) -> 0 | F26: =Hulpblad!V11 | H26: =IF(OR(F26="",F26=" "),"",SUMIFS($G$37:$G$51,$B$37:$B$51,F26)+SUMIFS($G$59:$G$73,$B$59:$B$73,F26)+SUMIFS($C$81:$C$90,$B$81:$B$90,F26)+SUMIFS($E$98:$E$107,$B$98:$B$107,F26)+SUMIFS($I$172:$I$179,$B$172:$B$179,F26)+SUMIFS($E$132:$E$140,$B$132:$B$140,F26)+SUMIFS($E$148:$E$164,$B$148:$B$164,F26)+SUMIFS($E$115:$E$124,$B$115:$B$124,F26)+SUMIFS($F$187:$F$202,$B$187:$B$202,F26)+SUMIFS($C$210:$C$219,$B$210:$B$219,F26))
B27: TOTAAL | D27: =SUM(D17:D26) -> 0 | F27: TOTAAL | H27: =SUM(H17:H26) -> 0
B29: CHECK: | C29: =IF(D27=H27,IF(C239<>"Ja","Let op: de financiering is nog niet gelijk aan de opgevoerde kosten. Zie ook de financieringstabel onder de kostenbegroting.","De kosten en financiering sluiten op elkaar aan."),"Let op: de totale kosten van bovenstaande tabellen zijn niet aan elkaar gelijk. Waarschijnlijk is bij één of meerdere inputregels nog geen werkpakket geselecteerd. "&"Als een werkpakketnaam gewijzigd is, moet deze opnieuw in de inputregel worden geselecteerd.") -> De kosten en financiering sluiten op elkaar aan.
B31: Kostenbegroting invoertabellen
A33: =IF($A$16=0,"",IF(COUNTIFS($A$17:$A$26,B33)=1,1,"nvt")) | B33: =B17 -> Loonkosten plus vast % (44,2% + 15%)
B34: =IF(A33="nvt",VLOOKUP(A33,Alle_Kostensoorten[],2,FALSE),VLOOKUP(B33,Alle_Kostensoorten[],2,FALSE)) -> Toelichting: Zie voor berekening tabblad 'Instructie'
B36: Werkpakket | C36: Functie medewerker(s) | D36: Jaar | E36: Uurtarief (incl. 15% overhead) | F36: Aantal uren | G36: Totale kosten
G37: =IF($A$33=1,$F37*$E37,0) -> 0
G38: =IF($A$33=1,$F38*$E38,0) -> 0
G39: =IF($A$33=1,$F39*$E39,0) -> 0
G40: =IF($A$33=1,$F40*$E40,0) -> 0
G41: =IF($A$33=1,$F41*$E41,0) -> 0
G42: =IF($A$33=1,$F42*$E42,0) -> 0
G43: =IF($A$33=1,$F43*$E43,0) -> 0
G44: =IF($A$33=1,$F44*$E44,0) -> 0
G45: =IF($A$33=1,$F45*$E45,0) -> 0
G46: =IF($A$33=1,$F46*$E46,0) -> 0
G47: =IF($A$33=1,$F47*$E47,0) -> 0
G48: =IF($A$33=1,$F48*$E48,0) -> 0
... G51: =IF($A$33=1,$F51*$E51,0) -> 0
B52: TOTAAL | G52: =SUM(G37:G51) -> 0
A55: =IF($A$16=0,"",IF(COUNTIFS($A$17:$A$26,B55)=1,1,"nvt")) | B55: =B18 -> Loonkosten plus vast % (44,2%)
B56: =IF(A55="nvt",VLOOKUP(A55,Alle_Kostensoorten[],2,FALSE),VLOOKUP(B55,Alle_Kostensoorten[],2,FALSE)) -> Toelichting: Zie voor berekening tabblad 'Instructie'
B58: Werkpakket | C58: Functie medewerker(s) | D58: Jaar | E58: Uurtarief | F58: Aantal uren | G58: Totale kosten
G59: =IF($A$55=1,$F59*$E59,0) -> 0
G60: =IF($A$55=1,$F60*55,0) -> 0
G61: =IF($A$55=1,$F61*55,0) -> 0
G62: =IF($A$55=1,$F62*55,0) -> 0
G63: =IF($A$55=1,$F63*55,0) -> 0
G64: =IF($A$55=1,$F64*55,0) -> 0
G65: =IF($A$55=1,$F65*55,0) -> 0
G66: =IF($A$55=1,$F66*55,0) -> 0
G67: =IF($A$55=1,$F67*55,0) -> 0
G68: =IF($A$55=1,$F68*55,0) -> 0
G69: =IF($A$55=1,$F69*55,0) -> 0
G70: =IF($A$55=1,$F70*55,0) -> 0
G71: =IF($A$55=1,$F71*55,0) -> 0
... G73: =IF($A$55=1,$F73*55,0) -> 0
B74: TOTAAL | G74: =SUM(G59:G73) -> 0
A77: =IF($A$16=0,"",IF(COUNTIFS($A$17:$A$26,B77)=1,1,"nvt")) | B77: =B19 -> Forfait van 23% voor loonkosten en eigen arbeid
B78: =IF(A77=1,VLOOKUP(B77,Alle_Kostensoorten[],2,FALSE),VLOOKUP(A77,Alle_Kostensoorten[],2,FALSE)) -> #N/A
B80: Werkpakket | C80: Totale kosten
B81: =Hulpblad!V2 | C81: =IF(AND($A$77=1,$B81<>"",$B81<>" "),(SUMIFS($E$148:$E$164,$B$148:$B$164,$B81)+SUMIFS($I$172:$I$179,$B$172:$B$179,$B81)+SUMIFS($F$187:$F$202,$B$187:$B$202,$B81))*0.23,0) -> 0
B82: =Hulpblad!V3 | C82: =IF(AND($A$77=1,$B82<>"",$B82<>" "),(SUMIFS($E$148:$E$164,$B$148:$B$164,$B82)+SUMIFS($I$172:$I$179,$B$172:$B$179,$B82)+SUMIFS($F$187:$F$202,$B$187:$B$202,$B82))*0.23,0) -> 0
B83: =Hulpblad!V4 | C83: =IF(AND($A$77=1,$B83<>"",$B83<>" "),(SUMIFS($E$148:$E$164,$B$148:$B$164,$B83)+SUMIFS($I$172:$I$179,$B$172:$B$179,$B83)+SUMIFS($F$187:$F$202,$B$187:$B$202,$B83))*0.23,0) -> 0
B84: =Hulpblad!V5 | C84: =IF(AND($A$77=1,$B84<>"",$B84<>" "),(SUMIFS($E$148:$E$164,$B$148:$B$164,$B84)+SUMIFS($I$172:$I$179,$B$172:$B$179,$B84)+SUMIFS($F$187:$F$202,$B$187:$B$202,$B84))*0.23,0) -> 0
B85: =Hulpblad!V6 | C85: =IF(AND($A$77=1,$B85<>"",$B85<>" "),(SUMIFS($E$148:$E$164,$B$148:$B$164,$B85)+SUMIFS($I$172:$I$179,$B$172:$B$179,$B85)+SUMIFS($F$187:$F$202,$B$187:$B$202,$B85))*0.23,0) -> 0
B86: =Hulpblad!V7 | C86: =IF(AND($A$77=1,$B86<>"",$B86<>" "),(SUMIFS($E$148:$E$164,$B$148:$B$164,$B86)+SUMIFS($I$172:$I$179,$B$172:$B$179,$B86)+SUMIFS($F$187:$F$202,$B$187:$B$202,$B86))*0.23,0) -> 0
B87: =Hulpblad!V8 | C87: =IF(AND($A$77=1,$B87<>"",$B87<>" "),(SUMIFS($E$148:$E$164,$B$148:$B$164,$B87)+SUMIFS($I$172:$I$179,$B$172:$B$179,$B87)+SUMIFS($F$187:$F$202,$B$187:$B$202,$B87))*0.23,0) -> 0
B88: =Hulpblad!V9 | C88: =IF(AND($A$77=1,$B88<>"",$B88<>" "),(SUMIFS($E$148:$E$164,$B$148:$B$164,$B88)+SUMIFS($I$172:$I$179,$B$172:$B$179,$B88)+SUMIFS($F$187:$F$202,$B$187:$B$202,$B88))*0.23,0) -> 0
B89: =Hulpblad!V10 | C89: =IF(AND($A$77=1,$B89<>"",$B89<>" "),(SUMIFS($E$148:$E$164,$B$148:$B$164,$B89)+SUMIFS($I$172:$I$179,$B$172:$B$179,$B89)+SUMIFS($F$187:$F$202,$B$187:$B$202,$B89))*0.23,0) -> 0
B90: =Hulpblad!V11 | C90: =IF(AND($A$77=1,$B90<>"",$B90<>" "),(SUMIFS($E$148:$E$164,$B$148:$B$164,$B90)+SUMIFS($I$172:$I$179,$B$172:$B$179,$B90)+SUMIFS($F$187:$F$202,$B$187:$B$202,$B90))*0.23,0) -> 0
B91: TOTAAL | C91: =SUM(C81:C90) -> 0
A94: =IF($A$16=0,"",IF(COUNTIFS($A$17:$A$26,B94)=1,1,"nvt")) | B94: =B20 -> Vast uurtarief eigen arbeid - € 50
B95: =IF(A94=1,VLOOKUP(B94,Alle_Kostensoorten[],2,FALSE),VLOOKUP(A94,Alle_Kostensoorten[],2,FALSE)) -> #N/A
B97: Werkpakket | C97: Functie medewerker(s) | D97: Aantal uren totaal | E97: Totale kosten
E98: =IF($A$94=1,$D98*50,0) -> 0
E99: =IF($A$94=1,$D99*50,0) -> 0
E100: =IF($A$94=1,$D100*50,0) -> 0
E101: =IF($A$94=1,$D101*50,0) -> 0
E102: =IF($A$94=1,$D102*50,0) -> 0
E103: =IF($A$94=1,$D103*50,0) -> 0
E104: =IF($A$94=1,$D104*50,0) -> 0
E105: =IF($A$94=1,$D105*50,0) -> 0
E106: =IF($A$94=1,$D106*50,0) -> 0
E107: =IF($A$94=1,$D107*50,0) -> 0
B108: TOTAAL | E108: =SUM(E98:E107) -> 0
A111: =IF($A$16=0,"",IF(COUNTIFS($A$17:$A$26,B111)=1,1,"nvt")) | B111: =B21 -> Vast uurtarief eigen arbeid - € 43
B112: =IF(A111=1,VLOOKUP(B111,Alle_Kostensoorten[],2,FALSE),VLOOKUP(A111,Alle_Kostensoorten[],2,FALSE)) -> #N/A
B114: Werkpakket | C114: Functie medewerker(s) | D114: Aantal uren totaal | E114: Totale kosten
E115: =IF($A$111=1,$D115*43,0) -> 0
E116: =IF($A$111=1,$D116*43,0) -> 0
E117: =IF($A$111=1,$D117*43,0) -> 0
E118: =IF($A$111=1,$D118*43,0) -> 0
E119: =IF($A$111=1,$D119*43,0) -> 0
E120: =IF($A$111=1,$D120*43,0) -> 0
E121: =IF($A$111=1,$D121*43,0) -> 0
E122: =IF($A$111=1,$D122*43,0) -> 0
E123: =IF($A$111=1,$D123*43,0) -> 0
E124: =IF($A$111=1,$D124*43,0) -> 0
B125: TOTAAL | E125: =SUM(E115:E124) -> 0
...

Sheet PP6
I1: Invoervelden | J1: Deze velden kunt u zelf invullen
B2: Naam Partner 6: | I2: Selectievelden | J2: Door met de cursor op het betreffende veld te gaan staan, verschijnt aan de rechterkant een pijltje waarmee u kunt kiezen.
I3: Doorrekenvelden | J3: Deze velden kunt u niet aanpassen
B4: Vestigingsplaats:
B5: KVK-nummer:
B6: Type organisatie:
B7: Omvang organisatie: | D7: *Gebruikersgids bij de definitie van MKB
B11: =IF(COUNTA(C2:D7)<5,"Vul eerst hierboven alle informatie over de projectpartner in.",IF(Projectinformatie!B26="","Er is voor het project nog geen optie gekozen voor het begroten en verantwoorden van de kosten. Kies de optie op tabblad 'Projectinformatie' onder de werkpakketten.",VLOOKUP(Projectinformatie!B26,Hulpblad!R:S,2,FALSE))) -> Vul eerst hierboven alle informatie over de projectpartner in.
B14: Samenvatting kostenbegroting (deze twee tabellen worden automatisch gevuld, u hoeft hier niets in te vullen!)
A16: =IF(OR(COUNTA(C2:D8)<5,Projectinformatie!B26=""),0,1) -> 0 | B16: Kostensoorten | D16: Totale kosten | F16: Werkpakket | H16: Totale kosten
A17: =IFERROR(HLOOKUP(VLOOKUP(Projectinformatie!$B$26,Keuzeopties[#All],3,FALSE)&IF($C$6="Kennisinstelling","K",""),Keuze_Kostensoort[#All],2,FALSE),0) -> Loonkosten plus vast % (44,2% + 15%) | B17: =Hulpblad!G2 -> Loonkosten plus vast % (44,2% + 15%) | D17: =IF(A17=0,0,SUM($G$37:$G$51)) -> 0 | F17: =Hulpblad!V2 | H17: =IF(OR(F17="",F17=" "),"",SUMIFS($G$37:$G$51,$B$37:$B$51,F17)+SUMIFS($G$59:$G$73,$B$59:$B$73,F17)+SUMIFS($C$81:$C$90,$B$81:$B$90,F17)+SUMIFS($E$98:$E$107,$B$98:$B$107,F17)+SUMIFS($I$172:$I$179,$B$172:$B$179,F17)+SUMIFS($E$132:$E$140,$B$132:$B$140,F17)+SUMIFS($E$148:$E$164,$B$148:$B$164,F17)+SUMIFS($E$115:$E$124,$B$115:$B$124,F17)+SUMIFS($F$187:$F$202,$B$187:$B$202,F17)+SUMIFS($C$210:$C$219,$B$210:$B$219,F17))
A18: =IFERROR(HLOOKUP(VLOOKUP(Projectinformatie!$B$26,Keuzeopties[#All],3,FALSE)&IF($C$6="Kennisinstelling","K",""),Keuze_Kostensoort[#All],3,FALSE),0) -> 0 | B18: =Hulpblad!G3 -> Loonkosten plus vast % (44,2%) | D18: =IF(A18=0,0,SUM($G$59:$G$73)) -> 0 | F18: =Hulpblad!V3 | H18: =IF(OR(F18="",F18=" "),"",SUMIFS($G$37:$G$51,$B$37:$B$51,F18)+SUMIFS($G$59:$G$73,$B$59:$B$73,F18)+SUMIFS($C$81:$C$90,$B$81:$B$90,F18)+SUMIFS($E$98:$E$107,$B$98:$B$107,F18)+SUMIFS($I$172:$I$179,$B$172:$B$179,F18)+SUMIFS($E$132:$E$140,$B$132:$B$140,F18)+SUMIFS($E$148:$E$164,$B$148:$B$164,F18)+SUMIFS($E$115:$E$124,$B$115:$B$124,F18)+SUMIFS($F$187:$F$202,$B$187:$B$202,F18)+SUMIFS($C$210:$C$219,$B$210:$B$219,F18))
A19: =IFERROR(HLOOKUP(VLOOKUP(Projectinformatie!$B$26,Keuzeopties[#All],3,FALSE)&IF($C$6="Kennisinstelling","K",""),Keuze_Kostensoort[#All],4,FALSE),0) -> 0 | B19: =Hulpblad!G4 -> Forfait van 23% voor loonkosten en eigen arbeid | D19: =IF(A19=0,0,SUM($C$81:$C$90)) -> 0 | F19: =Hulpblad!V4 | H19: =IF(OR(F19="",F19=" "),"",SUMIFS($G$37:$G$51,$B$37:$B$51,F19)+SUMIFS($G$59:$G$73,$B$59:$B$73,F19)+SUMIFS($C$81:$C$90,$B$81:$B$90,F19)+SUMIFS($E$98:$E$107,$B$98:$B$107,F19)+SUMIFS($I$172:$I$179,$B$172:$B$179,F19)+SUMIFS($E$132:$E$140,$B$132:$B$140,F19)+SUMIFS($E$148:$E$164,$B$148:$B$164,F19)+SUMIFS($E$115:$E$124,$B$115:$B$124,F19)+SUMIFS($F$187:$F$202,$B$187:$B$202,F19)+SUMIFS($C$210:$C$219,$B$210:$B$219,F19))
A20: =IFERROR(HLOOKUP(VLOOKUP(Projectinformatie!$B$26,Keuzeopties[#All],3,FALSE)&IF($C$6="Kennisinstelling","K",""),Keuze_Kostensoort[#All],5,FALSE),0) -> Vast uurtarief eigen arbeid - € 50 | B20: =Hulpblad!G5 -> Vast uurtarief eigen arbeid - € 50 | D20: =IF(A20=0,0,SUM($E$98:$E$107)) -> 0 | F20: =Hulpblad!V5 | H20: =IF(OR(F20="",F20=" "),"",SUMIFS($G$37:$G$51,$B$37:$B$51,F20)+SUMIFS($G$59:$G$73,$B$59:$B$73,F20)+SUMIFS($C$81:$C$90,$B$81:$B$90,F20)+SUMIFS($E$98:$E$107,$B$98:$B$107,F20)+SUMIFS($I$172:$I$179,$B$172:$B$179,F20)+SUMIFS($E$132:$E$140,$B$132:$B$140,F20)+SUMIFS($E$148:$E$164,$B$148:$B$164,F20)+SUMIFS($E$115:$E$124,$B$115:$B$124,F20)+SUMIFS($F$187:$F$202,$B$187:$B$202,F20)+SUMIFS($C$210:$C$219,$B$210:$B$219,F20))
A21: =IFERROR(HLOOKUP(VLOOKUP(Projectinformatie!$B$26,Keuzeopties[#All],3,FALSE)&IF($C$6="Kennisinstelling","K",""),Keuze_Kostensoort[#All],6,FALSE),0) -> 0 | B21: =Hulpblad!G6 -> Vast uurtarief eigen arbeid - € 43 | D21: =IF(A21=0,0,SUM($E$115:$E$124)) -> 0 | F21: =Hulpblad!V6 | H21: =IF(OR(F21="",F21=" "),"",SUMIFS($G$37:$G$51,$B$37:$B$51,F21)+SUMIFS($G$59:$G$73,$B$59:$B$73,F21)+SUMIFS($C$81:$C$90,$B$81:$B$90,F21)+SUMIFS($E$98:$E$107,$B$98:$B$107,F21)+SUMIFS($I$172:$I$179,$B$172:$B$179,F21)+SUMIFS($E$132:$E$140,$B$132:$B$140,F21)+SUMIFS($E$148:$E$164,$B$148:$B$164,F21)+SUMIFS($E$115:$E$124,$B$115:$B$124,F21)+SUMIFS($F$187:$F$202,$B$187:$B$202,F21)+SUMIFS($C$210:$C$219,$B$210:$B$219,F21))
A22: =IFERROR(HLOOKUP(VLOOKUP(Projectinformatie!$B$26,Keuzeopties[#All],3,FALSE)&IF($C$6="Kennisinstelling","K",""),Keuze_Kostensoort[#All],7,FALSE),0) -> 0 | B22: =Hulpblad!G7 -> IKS voor kennisinstellingen | D22: =IF(A22=0,0,SUM($E$132:$E$140)) -> 0 | F22: =Hulpblad!V7 | H22: =IF(OR(F22="",F22=" "),"",SUMIFS($G$37:$G$51,$B$37:$B$51,F22)+SUMIFS($G$59:$G$73,$B$59:$B$73,F22)+SUMIFS($C$81:$C$90,$B$81:$B$90,F22)+SUMIFS($E$98:$E$107,$B$98:$B$107,F22)+SUMIFS($I$172:$I$179,$B$172:$B$179,F22)+SUMIFS($E$132:$E$140,$B$132:$B$140,F22)+SUMIFS($E$148:$E$164,$B$148:$B$164,F22)+SUMIFS($E$115:$E$124,$B$115:$B$124,F22)+SUMIFS($F$187:$F$202,$B$187:$B$202,F22)+SUMIFS($C$210:$C$219,$B$210:$B$219,F22))
A23: =IFERROR(HLOOKUP(VLOOKUP(Projectinformatie!$B$26,Keuzeopties[#All],3,FALSE)&IF($C$6="Kennisinstelling","K",""),Keuze_Kostensoort[#All],8,FALSE),0) -> Bijdragen in natura (niet subsidiabel bij openstelling EIP) | B23: =Hulpblad!G8 -> Bijdragen in natura (niet subsidiabel bij openstelling EIP) | D23: =IF(A23=0,0,SUM($E$148:$E$164)) -> 0 | F23: =Hulpblad!V8 | H23: =IF(OR(F23="",F23=" "),"",SUMIFS($G$37:$G$51,$B$37:$B$51,F23)+SUMIFS($G$59:$G$73,$B$59:$B$73,F23)+SUMIFS($C$81:$C$90,$B$81:$B$90,F23)+SUMIFS($E$98:$E$107,$B$98:$B$107,F23)+SUMIFS($I$172:$I$179,$B$172:$B$179,F23)+SUMIFS($E$132:$E$140,$B$132:$B$140,F23)+SUMIFS($E$148:$E$164,$B$148:$B$164,F23)+SUMIFS($E$115:$E$124,$B$115:$B$124,F23)+SUMIFS($F$187:$F$202,$B$187:$B$202,F23)+SUMIFS($C$210:$C$219,$B$210:$B$219,F23))
A24: =IFERROR(HLOOKUP(VLOOKUP(Projectinformatie!$B$26,Keuzeopties[#All],3,FALSE)&IF(C15="Kennisinstelling","K",""),Keuze_Kostensoort[#All],9,FALSE),0) -> Afschrijvingskosten (niet subsidiabel bij openstelling EIP) | B24: =Hulpblad!G9 -> Afschrijvingskosten (niet subsidiabel bij openstelling EIP) | D24: =IF(A24=0,0,SUM($I$172:$I$179)) -> 0 | F24: =Hulpblad!V9 | H24: =IF(OR(F24="",F24=" "),"",SUMIFS($G$37:$G$51,$B$37:$B$51,F24)+SUMIFS($G$59:$G$73,$B$59:$B$73,F24)+SUMIFS($C$81:$C$90,$B$81:$B$90,F24)+SUMIFS($E$98:$E$107,$B$98:$B$107,F24)+SUMIFS($I$172:$I$179,$B$172:$B$179,F24)+SUMIFS($E$132:$E$140,$B$132:$B$140,F24)+SUMIFS($E$148:$E$164,$B$148:$B$164,F24)+SUMIFS($E$115:$E$124,$B$115:$B$124,F24)+SUMIFS($F$187:$F$202,$B$187:$B$202,F24)+SUMIFS($C$210:$C$219,$B$210:$B$219,F24))
A25: =IFERROR(HLOOKUP(VLOOKUP(Projectinformatie!$B$26,Keuzeopties[#All],3,FALSE)&IF(C16="Kennisinstelling","K",""),Keuze_Kostensoort[#All],10,FALSE),0) -> Andere kosten | B25: =Hulpblad!G10 -> Andere kosten | D25: =IF(A25=0,0,SUM($F$187:$F$202)) -> 0 | F25: =Hulpblad!V10 | H25: =IF(OR(F25="",F25=" "),"",SUMIFS($G$37:$G$51,$B$37:$B$51,F25)+SUMIFS($G$59:$G$73,$B$59:$B$73,F25)+SUMIFS($C$81:$C$90,$B$81:$B$90,F25)+SUMIFS($E$98:$E$107,$B$98:$B$107,F25)+SUMIFS($I$172:$I$179,$B$172:$B$179,F25)+SUMIFS($E$132:$E$140,$B$132:$B$140,F25)+SUMIFS($E$148:$E$164,$B$148:$B$164,F25)+SUMIFS($E$115:$E$124,$B$115:$B$124,F25)+SUMIFS($F$187:$F$202,$B$187:$B$202,F25)+SUMIFS($C$210:$C$219,$B$210:$B$219,F25))
A26: =IFERROR(HLOOKUP(VLOOKUP(Projectinformatie!$B$26,Keuzeopties[#All],3,FALSE)&IF(C17="Kennisinstelling","K",""),Keuze_Kostensoort[#All],11,FALSE),0) -> 0 | B26: =Hulpblad!G11 -> Forfait 40% voor overige kosten | D26: =IF(A26=0,0,SUM($C$210:$C$219)) -> 0 | F26: =Hulpblad!V11 | H26: =IF(OR(F26="",F26=" "),"",SUMIFS($G$37:$G$51,$B$37:$B$51,F26)+SUMIFS($G$59:$G$73,$B$59:$B$73,F26)+SUMIFS($C$81:$C$90,$B$81:$B$90,F26)+SUMIFS($E$98:$E$107,$B$98:$B$107,F26)+SUMIFS($I$172:$I$179,$B$172:$B$179,F26)+SUMIFS($E$132:$E$140,$B$132:$B$140,F26)+SUMIFS($E$148:$E$164,$B$148:$B$164,F26)+SUMIFS($E$115:$E$124,$B$115:$B$124,F26)+SUMIFS($F$187:$F$202,$B$187:$B$202,F26)+SUMIFS($C$210:$C$219,$B$210:$B$219,F26))
B27: TOTAAL | D27: =SUM(D17:D26) -> 0 | F27: TOTAAL | H27: =SUM(H17:H26) -> 0
B29: CHECK: | C29: =IF(D27=H27,IF(C239<>"Ja","Let op: de financiering is nog niet gelijk aan de opgevoerde kosten. Zie ook de financieringstabel onder de kostenbegroting.","De kosten en financiering sluiten op elkaar aan."),"Let op: de totale kosten van bovenstaande tabellen zijn niet aan elkaar gelijk. Waarschijnlijk is bij één of meerdere inputregels nog geen werkpakket geselecteerd. "&"Als een werkpakketnaam gewijzigd is, moet deze opnieuw in de inputregel worden geselecteerd.") -> De kosten en financiering sluiten op elkaar aan.
B31: Kostenbegroting invoertabellen
A33: =IF($A$16=0,"",IF(COUNTIFS($A$17:$A$26,B33)=1,1,"nvt")) | B33: =B17 -> Loonkosten plus vast % (44,2% + 15%)
B34: =IF(A33="nvt",VLOOKUP(A33,Alle_Kostensoorten[],2,FALSE),VLOOKUP(B33,Alle_Kostensoorten[],2,FALSE)) -> Toelichting: Zie voor berekening tabblad 'Instructie'
B36: Werkpakket | C36: Functie medewerker(s) | D36: Jaar | E36: Uurtarief (incl. 15% overhead) | F36: Aantal uren | G36: Totale kosten
G37: =IF($A$33=1,$F37*$E37,0) -> 0
G38: =IF($A$33=1,$F38*$E38,0) -> 0
G39: =IF($A$33=1,$F39*$E39,0) -> 0
G40: =IF($A$33=1,$F40*$E40,0) -> 0
G41: =IF($A$33=1,$F41*$E41,0) -> 0
G42: =IF($A$33=1,$F42*$E42,0) -> 0
G43: =IF($A$33=1,$F43*$E43,0) -> 0
G44: =IF($A$33=1,$F44*$E44,0) -> 0
G45: =IF($A$33=1,$F45*$E45,0) -> 0
G46: =IF($A$33=1,$F46*$E46,0) -> 0
G47: =IF($A$33=1,$F47*$E47,0) -> 0
G48: =IF($A$33=1,$F48*$E48,0) -> 0
... G51: =IF($A$33=1,$F51*$E51,0) -> 0
B52: TOTAAL | G52: =SUM(G37:G51) -> 0
A55: =IF($A$16=0,"",IF(COUNTIFS($A$17:$A$26,B55)=1,1,"nvt")) | B55: =B18 -> Loonkosten plus vast % (44,2%)
B56: =IF(A55="nvt",VLOOKUP(A55,Alle_Kostensoorten[],2,FALSE),VLOOKUP(B55,Alle_Kostensoorten[],2,FALSE)) -> Toelichting: Zie voor berekening tabblad 'Instructie'
B58: Werkpakket | C58: Functie medewerker(s) | D58: Jaar | E58: Uurtarief | F58: Aantal uren | G58: Totale kosten
G59: =IF($A$55=1,$F59*$E59,0) -> 0
G60: =IF($A$55=1,$F60*55,0) -> 0
G61: =IF($A$55=1,$F61*55,0) -> 0
G62: =IF($A$55=1,$F62*55,0) -> 0
G63: =IF($A$55=1,$F63*55,0) -> 0
G64: =IF($A$55=1,$F64*55,0) -> 0
G65: =IF($A$55=1,$F65*55,0) -> 0
G66: =IF($A$55=1,$F66*55,0) -> 0
G67: =IF($A$55=1,$F67*55,0) -> 0
G68: =IF($A$55=1,$F68*55,0) -> 0
G69: =IF($A$55=1,$F69*55,0) -> 0
G70: =IF($A$55=1,$F70*55,0) -> 0
G71: =IF($A$55=1,$F71*55,0) -> 0
... G73: =IF($A$55=1,$F73*55,0) -> 0
B74: TOTAAL | G74: =SUM(G59:G73) -> 0
A77: =IF($A$16=0,"",IF(COUNTIFS($A$17:$A$26,B77)=1,1,"nvt")) | B77: =B19 -> Forfait van 23% voor loonkosten en eigen arbeid
B78: =IF(A77=1,VLOOKUP(B77,Alle_Kostensoorten[],2,FALSE),VLOOKUP(A77,Alle_Kostensoorten[],2,FALSE)) -> #N/A
B80: Werkpakket | C80: Totale kosten
B81: =Hulpblad!V2 | C81: =IF(AND($A$77=1,$B81<>"",$B81<>" "),(SUMIFS($E$148:$E$164,$B$148:$B$164,$B81)+SUMIFS($I$172:$I$179,$B$172:$B$179,$B81)+SUMIFS($F$187:$F$202,$B$187:$B$202,$B81))*0.23,0) -> 0
B82: =Hulpblad!V3 | C82: =IF(AND($A$77=1,$B82<>"",$B82<>" "),(SUMIFS($E$148:$E$164,$B$148:$B$164,$B82)+SUMIFS($I$172:$I$179,$B$172:$B$179,$B82)+SUMIFS($F$187:$F$202,$B$187:$B$202,$B82))*0.23,0) -> 0
B83: =Hulpblad!V4 | C83: =IF(AND($A$77=1,$B83<>"",$B83<>" "),(SUMIFS($E$148:$E$164,$B$148:$B$164,$B83)+SUMIFS($I$172:$I$179,$B$172:$B$179,$B83)+SUMIFS($F$187:$F$202,$B$187:$B$202,$B83))*0.23,0) -> 0
B84: =Hulpblad!V5 | C84: =IF(AND($A$77=1,$B84<>"",$B84<>" "),(SUMIFS($E$148:$E$164,$B$148:$B$164,$B84)+SUMIFS($I$172:$I$179,$B$172:$B$179,$B84)+SUMIFS($F$187:$F$202,$B$187:$B$202,$B84))*0.23,0) -> 0
B85: =Hulpblad!V6 | C85: =IF(AND($A$77=1,$B85<>"",$B85<>" "),(SUMIFS($E$148:$E$164,$B$148:$B$164,$B85)+SUMIFS($I$172:$I$179,$B$172:$B$179,$B85)+SUMIFS($F$187:$F$202,$B$187:$B$202,$B85))*0.23,0) -> 0
B86: =Hulpblad!V7 | C86: =IF(AND($A$77=1,$B86<>"",$B86<>" "),(SUMIFS($E$148:$E$164,$B$148:$B$164,$B86)+SUMIFS($I$172:$I$179,$B$172:$B$179,$B86)+SUMIFS($F$187:$F$202,$B$187:$B$202,$B86))*0.23,0) -> 0
B87: =Hulpblad!V8 | C87: =IF(AND($A$77=1,$B87<>"",$B87<>" "),(SUMIFS($E$148:$E$164,$B$148:$B$164,$B87)+SUMIFS($I$172:$I$179,$B$172:$B$179,$B87)+SUMIFS($F$187:$F$202,$B$187:$B$202,$B87))*0.23,0) -> 0
B88: =Hulpblad!V9 | C88: =IF(AND($A$77=1,$B88<>"",$B88<>" "),(SUMIFS($E$148:$E$164,$B$148:$B$164,$B88)+SUMIFS($I$172:$I$179,$B$172:$B$179,$B88)+SUMIFS($F$187:$F$202,$B$187:$B$202,$B88))*0.23,0) -> 0
B89: =Hulpblad!V10 | C89: =IF(AND($A$77=1,$B89<>"",$B89<>" "),(SUMIFS($E$148:$E$164,$B$148:$B$164,$B89)+SUMIFS($I$172:$I$179,$B$172:$B$179,$B89)+SUMIFS($F$187:$F$202,$B$187:$B$202,$B89))*0.23,0) -> 0
B90: =Hulpblad!V11 | C90: =IF(AND($A$77=1,$B90<>"",$B90<>" "),(SUMIFS($E$148:$E$164,$B$148:$B$164,$B90)+SUMIFS($I$172:$I$179,$B$172:$B$179,$B90)+SUMIFS($F$187:$F$202,$B$187:$B$202,$B90))*0.23,0) -> 0
B91: TOTAAL | C91: =SUM(C81:C90) -> 0
A94: =IF($A$16=0,"",IF(COUNTIFS($A$17:$A$26,B94)=1,1,"nvt")) | B94: =B20 -> Vast uurtarief eigen arbeid - € 50
B95: =IF(A94=1,VLOOKUP(B94,Alle_Kostensoorten[],2,FALSE),VLOOKUP(A94,Alle_Kostensoorten[],2,FALSE)) -> #N/A
B97: Werkpakket | C97: Functie medewerker(s) | D97: Aantal uren totaal | E97: Totale kosten
E98: =IF($A$94=1,$D98*50,0) -> 0
E99: =IF($A$94=1,$D99*50,0) -> 0
E100: =IF($A$94=1,$D100*50,0) -> 0
E101: =IF($A$94=1,$D101*50,0) -> 0
E102: =IF($A$94=1,$D102*50,0) -> 0
E103: =IF($A$94=1,$D103*50,0) -> 0
E104: =IF($A$94=1,$D104*50,0) -> 0
E105: =IF($A$94=1,$D105*50,0) -> 0
E106: =IF($A$94=1,$D106*50,0) -> 0
E107: =IF($A$94=1,$D107*50,0) -> 0
B108: TOTAAL | E108: =SUM(E98:E107) -> 0
A111: =IF($A$16=0,"",IF(COUNTIFS($A$17:$A$26,B111)=1,1,"nvt")) | B111: =B21 -> Vast uurtarief eigen arbeid - € 43
B112: =IF(A111=1,VLOOKUP(B111,Alle_Kostensoorten[],2,FALSE),VLOOKUP(A111,Alle_Kostensoorten[],2,FALSE)) -> #N/A
B114: Werkpakket | C114: Functie medewerker(s) | D114: Aantal uren totaal | E114: Totale kosten
E115: =IF($A$111=1,$D115*43,0) -> 0
E116: =IF($A$111=1,$D116*43,0) -> 0
E117: =IF($A$111=1,$D117*43,0) -> 0
E118: =IF($A$111=1,$D118*43,0) -> 0
E119: =IF($A$111=1,$D119*43,0) -> 0
E120: =IF($A$111=1,$D120*43,0) -> 0
E121: =IF($A$111=1,$D121*43,0) -> 0
E122: =IF($A$111=1,$D122*43,0) -> 0
E123: =IF($A$111=1,$D123*43,0) -> 0
E124: =IF($A$111=1,$D124*43,0) -> 0
B125: TOTAAL | E125: =SUM(E115:E124) -> 0
...

Sheet PP7
I1: Invoervelden | J1: Deze velden kunt u zelf invullen
B2: Naam Partner 7: | I2: Selectievelden | J2: Door met de cursor op het betreffende veld te gaan staan, verschijnt aan de rechterkant een pijltje waarmee u kunt kiezen.
I3: Doorrekenvelden | J3: Deze velden kunt u niet aanpassen
B4: Vestigingsplaats:
B5: KVK-nummer:
B6: Type organisatie:
B7: Omvang organisatie: | D7: *Gebruikersgids bij de definitie van MKB
B11: =IF(COUNTA(C2:D7)<5,"Vul eerst hierboven alle informatie over de projectpartner in.",IF(Projectinformatie!B26="","Er is voor het project nog geen optie gekozen voor het begroten en verantwoorden van de kosten. Kies de optie op tabblad 'Projectinformatie' onder de werkpakketten.",VLOOKUP(Projectinformatie!B26,Hulpblad!R:S,2,FALSE))) -> Vul eerst hierboven alle informatie over de projectpartner in.
B14: Samenvatting kostenbegroting (deze twee tabellen worden automatisch gevuld, u hoeft hier niets in te vullen!)
A16: =IF(OR(COUNTA(C2:D8)<5,Projectinformatie!B26=""),0,1) -> 0 | B16: Kostensoorten | D16: Totale kosten | F16: Werkpakket | H16: Totale kosten
A17: =IFERROR(HLOOKUP(VLOOKUP(Projectinformatie!$B$26,Keuzeopties[#All],3,FALSE)&IF($C$6="Kennisinstelling","K",""),Keuze_Kostensoort[#All],2,FALSE),0) -> Loonkosten plus vast % (44,2% + 15%) | B17: =Hulpblad!G2 -> Loonkosten plus vast % (44,2% + 15%) | D17: =IF(A17=0,0,SUM($G$37:$G$51)) -> 0 | F17: =Hulpblad!V2 | H17: =IF(OR(F17="",F17=" "),"",SUMIFS($G$37:$G$51,$B$37:$B$51,F17)+SUMIFS($G$59:$G$73,$B$59:$B$73,F17)+SUMIFS($C$81:$C$90,$B$81:$B$90,F17)+SUMIFS($E$98:$E$107,$B$98:$B$107,F17)+SUMIFS($I$172:$I$179,$B$172:$B$179,F17)+SUMIFS($E$132:$E$140,$B$132:$B$140,F17)+SUMIFS($E$148:$E$164,$B$148:$B$164,F17)+SUMIFS($E$115:$E$124,$B$115:$B$124,F17)+SUMIFS($F$187:$F$202,$B$187:$B$202,F17)+SUMIFS($C$210:$C$219,$B$210:$B$219,F17))
A18: =IFERROR(HLOOKUP(VLOOKUP(Projectinformatie!$B$26,Keuzeopties[#All],3,FALSE)&IF($C$6="Kennisinstelling","K",""),Keuze_Kostensoort[#All],3,FALSE),0) -> 0 | B18: =Hulpblad!G3 -> Loonkosten plus vast % (44,2%) | D18: =IF(A18=0,0,SUM($G$59:$G$73)) -> 0 | F18: =Hulpblad!V3 | H18: =IF(OR(F18="",F18=" "),"",SUMIFS($G$37:$G$51,$B$37:$B$51,F18)+SUMIFS($G$59:$G$73,$B$59:$B$73,F18)+SUMIFS($C$81:$C$90,$B$81:$B$90,F18)+SUMIFS($E$98:$E$107,$B$98:$B$107,F18)+SUMIFS($I$172:$I$179,$B$172:$B$179,F18)+SUMIFS($E$132:$E$140,$B$132:$B$140,F18)+SUMIFS($E$148:$E$164,$B$148:$B$164,F18)+SUMIFS($E$115:$E$124,$B$115:$B$124,F18)+SUMIFS($F$187:$F$202,$B$187:$B$202,F18)+SUMIFS($C$210:$C$219,$B$210:$B$219,F18))
A19: =IFERROR(HLOOKUP(VLOOKUP(Projectinformatie!$B$26,Keuzeopties[#All],3,FALSE)&IF($C$6="Kennisinstelling","K",""),Keuze_Kostensoort[#All],4,FALSE),0) -> 0 | B19: =Hulpblad!G4 -> Forfait van 23% voor loonkosten en eigen arbeid | D19: =IF(A19=0,0,SUM($C$81:$C$90)) -> 0 | F19: =Hulpblad!V4 | H19: =IF(OR(F19="",F19=" "),"",SUMIFS($G$37:$G$51,$B$37:$B$51,F19)+SUMIFS($G$59:$G$73,$B$59:$B$73,F19)+SUMIFS($C$81:$C$90,$B$81:$B$90,F19)+SUMIFS($E$98:$E$107,$B$98:$B$107,F19)+SUMIFS($I$172:$I$179,$B$172:$B$179,F19)+SUMIFS($E$132:$E$140,$B$132:$B$140,F19)+SUMIFS($E$148:$E$164,$B$148:$B$164,F19)+SUMIFS($E$115:$E$124,$B$115:$B$124,F19)+SUMIFS($F$187:$F$202,$B$187:$B$202,F19)+SUMIFS($C$210:$C$219,$B$210:$B$219,F19))
A20: =IFERROR(HLOOKUP(VLOOKUP(Projectinformatie!$B$26,Keuzeopties[#All],3,FALSE)&IF($C$6="Kennisinstelling","K",""),Keuze_Kostensoort[#All],5,FALSE),0) -> Vast uurtarief eigen arbeid - € 50 | B20: =Hulpblad!G5 -> Vast uurtarief eigen arbeid - € 50 | D20: =IF(A20=0,0,SUM($E$98:$E$107)) -> 0 | F20: =Hulpblad!V5 | H20: =IF(OR(F20="",F20=" "),"",SUMIFS($G$37:$G$51,$B$37:$B$51,F20)+SUMIFS($G$59:$G$73,$B$59:$B$73,F20)+SUMIFS($C$81:$C$90,$B$81:$B$90,F20)+SUMIFS($E$98:$E$107,$B$98:$B$107,F20)+SUMIFS($I$172:$I$179,$B$172:$B$179,F20)+SUMIFS($E$132:$E$140,$B$132:$B$140,F20)+SUMIFS($E$148:$E$164,$B$148:$B$164,F20)+SUMIFS($E$115:$E$124,$B$115:$B$124,F20)+SUMIFS($F$187:$F$202,$B$187:$B$202,F20)+SUMIFS($C$210:$C$219,$B$210:$B$219,F20))
A21: =IFERROR(HLOOKUP(VLOOKUP(Projectinformatie!$B$26,Keuzeopties[#All],3,FALSE)&IF($C$6="Kennisinstelling","K",""),Keuze_Kostensoort[#All],6,FALSE),0) -> 0 | B21: =Hulpblad!G6 -> Vast uurtarief eigen arbeid - € 43 | D21: =IF(A21=0,0,SUM($E$115:$E$124)) -> 0 | F21: =Hulpblad!V6 | H21: =IF(OR(F21="",F21=" "),"",SUMIFS($G$37:$G$51,$B$37:$B$51,F21)+SUMIFS($G$59:$G$73,$B$59:$B$73,F21)+SUMIFS($C$81:$C$90,$B$81:$B$90,F21)+SUMIFS($E$98:$E$107,$B$98:$B$107,F21)+SUMIFS($I$172:$I$179,$B$172:$B$179,F21)+SUMIFS($E$132:$E$140,$B$132:$B$140,F21)+SUMIFS($E$148:$E$164,$B$148:$B$164,F21)+SUMIFS($E$115:$E$124,$B$115:$B$124,F21)+SUMIFS($F$187:$F$202,$B$187:$B$202,F21)+SUMIFS($C$210:$C$219,$B$210:$B$219,F21))
A22: =IFERROR(HLOOKUP(VLOOKUP(Projectinformatie!$B$26,Keuzeopties[#All],3,FALSE)&IF($C$6="Kennisinstelling","K",""),Keuze_Kostensoort[#All],7,FALSE),0) -> 0 | B22: =Hulpblad!G7 -> IKS voor kennisinstellingen | D22: =IF(A22=0,0,SUM($E$132:$E$140)) -> 0 | F22: =Hulpblad!V7 | H22: =IF(OR(F22="",F22=" "),"",SUMIFS($G$37:$G$51,$B$37:$B$51,F22)+SUMIFS($G$59:$G$73,$B$59:$B$73,F22)+SUMIFS($C$81:$C$90,$B$81:$B$90,F22)+SUMIFS($E$98:$E$107,$B$98:$B$107,F22)+SUMIFS($I$172:$I$179,$B$172:$B$179,F22)+SUMIFS($E$132:$E$140,$B$132:$B$140,F22)+SUMIFS($E$148:$E$164,$B$148:$B$164,F22)+SUMIFS($E$115:$E$124,$B$115:$B$124,F22)+SUMIFS($F$187:$F$202,$B$187:$B$202,F22)+SUMIFS($C$210:$C$219,$B$210:$B$219,F22))
A23: =IFERROR(HLOOKUP(VLOOKUP(Projectinformatie!$B$26,Keuzeopties[#All],3,FALSE)&IF($C$6="Kennisinstelling","K",""),Keuze_Kostensoort[#All],8,FALSE),0) -> Bijdragen in natura (niet subsidiabel bij openstelling EIP) | B23: =Hulpblad!G8 -> Bijdragen in natura (niet subsidiabel bij openstelling EIP) | D23: =IF(A23=0,0,SUM($E$148:$E$164)) -> 0 | F23: =Hulpblad!V8 | H23: =IF(OR(F23="",F23=" "),"",SUMIFS($G$37:$G$51,$B$37:$B$51,F23)+SUMIFS($G$59:$G$73,$B$59:$B$73,F23)+SUMIFS($C$81:$C$90,$B$81:$B$90,F23)+SUMIFS($E$98:$E$107,$B$98:$B$107,F23)+SUMIFS($I$172:$I$179,$B$172:$B$179,F23)+SUMIFS($E$132:$E$140,$B$132:$B$140,F23)+SUMIFS($E$148:$E$164,$B$148:$B$164,F23)+SUMIFS($E$115:$E$124,$B$115:$B$124,F23)+SUMIFS($F$187:$F$202,$B$187:$B$202,F23)+SUMIFS($C$210:$C$219,$B$210:$B$219,F23))
A24: =IFERROR(HLOOKUP(VLOOKUP(Projectinformatie!$B$26,Keuzeopties[#All],3,FALSE)&IF(C15="Kennisinstelling","K",""),Keuze_Kostensoort[#All],9,FALSE),0) -> Afschrijvingskosten (niet subsidiabel bij openstelling EIP) | B24: =Hulpblad!G9 -> Afschrijvingskosten (niet subsidiabel bij openstelling EIP) | D24: =IF(A24=0,0,SUM($I$172:$I$179)) -> 0 | F24: =Hulpblad!V9 | H24: =IF(OR(F24="",F24=" "),"",SUMIFS($G$37:$G$51,$B$37:$B$51,F24)+SUMIFS($G$59:$G$73,$B$59:$B$73,F24)+SUMIFS($C$81:$C$90,$B$81:$B$90,F24)+SUMIFS($E$98:$E$107,$B$98:$B$107,F24)+SUMIFS($I$172:$I$179,$B$172:$B$179,F24)+SUMIFS($E$132:$E$140,$B$132:$B$140,F24)+SUMIFS($E$148:$E$164,$B$148:$B$164,F24)+SUMIFS($E$115:$E$124,$B$115:$B$124,F24)+SUMIFS($F$187:$F$202,$B$187:$B$202,F24)+SUMIFS($C$210:$C$219,$B$210:$B$219,F24))
A25: =IFERROR(HLOOKUP(VLOOKUP(Projectinformatie!$B$26,Keuzeopties[#All],3,FALSE)&IF(C16="Kennisinstelling","K",""),Keuze_Kostensoort[#All],10,FALSE),0) -> Andere kosten | B25: =Hulpblad!G10 -> Andere kosten | D25: =IF(A25=0,0,SUM($F$187:$F$202)) -> 0 | F25: =Hulpblad!V10 | H25: =IF(OR(F25="",F25=" "),"",SUMIFS($G$37:$G$51,$B$37:$B$51,F25)+SUMIFS($G$59:$G$73,$B$59:$B$73,F25)+SUMIFS($C$81:$C$90,$B$81:$B$90,F25)+SUMIFS($E$98:$E$107,$B$98:$B$107,F25)+SUMIFS($I$172:$I$179,$B$172:$B$179,F25)+SUMIFS($E$132:$E$140,$B$132:$B$140,F25)+SUMIFS($E$148:$E$164,$B$148:$B$164,F25)+SUMIFS($E$115:$E$124,$B$115:$B$124,F25)+SUMIFS($F$187:$F$202,$B$187:$B$202,F25)+SUMIFS($C$210:$C$219,$B$210:$B$219,F25))
A26: =IFERROR(HLOOKUP(VLOOKUP(Projectinformatie!$B$26,Keuzeopties[#All],3,FALSE)&IF(C17="Kennisinstelling","K",""),Keuze_Kostensoort[#All],11,FALSE),0) -> 0 | B26: =Hulpblad!G11 -> Forfait 40% voor overige kosten | D26: =IF(A26=0,0,SUM($C$210:$C$219)) -> 0 | F26: =Hulpblad!V11 | H26: =IF(OR(F26="",F26=" "),"",SUMIFS($G$37:$G$51,$B$37:$B$51,F26)+SUMIFS($G$59:$G$73,$B$59:$B$73,F26)+SUMIFS($C$81:$C$90,$B$81:$B$90,F26)+SUMIFS($E$98:$E$107,$B$98:$B$107,F26)+SUMIFS($I$172:$I$179,$B$172:$B$179,F26)+SUMIFS($E$132:$E$140,$B$132:$B$140,F26)+SUMIFS($E$148:$E$164,$B$148:$B$164,F26)+SUMIFS($E$115:$E$124,$B$115:$B$124,F26)+SUMIFS($F$187:$F$202,$B$187:$B$202,F26)+SUMIFS($C$210:$C$219,$B$210:$B$219,F26))
B27: TOTAAL | D27: =SUM(D17:D26) -> 0 | F27: TOTAAL | H27: =SUM(H17:H26) -> 0
B29: CHECK: | C29: =IF(D27=H27,IF(C239<>"Ja","Let op: de financiering is nog niet gelijk aan de opgevoerde kosten. Zie ook de financieringstabel onder de kostenbegroting.","De kosten en financiering sluiten op elkaar aan."),"Let op: de totale kosten van bovenstaande tabellen zijn niet aan elkaar gelijk. Waarschijnlijk is bij één of meerdere inputregels nog geen werkpakket geselecteerd. "&"Als een werkpakketnaam gewijzigd is, moet deze opnieuw in de inputregel worden geselecteerd.") -> De kosten en financiering sluiten op elkaar aan.
B31: Kostenbegroting invoertabellen
A33: =IF($A$16=0,"",IF(COUNTIFS($A$17:$A$26,B33)=1,1,"nvt")) | B33: =B17 -> Loonkosten plus vast % (44,2% + 15%)
B34: =IF(A33="nvt",VLOOKUP(A33,Alle_Kostensoorten[],2,FALSE),VLOOKUP(B33,Alle_Kostensoorten[],2,FALSE)) -> Toelichting: Zie voor berekening tabblad 'Instructie'
B36: Werkpakket | C36: Functie medewerker(s) | D36: Jaar | E36: Uurtarief (incl. 15% overhead) | F36: Aantal uren | G36: Totale kosten
G37: =IF($A$33=1,$F37*$E37,0) -> 0
G38: =IF($A$33=1,$F38*$E38,0) -> 0
G39: =IF($A$33=1,$F39*$E39,0) -> 0
G40: =IF($A$33=1,$F40*$E40,0) -> 0
G41: =IF($A$33=1,$F41*$E41,0) -> 0
G42: =IF($A$33=1,$F42*$E42,0) -> 0
G43: =IF($A$33=1,$F43*$E43,0) -> 0
G44: =IF($A$33=1,$F44*$E44,0) -> 0
G45: =IF($A$33=1,$F45*$E45,0) -> 0
G46: =IF($A$33=1,$F46*$E46,0) -> 0
G47: =IF($A$33=1,$F47*$E47,0) -> 0
G48: =IF($A$33=1,$F48*$E48,0) -> 0
... G51: =IF($A$33=1,$F51*$E51,0) -> 0
B52: TOTAAL | G52: =SUM(G37:G51) -> 0
A55: =IF($A$16=0,"",IF(COUNTIFS($A$17:$A$26,B55)=1,1,"nvt")) | B55: =B18 -> Loonkosten plus vast % (44,2%)
B56: =IF(A55="nvt",VLOOKUP(A55,Alle_Kostensoorten[],2,FALSE),VLOOKUP(B55,Alle_Kostensoorten[],2,FALSE)) -> Toelichting: Zie voor berekening tabblad 'Instructie'
B58: Werkpakket | C58: Functie medewerker(s) | D58: Jaar | E58: Uurtarief | F58: Aantal uren | G58: Totale kosten
G59: =IF($A$55=1,$F59*$E59,0) -> 0
G60: =IF($A$55=1,$F60*55,0) -> 0
G61: =IF($A$55=1,$F61*55,0) -> 0
G62: =IF($A$55=1,$F62*55,0) -> 0
G63: =IF($A$55=1,$F63*55,0) -> 0
G64: =IF($A$55=1,$F64*55,0) -> 0
G65: =IF($A$55=1,$F65*55,0) -> 0
G66: =IF($A$55=1,$F66*55,0) -> 0
G67: =IF($A$55=1,$F67*55,0) -> 0
G68: =IF($A$55=1,$F68*55,0) -> 0
G69: =IF($A$55=1,$F69*55,0) -> 0
G70: =IF($A$55=1,$F70*55,0) -> 0
G71: =IF($A$55=1,$F71*55,0) -> 0
... G73: =IF($A$55=1,$F73*55,0) -> 0
B74: TOTAAL | G74: =SUM(G59:G73) -> 0
A77: =IF($A$16=0,"",IF(COUNTIFS($A$17:$A$26,B77)=1,1,"nvt")) | B77: =B19 -> Forfait van 23% voor loonkosten en eigen arbeid
B78: =IF(A77=1,VLOOKUP(B77,Alle_Kostensoorten[],2,FALSE),VLOOKUP(A77,Alle_Kostensoorten[],2,FALSE)) -> #N/A
B80: Werkpakket | C80: Totale kosten
B81: =Hulpblad!V2 | C81: =IF(AND($A$77=1,$B81<>"",$B81<>" "),(SUMIFS($E$148:$E$164,$B$148:$B$164,$B81)+SUMIFS($I$172:$I$179,$B$172:$B$179,$B81)+SUMIFS($F$187:$F$202,$B$187:$B$202,$B81))*0.23,0) -> 0
B82: =Hulpblad!V3 | C82: =IF(AND($A$77=1,$B82<>"",$B82<>" "),(SUMIFS($E$148:$E$164,$B$148:$B$164,$B82)+SUMIFS($I$172:$I$179,$B$172:$B$179,$B82)+SUMIFS($F$187:$F$202,$B$187:$B$202,$B82))*0.23,0) -> 0
B83: =Hulpblad!V4 | C83: =IF(AND($A$77=1,$B83<>"",$B83<>" "),(SUMIFS($E$148:$E$164,$B$148:$B$164,$B83)+SUMIFS($I$172:$I$179,$B$172:$B$179,$B83)+SUMIFS($F$187:$F$202,$B$187:$B$202,$B83))*0.23,0) -> 0
B84: =Hulpblad!V5 | C84: =IF(AND($A$77=1,$B84<>"",$B84<>" "),(SUMIFS($E$148:$E$164,$B$148:$B$164,$B84)+SUMIFS($I$172:$I$179,$B$172:$B$179,$B84)+SUMIFS($F$187:$F$202,$B$187:$B$202,$B84))*0.23,0) -> 0
B85: =Hulpblad!V6 | C85: =IF(AND($A$77=1,$B85<>"",$B85<>" "),(SUMIFS($E$148:$E$164,$B$148:$B$164,$B85)+SUMIFS($I$172:$I$179,$B$172:$B$179,$B85)+SUMIFS($F$187:$F$202,$B$187:$B$202,$B85))*0.23,0) -> 0
B86: =Hulpblad!V7 | C86: =IF(AND($A$77=1,$B86<>"",$B86<>" "),(SUMIFS($E$148:$E$164,$B$148:$B$164,$B86)+SUMIFS($I$172:$I$179,$B$172:$B$179,$B86)+SUMIFS($F$187:$F$202,$B$187:$B$202,$B86))*0.23,0) -> 0
B87: =Hulpblad!V8 | C87: =IF(AND($A$77=1,$B87<>"",$B87<>" "),(SUMIFS($E$148:$E$164,$B$148:$B$164,$B87)+SUMIFS($I$172:$I$179,$B$172:$B$179,$B87)+SUMIFS($F$187:$F$202,$B$187:$B$202,$B87))*0.23,0) -> 0
B88: =Hulpblad!V9 | C88: =IF(AND($A$77=1,$B88<>"",$B88<>" "),(SUMIFS($E$148:$E$164,$B$148:$B$164,$B88)+SUMIFS($I$172:$I$179,$B$172:$B$179,$B88)+SUMIFS($F$187:$F$202,$B$187:$B$202,$B88))*0.23,0) -> 0
B89: =Hulpblad!V10 | C89: =IF(AND($A$77=1,$B89<>"",$B89<>" "),(SUMIFS($E$148:$E$164,$B$148:$B$164,$B89)+SUMIFS($I$172:$I$179,$B$172:$B$179,$B89)+SUMIFS($F$187:$F$202,$B$187:$B$202,$B89))*0.23,0) -> 0
B90: =Hulpblad!V11 | C90: =IF(AND($A$77=1,$B90<>"",$B90<>" "),(SUMIFS($E$148:$E$164,$B$148:$B$164,$B90)+SUMIFS($I$172:$I$179,$B$172:$B$179,$B90)+SUMIFS($F$187:$F$202,$B$187:$B$202,$B90))*0.23,0) -> 0
B91: TOTAAL | C91: =SUM(C81:C90) -> 0
A94: =IF($A$16=0,"",IF(COUNTIFS($A$17:$A$26,B94)=1,1,"nvt")) | B94: =B20 -> Vast uurtarief eigen arbeid - € 50
B95: =IF(A94=1,VLOOKUP(B94,Alle_Kostensoorten[],2,FALSE),VLOOKUP(A94,Alle_Kostensoorten[],2,FALSE)) -> #N/A
B97: Werkpakket | C97: Functie medewerker(s) | D97: Aantal uren totaal | E97: Totale kosten
E98: =IF($A$94=1,$D98*50,0) -> 0
E99: =IF($A$94=1,$D99*50,0) -> 0
E100: =IF($A$94=1,$D100*50,0) -> 0
E101: =IF($A$94=1,$D101*50,0) -> 0
E102: =IF($A$94=1,$D102*50,0) -> 0
E103: =IF($A$94=1,$D103*50,0) -> 0
E104: =IF($A$94=1,$D104*50,0) -> 0
E105: =IF($A$94=1,$D105*50,0) -> 0
E106: =IF($A$94=1,$D106*50,0) -> 0
E107: =IF($A$94=1,$D107*50,0) -> 0
B108: TOTAAL | E108: =SUM(E98:E107) -> 0
A111: =IF($A$16=0,"",IF(COUNTIFS($A$17:$A$26,B111)=1,1,"nvt")) | B111: =B21 -> Vast uurtarief eigen arbeid - € 43
B112: =IF(A111=1,VLOOKUP(B111,Alle_Kostensoorten[],2,FALSE),VLOOKUP(A111,Alle_Kostensoorten[],2,FALSE)) -> #N/A
B114: Werkpakket | C114: Functie medewerker(s) | D114: Aantal uren totaal | E114: Totale kosten
E115: =IF($A$111=1,$D115*43,0) -> 0
E116: =IF($A$111=1,$D116*43,0) -> 0
E117: =IF($A$111=1,$D117*43,0) -> 0
E118: =IF($A$111=1,$D118*43,0) -> 0
E119: =IF($A$111=1,$D119*43,0) -> 0
E120: =IF($A$111=1,$D120*43,0) -> 0
E121: =IF($A$111=1,$D121*43,0) -> 0
E122: =IF($A$111=1,$D122*43,0) -> 0
E123: =IF($A$111=1,$D123*43,0) -> 0
E124: =IF($A$111=1,$D124*43,0) -> 0
B125: TOTAAL | E125: =SUM(E115:E124) -> 0
...

Sheet PP8
I1: Invoervelden | J1: Deze velden kunt u zelf invullen
B2: Naam Partner 8: | I2: Selectievelden | J2: Door met de cursor op het betreffende veld te gaan staan, verschijnt aan de rechterkant een pijltje waarmee u kunt kiezen.
I3: Doorrekenvelden | J3: Deze velden kunt u niet aanpassen
B4: Vestigingsplaats:
B5: KVK-nummer:
B6: Type organisatie:
B7: Omvang organisatie: | D7: *Gebruikersgids bij de definitie van MKB
B11: =IF(COUNTA(C2:D7)<5,"Vul eerst hierboven alle informatie over de projectpartner in.",IF(Projectinformatie!B26="","Er is voor het project nog geen optie gekozen voor het begroten en verantwoorden van de kosten. Kies de optie op tabblad 'Projectinformatie' onder de werkpakketten.",VLOOKUP(Projectinformatie!B26,Hulpblad!R:S,2,FALSE))) -> Vul eerst hierboven alle informatie over de projectpartner in.
B14: Samenvatting kostenbegroting (deze twee tabellen worden automatisch gevuld, u hoeft hier niets in te vullen!)
A16: =IF(OR(COUNTA(C2:D8)<5,Projectinformatie!B26=""),0,1) -> 0 | B16: Kostensoorten | D16: Totale kosten | F16: Werkpakket | H16: Totale kosten
A17: =IFERROR(HLOOKUP(VLOOKUP(Projectinformatie!$B$26,Keuzeopties[#All],3,FALSE)&IF($C$6="Kennisinstelling","K",""),Keuze_Kostensoort[#All],2,FALSE),0) -> Loonkosten plus vast % (44,2% + 15%) | B17: =Hulpblad!G2 -> Loonkosten plus vast % (44,2% + 15%) | D17: =IF(A17=0,0,SUM($G$37:$G$51)) -> 0 | F17: =Hulpblad!V2 | H17: =IF(OR(F17="",F17=" "),"",SUMIFS($G$37:$G$51,$B$37:$B$51,F17)+SUMIFS($G$59:$G$73,$B$59:$B$73,F17)+SUMIFS($C$81:$C$90,$B$81:$B$90,F17)+SUMIFS($E$98:$E$107,$B$98:$B$107,F17)+SUMIFS($I$172:$I$179,$B$172:$B$179,F17)+SUMIFS($E$132:$E$140,$B$132:$B$140,F17)+SUMIFS($E$148:$E$164,$B$148:$B$164,F17)+SUMIFS($E$115:$E$124,$B$115:$B$124,F17)+SUMIFS($F$187:$F$202,$B$187:$B$202,F17)+SUMIFS($C$210:$C$219,$B$210:$B$219,F17))
A18: =IFERROR(HLOOKUP(VLOOKUP(Projectinformatie!$B$26,Keuzeopties[#All],3,FALSE)&IF($C$6="Kennisinstelling","K",""),Keuze_Kostensoort[#All],3,FALSE),0) -> 0 | B18: =Hulpblad!G3 -> Loonkosten plus vast % (44,2%) | D18: =IF(A18=0,0,SUM($G$59:$G$73)) -> 0 | F18: =Hulpblad!V3 | H18: =IF(OR(F18="",F18=" "),"",SUMIFS($G$37:$G$51,$B$37:$B$51,F18)+SUMIFS($G$59:$G$73,$B$59:$B$73,F18)+SUMIFS($C$81:$C$90,$B$81:$B$90,F18)+SUMIFS($E$98:$E$107,$B$98:$B$107,F18)+SUMIFS($I$172:$I$179,$B$172:$B$179,F18)+SUMIFS($E$132:$E$140,$B$132:$B$140,F18)+SUMIFS($E$148:$E$164,$B$148:$B$164,F18)+SUMIFS($E$115:$E$124,$B$115:$B$124,F18)+SUMIFS($F$187:$F$202,$B$187:$B$202,F18)+SUMIFS($C$210:$C$219,$B$210:$B$219,F18))
A19: =IFERROR(HLOOKUP(VLOOKUP(Projectinformatie!$B$26,Keuzeopties[#All],3,FALSE)&IF($C$6="Kennisinstelling","K",""),Keuze_Kostensoort[#All],4,FALSE),0) -> 0 | B19: =Hulpblad!G4 -> Forfait van 23% voor loonkosten en eigen arbeid | D19: =IF(A19=0,0,SUM($C$81:$C$90)) -> 0 | F19: =Hulpblad!V4 | H19: =IF(OR(F19="",F19=" "),"",SUMIFS($G$37:$G$51,$B$37:$B$51,F19)+SUMIFS($G$59:$G$73,$B$59:$B$73,F19)+SUMIFS($C$81:$C$90,$B$81:$B$90,F19)+SUMIFS($E$98:$E$107,$B$98:$B$107,F19)+SUMIFS($I$172:$I$179,$B$172:$B$179,F19)+SUMIFS($E$132:$E$140,$B$132:$B$140,F19)+SUMIFS($E$148:$E$164,$B$148:$B$164,F19)+SUMIFS($E$115:$E$124,$B$115:$B$124,F19)+SUMIFS($F$187:$F$202,$B$187:$B$202,F19)+SUMIFS($C$210:$C$219,$B$210:$B$219,F19))
A20: =IFERROR(HLOOKUP(VLOOKUP(Projectinformatie!$B$26,Keuzeopties[#All],3,FALSE)&IF($C$6="Kennisinstelling","K",""),Keuze_Kostensoort[#All],5,FALSE),0) -> Vast uurtarief eigen arbeid - € 50 | B20: =Hulpblad!G5 -> Vast uurtarief eigen arbeid - € 50 | D20: =IF(A20=0,0,SUM($E$98:$E$107)) -> 0 | F20: =Hulpblad!V5 | H20: =IF(OR(F20="",F20=" "),"",SUMIFS($G$37:$G$51,$B$37:$B$51,F20)+SUMIFS($G$59:$G$73,$B$59:$B$73,F20)+SUMIFS($C$81:$C$90,$B$81:$B$90,F20)+SUMIFS($E$98:$E$107,$B$98:$B$107,F20)+SUMIFS($I$172:$I$179,$B$172:$B$179,F20)+SUMIFS($E$132:$E$140,$B$132:$B$140,F20)+SUMIFS($E$148:$E$164,$B$148:$B$164,F20)+SUMIFS($E$115:$E$124,$B$115:$B$124,F20)+SUMIFS($F$187:$F$202,$B$187:$B$202,F20)+SUMIFS($C$210:$C$219,$B$210:$B$219,F20))
A21: =IFERROR(HLOOKUP(VLOOKUP(Projectinformatie!$B$26,Keuzeopties[#All],3,FALSE)&IF($C$6="Kennisinstelling","K",""),Keuze_Kostensoort[#All],6,FALSE),0) -> 0 | B21: =Hulpblad!G6 -> Vast uurtarief eigen arbeid - € 43 | D21: =IF(A21=0,0,SUM($E$115:$E$124)) -> 0 | F21: =Hulpblad!V6 | H21: =IF(OR(F21="",F21=" "),"",SUMIFS($G$37:$G$51,$B$37:$B$51,F21)+SUMIFS($G$59:$G$73,$B$59:$B$73,F21)+SUMIFS($C$81:$C$90,$B$81:$B$90,F21)+SUMIFS($E$98:$E$107,$B$98:$B$107,F21)+SUMIFS($I$172:$I$179,$B$172:$B$179,F21)+SUMIFS($E$132:$E$140,$B$132:$B$140,F21)+SUMIFS($E$148:$E$164,$B$148:$B$164,F21)+SUMIFS($E$115:$E$124,$B$115:$B$124,F21)+SUMIFS($F$187:$F$202,$B$187:$B$202,F21)+SUMIFS($C$210:$C$219,$B$210:$B$219,F21))
A22: =IFERROR(HLOOKUP(VLOOKUP(Projectinformatie!$B$26,Keuzeopties[#All],3,FALSE)&IF($C$6="Kennisinstelling","K",""),Keuze_Kostensoort[#All],7,FALSE),0) -> 0 | B22: =Hulpblad!G7 -> IKS voor kennisinstellingen | D22: =IF(A22=0,0,SUM($E$132:$E$140)) -> 0 | F22: =Hulpblad!V7 | H22: =IF(OR(F22="",F22=" "),"",SUMIFS($G$37:$G$51,$B$37:$B$51,F22)+SUMIFS($G$59:$G$73,$B$59:$B$73,F22)+SUMIFS($C$81:$C$90,$B$81:$B$90,F22)+SUMIFS($E$98:$E$107,$B$98:$B$107,F22)+SUMIFS($I$172:$I$179,$B$172:$B$179,F22)+SUMIFS($E$132:$E$140,$B$132:$B$140,F22)+SUMIFS($E$148:$E$164,$B$148:$B$164,F22)+SUMIFS($E$115:$E$124,$B$115:$B$124,F22)+SUMIFS($F$187:$F$202,$B$187:$B$202,F22)+SUMIFS($C$210:$C$219,$B$210:$B$219,F22))
A23: =IFERROR(HLOOKUP(VLOOKUP(Projectinformatie!$B$26,Keuzeopties[#All],3,FALSE)&IF($C$6="Kennisinstelling","K",""),Keuze_Kostensoort[#All],8,FALSE),0) -> Bijdragen in natura (niet subsidiabel bij openstelling EIP) | B23: =Hulpblad!G8 -> Bijdragen in natura (niet subsidiabel bij openstelling EIP) | D23: =IF(A23=0,0,SUM($E$148:$E$164)) -> 0 | F23: =Hulpblad!V8 | H23: =IF(OR(F23="",F23=" "),"",SUMIFS($G$37:$G$51,$B$37:$B$51,F23)+SUMIFS($G$59:$G$73,$B$59:$B$73,F23)+SUMIFS($C$81:$C$90,$B$81:$B$90,F23)+SUMIFS($E$98:$E$107,$B$98:$B$107,F23)+SUMIFS($I$172:$I$179,$B$172:$B$179,F23)+SUMIFS($E$132:$E$140,$B$132:$B$140,F23)+SUMIFS($E$148:$E$164,$B$148:$B$164,F23)+SUMIFS($E$115:$E$124,$B$115:$B$124,F23)+SUMIFS($F$187:$F$202,$B$187:$B$202,F23)+SUMIFS($C$210:$C$219,$B$210:$B$219,F23))
A24: =IFERROR(HLOOKUP(VLOOKUP(Projectinformatie!$B$26,Keuzeopties[#All],3,FALSE)&IF(C15="Kennisinstelling","K",""),Keuze_Kostensoort[#All],9,FALSE),0) -> Afschrijvingskosten (niet subsidiabel bij openstelling EIP) | B24: =Hulpblad!G9 -> Afschrijvingskosten (niet subsidiabel bij openstelling EIP) | D24: =IF(A24=0,0,SUM($I$172:$I$179)) -> 0 | F24: =Hulpblad!V9 | H24: =IF(OR(F24="",F24=" "),"",SUMIFS($G$37:$G$51,$B$37:$B$51,F24)+SUMIFS($G$59:$G$73,$B$59:$B$73,F24)+SUMIFS($C$81:$C$90,$B$81:$B$90,F24)+SUMIFS($E$98:$E$107,$B$98:$B$107,F24)+SUMIFS($I$172:$I$179,$B$172:$B$179,F24)+SUMIFS($E$132:$E$140,$B$132:$B$140,F24)+SUMIFS($E$148:$E$164,$B$148:$B$164,F24)+SUMIFS($E$115:$E$124,$B$115:$B$124,F24)+SUMIFS($F$187:$F$202,$B$187:$B$202,F24)+SUMIFS($C$210:$C$219,$B$210:$B$219,F24))
A25: =IFERROR(HLOOKUP(VLOOKUP(Projectinformatie!$B$26,Keuzeopties[#All],3,FALSE)&IF(C16="Kennisinstelling","K",""),Keuze_Kostensoort[#All],10,FALSE),0) -> Andere kosten | B25: =Hulpblad!G10 -> Andere kosten | D25: =IF(A25=0,0,SUM($F$187:$F$202)) -> 0 | F25: =Hulpblad!V10 | H25: =IF(OR(F25="",F25=" "),"",SUMIFS($G$37:$G$51,$B$37:$B$51,F25)+SUMIFS($G$59:$G$73,$B$59:$B$73,F25)+SUMIFS($C$81:$C$90,$B$81:$B$90,F25)+SUMIFS($E$98:$E$107,$B$98:$B$107,F25)+SUMIFS($I$172:$I$179,$B$172:$B$179,F25)+SUMIFS($E$132:$E$140,$B$132:$B$140,F25)+SUMIFS($E$148:$E$164,$B$148:$B$164,F25)+SUMIFS($E$115:$E$124,$B$115:$B$124,F25)+SUMIFS($F$187:$F$202,$B$187:$B$202,F25)+SUMIFS($C$210:$C$219,$B$210:$B$219,F25))
A26: =IFERROR(HLOOKUP(VLOOKUP(Projectinformatie!$B$26,Keuzeopties[#All],3,FALSE)&IF(C17="Kennisinstelling","K",""),Keuze_Kostensoort[#All],11,FALSE),0) -> 0 | B26: =Hulpblad!G11 -> Forfait 40% voor overige kosten | D26: =IF(A26=0,0,SUM($C$210:$C$219)) -> 0 | F26: =Hulpblad!V11 | H26: =IF(OR(F26="",F26=" "),"",SUMIFS($G$37:$G$51,$B$37:$B$51,F26)+SUMIFS($G$59:$G$73,$B$59:$B$73,F26)+SUMIFS($C$81:$C$90,$B$81:$B$90,F26)+SUMIFS($E$98:$E$107,$B$98:$B$107,F26)+SUMIFS($I$172:$I$179,$B$172:$B$179,F26)+SUMIFS($E$132:$E$140,$B$132:$B$140,F26)+SUMIFS($E$148:$E$164,$B$148:$B$164,F26)+SUMIFS($E$115:$E$124,$B$115:$B$124,F26)+SUMIFS($F$187:$F$202,$B$187:$B$202,F26)+SUMIFS($C$210:$C$219,$B$210:$B$219,F26))
B27: TOTAAL | D27: =SUM(D17:D26) -> 0 | F27: TOTAAL | H27: =SUM(H17:H26) -> 0
B29: CHECK: | C29: =IF(D27=H27,IF(C239<>"Ja","Let op: de financiering is nog niet gelijk aan de opgevoerde kosten. Zie ook de financieringstabel onder de kostenbegroting.","De kosten en financiering sluiten op elkaar aan."),"Let op: de totale kosten van bovenstaande tabellen zijn niet aan elkaar gelijk. Waarschijnlijk is bij één of meerdere inputregels nog geen werkpakket geselecteerd. "&"Als een werkpakketnaam gewijzigd is, moet deze opnieuw in de inputregel worden geselecteerd.") -> De kosten en financiering sluiten op elkaar aan.
B31: Kostenbegroting invoertabellen
A33: =IF($A$16=0,"",IF(COUNTIFS($A$17:$A$26,B33)=1,1,"nvt")) | B33: =B17 -> Loonkosten plus vast % (44,2% + 15%)
B34: =IF(A33="nvt",VLOOKUP(A33,Alle_Kostensoorten[],2,FALSE),VLOOKUP(B33,Alle_Kostensoorten[],2,FALSE)) -> Toelichting: Zie voor berekening tabblad 'Instructie'
B36: Werkpakket | C36: Functie medewerker(s) | D36: Jaar | E36: Uurtarief (incl. 15% overhead) | F36: Aantal uren | G36: Totale kosten
G37: =IF($A$33=1,$F37*$E37,0) -> 0
G38: =IF($A$33=1,$F38*$E38,0) -> 0
G39: =IF($A$33=1,$F39*$E39,0) -> 0
G40: =IF($A$33=1,$F40*$E40,0) -> 0
G41: =IF($A$33=1,$F41*$E41,0) -> 0
G42: =IF($A$33=1,$F42*$E42,0) -> 0
G43: =IF($A$33=1,$F43*$E43,0) -> 0
G44: =IF($A$33=1,$F44*$E44,0) -> 0
G45: =IF($A$33=1,$F45*$E45,0) -> 0
G46: =IF($A$33=1,$F46*$E46,0) -> 0
G47: =IF($A$33=1,$F47*$E47,0) -> 0
G48: =IF($A$33=1,$F48*$E48,0) -> 0
... G51: =IF($A$33=1,$F51*$E51,0) -> 0
B52: TOTAAL | G52: =SUM(G37:G51) -> 0
A55: =IF($A$16=0,"",IF(COUNTIFS($A$17:$A$26,B55)=1,1,"nvt")) | B55: =B18 -> Loonkosten plus vast % (44,2%)
B56: =IF(A55="nvt",VLOOKUP(A55,Alle_Kostensoorten[],2,FALSE),VLOOKUP(B55,Alle_Kostensoorten[],2,FALSE)) -> Toelichting: Zie voor berekening tabblad 'Instructie'
B58: Werkpakket | C58: Functie medewerker(s) | D58: Jaar | E58: Uurtarief | F58: Aantal uren | G58: Totale kosten
G59: =IF($A$55=1,$F59*$E59,0) -> 0
G60: =IF($A$55=1,$F60*55,0) -> 0
G61: =IF($A$55=1,$F61*55,0) -> 0
G62: =IF($A$55=1,$F62*55,0) -> 0
G63: =IF($A$55=1,$F63*55,0) -> 0
G64: =IF($A$55=1,$F64*55,0) -> 0
G65: =IF($A$55=1,$F65*55,0) -> 0
G66: =IF($A$55=1,$F66*55,0) -> 0
G67: =IF($A$55=1,$F67*55,0) -> 0
G68: =IF($A$55=1,$F68*55,0) -> 0
G69: =IF($A$55=1,$F69*55,0) -> 0
G70: =IF($A$55=1,$F70*55,0) -> 0
G71: =IF($A$55=1,$F71*55,0) -> 0
... G73: =IF($A$55=1,$F73*55,0) -> 0
B74: TOTAAL | G74: =SUM(G59:G73) -> 0
A77: =IF($A$16=0,"",IF(COUNTIFS($A$17:$A$26,B77)=1,1,"nvt")) | B77: =B19 -> Forfait van 23% voor loonkosten en eigen arbeid
B78: =IF(A77=1,VLOOKUP(B77,Alle_Kostensoorten[],2,FALSE),VLOOKUP(A77,Alle_Kostensoorten[],2,FALSE)) -> #N/A
B80: Werkpakket | C80: Totale kosten
B81: =Hulpblad!V2 | C81: =IF(AND($A$77=1,$B81<>"",$B81<>" "),(SUMIFS($E$148:$E$164,$B$148:$B$164,$B81)+SUMIFS($I$172:$I$179,$B$172:$B$179,$B81)+SUMIFS($F$187:$F$202,$B$187:$B$202,$B81))*0.23,0) -> 0
B82: =Hulpblad!V3 | C82: =IF(AND($A$77=1,$B82<>"",$B82<>" "),(SUMIFS($E$148:$E$164,$B$148:$B$164,$B82)+SUMIFS($I$172:$I$179,$B$172:$B$179,$B82)+SUMIFS($F$187:$F$202,$B$187:$B$202,$B82))*0.23,0) -> 0
B83: =Hulpblad!V4 | C83: =IF(AND($A$77=1,$B83<>"",$B83<>" "),(SUMIFS($E$148:$E$164,$B$148:$B$164,$B83)+SUMIFS($I$172:$I$179,$B$172:$B$179,$B83)+SUMIFS($F$187:$F$202,$B$187:$B$202,$B83))*0.23,0) -> 0
B84: =Hulpblad!V5 | C84: =IF(AND($A$77=1,$B84<>"",$B84<>" "),(SUMIFS($E$148:$E$164,$B$148:$B$164,$B84)+SUMIFS($I$172:$I$179,$B$172:$B$179,$B84)+SUMIFS($F$187:$F$202,$B$187:$B$202,$B84))*0.23,0) -> 0
B85: =Hulpblad!V6 | C85: =IF(AND($A$77=1,$B85<>"",$B85<>" "),(SUMIFS($E$148:$E$164,$B$148:$B$164,$B85)+SUMIFS($I$172:$I$179,$B$172:$B$179,$B85)+SUMIFS($F$187:$F$202,$B$187:$B$202,$B85))*0.23,0) -> 0
B86: =Hulpblad!V7 | C86: =IF(AND($A$77=1,$B86<>"",$B86<>" "),(SUMIFS($E$148:$E$164,$B$148:$B$164,$B86)+SUMIFS($I$172:$I$179,$B$172:$B$179,$B86)+SUMIFS($F$187:$F$202,$B$187:$B$202,$B86))*0.23,0) -> 0
B87: =Hulpblad!V8 | C87: =IF(AND($A$77=1,$B87<>"",$B87<>" "),(SUMIFS($E$148:$E$164,$B$148:$B$164,$B87)+SUMIFS($I$172:$I$179,$B$172:$B$179,$B87)+SUMIFS($F$187:$F$202,$B$187:$B$202,$B87))*0.23,0) -> 0
B88: =Hulpblad!V9 | C88: =IF(AND($A$77=1,$B88<>"",$B88<>" "),(SUMIFS($E$148:$E$164,$B$148:$B$164,$B88)+SUMIFS($I$172:$I$179,$B$172:$B$179,$B88)+SUMIFS($F$187:$F$202,$B$187:$B$202,$B88))*0.23,0) -> 0
B89: =Hulpblad!V10 | C89: =IF(AND($A$77=1,$B89<>"",$B89<>" "),(SUMIFS($E$148:$E$164,$B$148:$B$164,$B89)+SUMIFS($I$172:$I$179,$B$172:$B$179,$B89)+SUMIFS($F$187:$F$202,$B$187:$B$202,$B89))*0.23,0) -> 0
B90: =Hulpblad!V11 | C90: =IF(AND($A$77=1,$B90<>"",$B90<>" "),(SUMIFS($E$148:$E$164,$B$148:$B$164,$B90)+SUMIFS($I$172:$I$179,$B$172:$B$179,$B90)+SUMIFS($F$187:$F$202,$B$187:$B$202,$B90))*0.23,0) -> 0
B91: TOTAAL | C91: =SUM(C81:C90) -> 0
A94: =IF($A$16=0,"",IF(COUNTIFS($A$17:$A$26,B94)=1,1,"nvt")) | B94: =B20 -> Vast uurtarief eigen arbeid - € 50
B95: =IF(A94=1,VLOOKUP(B94,Alle_Kostensoorten[],2,FALSE),VLOOKUP(A94,Alle_Kostensoorten[],2,FALSE)) -> #N/A
B97: Werkpakket | C97: Functie medewerker(s) | D97: Aantal uren totaal | E97: Totale kosten
E98: =IF($A$94=1,$D98*50,0) -> 0
E99: =IF($A$94=1,$D99*50,0) -> 0
E100: =IF($A$94=1,$D100*50,0) -> 0
E101: =IF($A$94=1,$D101*50,0) -> 0
E102: =IF($A$94=1,$D102*50,0) -> 0
E103: =IF($A$94=1,$D103*50,0) -> 0
E104: =IF($A$94=1,$D104*50,0) -> 0
E105: =IF($A$94=1,$D105*50,0) -> 0
E106: =IF($A$94=1,$D106*50,0) -> 0
E107: =IF($A$94=1,$D107*50,0) -> 0
B108: TOTAAL | E108: =SUM(E98:E107) -> 0
A111: =IF($A$16=0,"",IF(COUNTIFS($A$17:$A$26,B111)=1,1,"nvt")) | B111: =B21 -> Vast uurtarief eigen arbeid - € 43
B112: =IF(A111=1,VLOOKUP(B111,Alle_Kostensoorten[],2,FALSE),VLOOKUP(A111,Alle_Kostensoorten[],2,FALSE)) -> #N/A
B114: Werkpakket | C114: Functie medewerker(s) | D114: Aantal uren totaal | E114: Totale kosten
E115: =IF($A$111=1,$D115*43,0) -> 0
E116: =IF($A$111=1,$D116*43,0) -> 0
E117: =IF($A$111=1,$D117*43,0) -> 0
E118: =IF($A$111=1,$D118*43,0) -> 0
E119: =IF($A$111=1,$D119*43,0) -> 0
E120: =IF($A$111=1,$D120*43,0) -> 0
E121: =IF($A$111=1,$D121*43,0) -> 0
E122: =IF($A$111=1,$D122*43,0) -> 0
E123: =IF($A$111=1,$D123*43,0) -> 0
E124: =IF($A$111=1,$D124*43,0) -> 0
B125: TOTAAL | E125: =SUM(E115:E124) -> 0
...

Sheet PP9
I1: Invoervelden | J1: Deze velden kunt u zelf invullen
B2: Naam Partner 9: | I2: Selectievelden | J2: Door met de cursor op het betreffende veld te gaan staan, verschijnt aan de rechterkant een pijltje waarmee u kunt kiezen.
I3: Doorrekenvelden | J3: Deze velden kunt u niet aanpassen
B4: Vestigingsplaats:
B5: KVK-nummer:
B6: Type organisatie:
B7: Omvang organisatie: | D7: *Gebruikersgids bij de definitie van MKB
B11: =IF(COUNTA(C2:D7)<5,"Vul eerst hierboven alle informatie over de projectpartner in.",IF(Projectinformatie!B26="","Er is voor het project nog geen optie gekozen voor het begroten en verantwoorden van de kosten. Kies de optie op tabblad 'Projectinformatie' onder de werkpakketten.",VLOOKUP(Projectinformatie!B26,Hulpblad!R:S,2,FALSE))) -> Vul eerst hierboven alle informatie over de projectpartner in.
B14: Samenvatting kostenbegroting (deze twee tabellen worden automatisch gevuld, u hoeft hier niets in te vullen!)
A16: =IF(OR(COUNTA(C2:D8)<5,Projectinformatie!B26=""),0,1) -> 0 | B16: Kostensoorten | D16: Totale kosten | F16: Werkpakket | H16: Totale kosten
A17: =IFERROR(HLOOKUP(VLOOKUP(Projectinformatie!$B$26,Keuzeopties[#All],3,FALSE)&IF($C$6="Kennisinstelling","K",""),Keuze_Kostensoort[#All],2,FALSE),0) -> Loonkosten plus vast % (44,2% + 15%) | B17: =Hulpblad!G2 -> Loonkosten plus vast % (44,2% + 15%) | D17: =IF(A17=0,0,SUM($G$37:$G$51)) -> 0 | F17: =Hulpblad!V2 | H17: =IF(OR(F17="",F17=" "),"",SUMIFS($G$37:$G$51,$B$37:$B$51,F17)+SUMIFS($G$59:$G$73,$B$59:$B$73,F17)+SUMIFS($C$81:$C$90,$B$81:$B$90,F17)+SUMIFS($E$98:$E$107,$B$98:$B$107,F17)+SUMIFS($I$172:$I$179,$B$172:$B$179,F17)+SUMIFS($E$132:$E$140,$B$132:$B$140,F17)+SUMIFS($E$148:$E$164,$B$148:$B$164,F17)+SUMIFS($E$115:$E$124,$B$115:$B$124,F17)+SUMIFS($F$187:$F$202,$B$187:$B$202,F17)+SUMIFS($C$210:$C$219,$B$210:$B$219,F17))
A18: =IFERROR(HLOOKUP(VLOOKUP(Projectinformatie!$B$26,Keuzeopties[#All],3,FALSE)&IF($C$6="Kennisinstelling","K",""),Keuze_Kostensoort[#All],3,FALSE),0) -> 0 | B18: =Hulpblad!G3 -> Loonkosten plus vast % (44,2%) | D18: =IF(A18=0,0,SUM($G$59:$G$73)) -> 0 | F18: =Hulpblad!V3 | H18: =IF(OR(F18="",F18=" "),"",SUMIFS($G$37:$G$51,$B$37:$B$51,F18)+SUMIFS($G$59:$G$73,$B$59:$B$73,F18)+SUMIFS($C$81:$C$90,$B$81:$B$90,F18)+SUMIFS($E$98:$E$107,$B$98:$B$107,F18)+SUMIFS($I$172:$I$179,$B$172:$B$179,F18)+SUMIFS($E$132:$E$140,$B$132:$B$140,F18)+SUMIFS($E$148:$E$164,$B$148:$B$164,F18)+SUMIFS($E$115:$E$124,$B$115:$B$124,F18)+SUMIFS($F$187:$F$202,$B$187:$B$202,F18)+SUMIFS($C$210:$C$219,$B$210:$B$219,F18))
A19: =IFERROR(HLOOKUP(VLOOKUP(Projectinformatie!$B$26,Keuzeopties[#All],3,FALSE)&IF($C$6="Kennisinstelling","K",""),Keuze_Kostensoort[#All],4,FALSE),0) -> 0 | B19: =Hulpblad!G4 -> Forfait van 23% voor loonkosten en eigen arbeid | D19: =IF(A19=0,0,SUM($C$81:$C$90)) -> 0 | F19: =Hulpblad!V4 | H19: =IF(OR(F19="",F19=" "),"",SUMIFS($G$37:$G$51,$B$37:$B$51,F19)+SUMIFS($G$59:$G$73,$B$59:$B$73,F19)+SUMIFS($C$81:$C$90,$B$81:$B$90,F19)+SUMIFS($E$98:$E$107,$B$98:$B$107,F19)+SUMIFS($I$172:$I$179,$B$172:$B$179,F19)+SUMIFS($E$132:$E$140,$B$132:$B$140,F19)+SUMIFS($E$148:$E$164,$B$148:$B$164,F19)+SUMIFS($E$115:$E$124,$B$115:$B$124,F19)+SUMIFS($F$187:$F$202,$B$187:$B$202,F19)+SUMIFS($C$210:$C$219,$B$210:$B$219,F19))
A20: =IFERROR(HLOOKUP(VLOOKUP(Projectinformatie!$B$26,Keuzeopties[#All],3,FALSE)&IF($C$6="Kennisinstelling","K",""),Keuze_Kostensoort[#All],5,FALSE),0) -> Vast uurtarief eigen arbeid - € 50 | B20: =Hulpblad!G5 -> Vast uurtarief eigen arbeid - € 50 | D20: =IF(A20=0,0,SUM($E$98:$E$107)) -> 0 | F20: =Hulpblad!V5 | H20: =IF(OR(F20="",F20=" "),"",SUMIFS($G$37:$G$51,$B$37:$B$51,F20)+SUMIFS($G$59:$G$73,$B$59:$B$73,F20)+SUMIFS($C$81:$C$90,$B$81:$B$90,F20)+SUMIFS($E$98:$E$107,$B$98:$B$107,F20)+SUMIFS($I$172:$I$179,$B$172:$B$179,F20)+SUMIFS($E$132:$E$140,$B$132:$B$140,F20)+SUMIFS($E$148:$E$164,$B$148:$B$164,F20)+SUMIFS($E$115:$E$124,$B$115:$B$124,F20)+SUMIFS($F$187:$F$202,$B$187:$B$202,F20)+SUMIFS($C$210:$C$219,$B$210:$B$219,F20))
A21: =IFERROR(HLOOKUP(VLOOKUP(Projectinformatie!$B$26,Keuzeopties[#All],3,FALSE)&IF($C$6="Kennisinstelling","K",""),Keuze_Kostensoort[#All],6,FALSE),0) -> 0 | B21: =Hulpblad!G6 -> Vast uurtarief eigen arbeid - € 43 | D21: =IF(A21=0,0,SUM($E$115:$E$124)) -> 0 | F21: =Hulpblad!V6 | H21: =IF(OR(F21="",F21=" "),"",SUMIFS($G$37:$G$51,$B$37:$B$51,F21)+SUMIFS($G$59:$G$73,$B$59:$B$73,F21)+SUMIFS($C$81:$C$90,$B$81:$B$90,F21)+SUMIFS($E$98:$E$107,$B$98:$B$107,F21)+SUMIFS($I$172:$I$179,$B$172:$B$179,F21)+SUMIFS($E$132:$E$140,$B$132:$B$140,F21)+SUMIFS($E$148:$E$164,$B$148:$B$164,F21)+SUMIFS($E$115:$E$124,$B$115:$B$124,F21)+SUMIFS($F$187:$F$202,$B$187:$B$202,F21)+SUMIFS($C$210:$C$219,$B$210:$B$219,F21))
A22: =IFERROR(HLOOKUP(VLOOKUP(Projectinformatie!$B$26,Keuzeopties[#All],3,FALSE)&IF($C$6="Kennisinstelling","K",""),Keuze_Kostensoort[#All],7,FALSE),0) -> 0 | B22: =Hulpblad!G7 -> IKS voor kennisinstellingen | D22: =IF(A22=0,0,SUM($E$132:$E$140)) -> 0 | F22: =Hulpblad!V7 | H22: =IF(OR(F22="",F22=" "),"",SUMIFS($G$37:$G$51,$B$37:$B$51,F22)+SUMIFS($G$59:$G$73,$B$59:$B$73,F22)+SUMIFS($C$81:$C$90,$B$81:$B$90,F22)+SUMIFS($E$98:$E$107,$B$98:$B$107,F22)+SUMIFS($I$172:$I$179,$B$172:$B$179,F22)+SUMIFS($E$132:$E$140,$B$132:$B$140,F22)+SUMIFS($E$148:$E$164,$B$148:$B$164,F22)+SUMIFS($E$115:$E$124,$B$115:$B$124,F22)+SUMIFS($F$187:$F$202,$B$187:$B$202,F22)+SUMIFS($C$210:$C$219,$B$210:$B$219,F22))
A23: =IFERROR(HLOOKUP(VLOOKUP(Projectinformatie!$B$26,Keuzeopties[#All],3,FALSE)&IF($C$6="Kennisinstelling","K",""),Keuze_Kostensoort[#All],8,FALSE),0) -> Bijdragen in natura (niet subsidiabel bij openstelling EIP) | B23: =Hulpblad!G8 -> Bijdragen in natura (niet subsidiabel bij openstelling EIP) | D23: =IF(A23=0,0,SUM($E$148:$E$164)) -> 0 | F23: =Hulpblad!V8 | H23: =IF(OR(F23="",F23=" "),"",SUMIFS($G$37:$G$51,$B$37:$B$51,F23)+SUMIFS($G$59:$G$73,$B$59:$B$73,F23)+SUMIFS($C$81:$C$90,$B$81:$B$90,F23)+SUMIFS($E$98:$E$107,$B$98:$B$107,F23)+SUMIFS($I$172:$I$179,$B$172:$B$179,F23)+SUMIFS($E$132:$E$140,$B$132:$B$140,F23)+SUMIFS($E$148:$E$164,$B$148:$B$164,F23)+SUMIFS($E$115:$E$124,$B$115:$B$124,F23)+SUMIFS($F$187:$F$202,$B$187:$B$202,F23)+SUMIFS($C$210:$C$219,$B$210:$B$219,F23))
A24: =IFERROR(HLOOKUP(VLOOKUP(Projectinformatie!$B$26,Keuzeopties[#All],3,FALSE)&IF(C15="Kennisinstelling","K",""),Keuze_Kostensoort[#All],9,FALSE),0) -> Afschrijvingskosten (niet subsidiabel bij openstelling EIP) | B24: =Hulpblad!G9 -> Afschrijvingskosten (niet subsidiabel bij openstelling EIP) | D24: =IF(A24=0,0,SUM($I$172:$I$179)) -> 0 | F24: =Hulpblad!V9 | H24: =IF(OR(F24="",F24=" "),"",SUMIFS($G$37:$G$51,$B$37:$B$51,F24)+SUMIFS($G$59:$G$73,$B$59:$B$73,F24)+SUMIFS($C$81:$C$90,$B$81:$B$90,F24)+SUMIFS($E$98:$E$107,$B$98:$B$107,F24)+SUMIFS($I$172:$I$179,$B$172:$B$179,F24)+SUMIFS($E$132:$E$140,$B$132:$B$140,F24)+SUMIFS($E$148:$E$164,$B$148:$B$164,F24)+SUMIFS($E$115:$E$124,$B$115:$B$124,F24)+SUMIFS($F$187:$F$202,$B$187:$B$202,F24)+SUMIFS($C$210:$C$219,$B$210:$B$219,F24))
A25: =IFERROR(HLOOKUP(VLOOKUP(Projectinformatie!$B$26,Keuzeopties[#All],3,FALSE)&IF(C16="Kennisinstelling","K",""),Keuze_Kostensoort[#All],10,FALSE),0) -> Andere kosten | B25: =Hulpblad!G10 -> Andere kosten | D25: =IF(A25=0,0,SUM($F$187:$F$202)) -> 0 | F25: =Hulpblad!V10 | H25: =IF(OR(F25="",F25=" "),"",SUMIFS($G$37:$G$51,$B$37:$B$51,F25)+SUMIFS($G$59:$G$73,$B$59:$B$73,F25)+SUMIFS($C$81:$C$90,$B$81:$B$90,F25)+SUMIFS($E$98:$E$107,$B$98:$B$107,F25)+SUMIFS($I$172:$I$179,$B$172:$B$179,F25)+SUMIFS($E$132:$E$140,$B$132:$B$140,F25)+SUMIFS($E$148:$E$164,$B$148:$B$164,F25)+SUMIFS($E$115:$E$124,$B$115:$B$124,F25)+SUMIFS($F$187:$F$202,$B$187:$B$202,F25)+SUMIFS($C$210:$C$219,$B$210:$B$219,F25))
A26: =IFERROR(HLOOKUP(VLOOKUP(Projectinformatie!$B$26,Keuzeopties[#All],3,FALSE)&IF(C17="Kennisinstelling","K",""),Keuze_Kostensoort[#All],11,FALSE),0) -> 0 | B26: =Hulpblad!G11 -> Forfait 40% voor overige kosten | D26: =IF(A26=0,0,SUM($C$210:$C$219)) -> 0 | F26: =Hulpblad!V11 | H26: =IF(OR(F26="",F26=" "),"",SUMIFS($G$37:$G$51,$B$37:$B$51,F26)+SUMIFS($G$59:$G$73,$B$59:$B$73,F26)+SUMIFS($C$81:$C$90,$B$81:$B$90,F26)+SUMIFS($E$98:$E$107,$B$98:$B$107,F26)+SUMIFS($I$172:$I$179,$B$172:$B$179,F26)+SUMIFS($E$132:$E$140,$B$132:$B$140,F26)+SUMIFS($E$148:$E$164,$B$148:$B$164,F26)+SUMIFS($E$115:$E$124,$B$115:$B$124,F26)+SUMIFS($F$187:$F$202,$B$187:$B$202,F26)+SUMIFS($C$210:$C$219,$B$210:$B$219,F26))
B27: TOTAAL | D27: =SUM(D17:D26) -> 0 | F27: TOTAAL | H27: =SUM(H17:H26) -> 0
B29: CHECK: | C29: =IF(D27=H27,IF(C239<>"Ja","Let op: de financiering is nog niet gelijk aan de opgevoerde kosten. Zie ook de financieringstabel onder de kostenbegroting.","De kosten en financiering sluiten op elkaar aan."),"Let op: de totale kosten van bovenstaande tabellen zijn niet aan elkaar gelijk. Waarschijnlijk is bij één of meerdere inputregels nog geen werkpakket geselecteerd. "&"Als een werkpakketnaam gewijzigd is, moet deze opnieuw in de inputregel worden geselecteerd.") -> De kosten en financiering sluiten op elkaar aan.
B31: Kostenbegroting invoertabellen
A33: =IF($A$16=0,"",IF(COUNTIFS($A$17:$A$26,B33)=1,1,"nvt")) | B33: =B17 -> Loonkosten plus vast % (44,2% + 15%)
B34: =IF(A33="nvt",VLOOKUP(A33,Alle_Kostensoorten[],2,FALSE),VLOOKUP(B33,Alle_Kostensoorten[],2,FALSE)) -> Toelichting: Zie voor berekening tabblad 'Instructie'
B36: Werkpakket | C36: Functie medewerker(s) | D36: Jaar | E36: Uurtarief (incl. 15% overhead) | F36: Aantal uren | G36: Totale kosten
G37: =IF($A$33=1,$F37*$E37,0) -> 0
G38: =IF($A$33=1,$F38*$E38,0) -> 0
G39: =IF($A$33=1,$F39*$E39,0) -> 0
G40: =IF($A$33=1,$F40*$E40,0) -> 0
G41: =IF($A$33=1,$F41*$E41,0) -> 0
G42: =IF($A$33=1,$F42*$E42,0) -> 0
G43: =IF($A$33=1,$F43*$E43,0) -> 0
G44: =IF($A$33=1,$F44*$E44,0) -> 0
G45: =IF($A$33=1,$F45*$E45,0) -> 0
G46: =IF($A$33=1,$F46*$E46,0) -> 0
G47: =IF($A$33=1,$F47*$E47,0) -> 0
G48: =IF($A$33=1,$F48*$E48,0) -> 0
... G51: =IF($A$33=1,$F51*$E51,0) -> 0
B52: TOTAAL | G52: =SUM(G37:G51) -> 0
A55: =IF($A$16=0,"",IF(COUNTIFS($A$17:$A$26,B55)=1,1,"nvt")) | B55: =B18 -> Loonkosten plus vast % (44,2%)
B56: =IF(A55="nvt",VLOOKUP(A55,Alle_Kostensoorten[],2,FALSE),VLOOKUP(B55,Alle_Kostensoorten[],2,FALSE)) -> Toelichting: Zie voor berekening tabblad 'Instructie'
B58: Werkpakket | C58: Functie medewerker(s) | D58: Jaar | E58: Uurtarief | F58: Aantal uren | G58: Totale kosten
G59: =IF($A$55=1,$F59*$E59,0) -> 0
G60: =IF($A$55=1,$F60*55,0) -> 0
G61: =IF($A$55=1,$F61*55,0) -> 0
G62: =IF($A$55=1,$F62*55,0) -> 0
G63: =IF($A$55=1,$F63*55,0) -> 0
G64: =IF($A$55=1,$F64*55,0) -> 0
G65: =IF($A$55=1,$F65*55,0) -> 0
G66: =IF($A$55=1,$F66*55,0) -> 0
G67: =IF($A$55=1,$F67*55,0) -> 0
G68: =IF($A$55=1,$F68*55,0) -> 0
G69: =IF($A$55=1,$F69*55,0) -> 0
G70: =IF($A$55=1,$F70*55,0) -> 0
G71: =IF($A$55=1,$F71*55,0) -> 0
... G73: =IF($A$55=1,$F73*55,0) -> 0
B74: TOTAAL | G74: =SUM(G59:G73) -> 0
A77: =IF($A$16=0,"",IF(COUNTIFS($A$17:$A$26,B77)=1,1,"nvt")) | B77: =B19 -> Forfait van 23% voor loonkosten en eigen arbeid
B78: =IF(A77=1,VLOOKUP(B77,Alle_Kostensoorten[],2,FALSE),VLOOKUP(A77,Alle_Kostensoorten[],2,FALSE)) -> #N/A
B80: Werkpakket | C80: Totale kosten
B81: =Hulpblad!V2 | C81: =IF(AND($A$77=1,$B81<>"",$B81<>" "),(SUMIFS($E$148:$E$164,$B$148:$B$164,$B81)+SUMIFS($I$172:$I$179,$B$172:$B$179,$B81)+SUMIFS($F$187:$F$202,$B$187:$B$202,$B81))*0.23,0) -> 0
B82: =Hulpblad!V3 | C82: =IF(AND($A$77=1,$B82<>"",$B82<>" "),(SUMIFS($E$148:$E$164,$B$148:$B$164,$B82)+SUMIFS($I$172:$I$179,$B$172:$B$179,$B82)+SUMIFS($F$187:$F$202,$B$187:$B$202,$B82))*0.23,0) -> 0
B83: =Hulpblad!V4 | C83: =IF(AND($A$77=1,$B83<>"",$B83<>" "),(SUMIFS($E$148:$E$164,$B$148:$B$164,$B83)+SUMIFS($I$172:$I$179,$B$172:$B$179,$B83)+SUMIFS($F$187:$F$202,$B$187:$B$202,$B83))*0.23,0) -> 0
B84: =Hulpblad!V5 | C84: =IF(AND($A$77=1,$B84<>"",$B84<>" "),(SUMIFS($E$148:$E$164,$B$148:$B$164,$B84)+SUMIFS($I$172:$I$179,$B$172:$B$179,$B84)+SUMIFS($F$187:$F$202,$B$187:$B$202,$B84))*0.23,0) -> 0
B85: =Hulpblad!V6 | C85: =IF(AND($A$77=1,$B85<>"",$B85<>" "),(SUMIFS($E$148:$E$164,$B$148:$B$164,$B85)+SUMIFS($I$172:$I$179,$B$172:$B$179,$B85)+SUMIFS($F$187:$F$202,$B$187:$B$202,$B85))*0.23,0) -> 0
B86: =Hulpblad!V7 | C86: =IF(AND($A$77=1,$B86<>"",$B86<>" "),(SUMIFS($E$148:$E$164,$B$148:$B$164,$B86)+SUMIFS($I$172:$I$179,$B$172:$B$179,$B86)+SUMIFS($F$187:$F$202,$B$187:$B$202,$B86))*0.23,0) -> 0
B87: =Hulpblad!V8 | C87: =IF(AND($A$77=1,$B87<>"",$B87<>" "),(SUMIFS($E$148:$E$164,$B$148:$B$164,$B87)+SUMIFS($I$172:$I$179,$B$172:$B$179,$B87)+SUMIFS($F$187:$F$202,$B$187:$B$202,$B87))*0.23,0) -> 0
B88: =Hulpblad!V9 | C88: =IF(AND($A$77=1,$B88<>"",$B88<>" "),(SUMIFS($E$148:$E$164,$B$148:$B$164,$B88)+SUMIFS($I$172:$I$179,$B$172:$B$179,$B88)+SUMIFS($F$187:$F$202,$B$187:$B$202,$B88))*0.23,0) -> 0
B89: =Hulpblad!V10 | C89: =IF(AND($A$77=1,$B89<>"",$B89<>" "),(SUMIFS($E$148:$E$164,$B$148:$B$164,$B89)+SUMIFS($I$172:$I$179,$B$172:$B$179,$B89)+SUMIFS($F$187:$F$202,$B$187:$B$202,$B89))*0.23,0) -> 0
B90: =Hulpblad!V11 | C90: =IF(AND($A$77=1,$B90<>"",$B90<>" "),(SUMIFS($E$148:$E$164,$B$148:$B$164,$B90)+SUMIFS($I$172:$I$179,$B$172:$B$179,$B90)+SUMIFS($F$187:$F$202,$B$187:$B$202,$B90))*0.23,0) -> 0
B91: TOTAAL | C91: =SUM(C81:C90) -> 0
A94: =IF($A$16=0,"",IF(COUNTIFS($A$17:$A$26,B94)=1,1,"nvt")) | B94: =B20 -> Vast uurtarief eigen arbeid - € 50
B95: =IF(A94=1,VLOOKUP(B94,Alle_Kostensoorten[],2,FALSE),VLOOKUP(A94,Alle_Kostensoorten[],2,FALSE)) -> #N/A
B97: Werkpakket | C97: Functie medewerker(s) | D97: Aantal uren totaal | E97: Totale kosten
E98: =IF($A$94=1,$D98*50,0) -> 0
E99: =IF($A$94=1,$D99*50,0) -> 0
E100: =IF($A$94=1,$D100*50,0) -> 0
E101: =IF($A$94=1,$D101*50,0) -> 0
E102: =IF($A$94=1,$D102*50,0) -> 0
E103: =IF($A$94=1,$D103*50,0) -> 0
E104: =IF($A$94=1,$D104*50,0) -> 0
E105: =IF($A$94=1,$D105*50,0) -> 0
E106: =IF($A$94=1,$D106*50,0) -> 0
E107: =IF($A$94=1,$D107*50,0) -> 0
B108: TOTAAL | E108: =SUM(E98:E107) -> 0
A111: =IF($A$16=0,"",IF(COUNTIFS($A$17:$A$26,B111)=1,1,"nvt")) | B111: =B21 -> Vast uurtarief eigen arbeid - € 43
B112: =IF(A111=1,VLOOKUP(B111,Alle_Kostensoorten[],2,FALSE),VLOOKUP(A111,Alle_Kostensoorten[],2,FALSE)) -> #N/A
B114: Werkpakket | C114: Functie medewerker(s) | D114: Aantal uren totaal | E114: Totale kosten
E115: =IF($A$111=1,$D115*43,0) -> 0
E116: =IF($A$111=1,$D116*43,0) -> 0
E117: =IF($A$111=1,$D117*43,0) -> 0
E118: =IF($A$111=1,$D118*43,0) -> 0
E119: =IF($A$111=1,$D119*43,0) -> 0
E120: =IF($A$111=1,$D120*43,0) -> 0
E121: =IF($A$111=1,$D121*43,0) -> 0
E122: =IF($A$111=1,$D122*43,0) -> 0
E123: =IF($A$111=1,$D123*43,0) -> 0
E124: =IF($A$111=1,$D124*43,0) -> 0
B125: TOTAAL | E125: =SUM(E115:E124) -> 0
...

Sheet PP10
I1: Invoervelden | J1: Deze velden kunt u zelf invullen
B2: Naam Partner 10: | I2: Selectievelden | J2: Door met de cursor op het betreffende veld te gaan staan, verschijnt aan de rechterkant een pijltje waarmee u kunt kiezen.
I3: Doorrekenvelden | J3: Deze velden kunt u niet aanpassen
B4: Vestigingsplaats:
B5: KVK-nummer:
B6: Type organisatie:
B7: Omvang organisatie: | D7: *Gebruikersgids bij de definitie van MKB
B11: =IF(COUNTA(C2:D7)<5,"Vul eerst hierboven alle informatie over de projectpartner in.",IF(Projectinformatie!B26="","Er is voor het project nog geen optie gekozen voor het begroten en verantwoorden van de kosten. Kies de optie op tabblad 'Projectinformatie' onder de werkpakketten.",VLOOKUP(Projectinformatie!B26,Hulpblad!R:S,2,FALSE))) -> Vul eerst hierboven alle informatie over de projectpartner in.
B14: Samenvatting kostenbegroting (deze twee tabellen worden automatisch gevuld, u hoeft hier niets in te vullen!)
A16: =IF(OR(COUNTA(C2:D8)<5,Projectinformatie!B26=""),0,1) -> 0 | B16: Kostensoorten | D16: Totale kosten | F16: Werkpakket | H16: Totale kosten
A17: =IFERROR(HLOOKUP(VLOOKUP(Projectinformatie!$B$26,Keuzeopties[#All],3,FALSE)&IF($C$6="Kennisinstelling","K",""),Keuze_Kostensoort[#All],2,FALSE),0) -> Loonkosten plus vast % (44,2% + 15%) | B17: =Hulpblad!G2 -> Loonkosten plus vast % (44,2% + 15%) | D17: =IF(A17=0,0,SUM($G$37:$G$51)) -> 0 | F17: =Hulpblad!V2 | H17: =IF(OR(F17="",F17=" "),"",SUMIFS($G$37:$G$51,$B$37:$B$51,F17)+SUMIFS($G$59:$G$73,$B$59:$B$73,F17)+SUMIFS($C$81:$C$90,$B$81:$B$90,F17)+SUMIFS($E$98:$E$107,$B$98:$B$107,F17)+SUMIFS($I$172:$I$179,$B$172:$B$179,F17)+SUMIFS($E$132:$E$140,$B$132:$B$140,F17)+SUMIFS($E$148:$E$164,$B$148:$B$164,F17)+SUMIFS($E$115:$E$124,$B$115:$B$124,F17)+SUMIFS($F$187:$F$202,$B$187:$B$202,F17)+SUMIFS($C$210:$C$219,$B$210:$B$219,F17))
A18: =IFERROR(HLOOKUP(VLOOKUP(Projectinformatie!$B$26,Keuzeopties[#All],3,FALSE)&IF($C$6="Kennisinstelling","K",""),Keuze_Kostensoort[#All],3,FALSE),0) -> 0 | B18: =Hulpblad!G3 -> Loonkosten plus vast % (44,2%) | D18: =IF(A18=0,0,SUM($G$59:$G$73)) -> 0 | F18: =Hulpblad!V3 | H18: =IF(OR(F18="",F18=" "),"",SUMIFS($G$37:$G$51,$B$37:$B$51,F18)+SUMIFS($G$59:$G$73,$B$59:$B$73,F18)+SUMIFS($C$81:$C$90,$B$81:$B$90,F18)+SUMIFS($E$98:$E$107,$B$98:$B$107,F18)+SUMIFS($I$172:$I$179,$B$172:$B$179,F18)+SUMIFS($E$132:$E$140,$B$132:$B$140,F18)+SUMIFS($E$148:$E$164,$B$148:$B$164,F18)+SUMIFS($E$115:$E$124,$B$115:$B$124,F18)+SUMIFS($F$187:$F$202,$B$187:$B$202,F18)+SUMIFS($C$210:$C$219,$B$210:$B$219,F18))
A19: =IFERROR(HLOOKUP(VLOOKUP(Projectinformatie!$B$26,Keuzeopties[#All],3,FALSE)&IF($C$6="Kennisinstelling","K",""),Keuze_Kostensoort[#All],4,FALSE),0) -> 0 | B19: =Hulpblad!G4 -> Forfait van 23% voor loonkosten en eigen arbeid | D19: =IF(A19=0,0,SUM($C$81:$C$90)) -> 0 | F19: =Hulpblad!V4 | H19: =IF(OR(F19="",F19=" "),"",SUMIFS($G$37:$G$51,$B$37:$B$51,F19)+SUMIFS($G$59:$G$73,$B$59:$B$73,F19)+SUMIFS($C$81:$C$90,$B$81:$B$90,F19)+SUMIFS($E$98:$E$107,$B$98:$B$107,F19)+SUMIFS($I$172:$I$179,$B$172:$B$179,F19)+SUMIFS($E$132:$E$140,$B$132:$B$140,F19)+SUMIFS($E$148:$E$164,$B$148:$B$164,F19)+SUMIFS($E$115:$E$124,$B$115:$B$124,F19)+SUMIFS($F$187:$F$202,$B$187:$B$202,F19)+SUMIFS($C$210:$C$219,$B$210:$B$219,F19))
A20: =IFERROR(HLOOKUP(VLOOKUP(Projectinformatie!$B$26,Keuzeopties[#All],3,FALSE)&IF($C$6="Kennisinstelling","K",""),Keuze_Kostensoort[#All],5,FALSE),0) -> Vast uurtarief eigen arbeid - € 50 | B20: =Hulpblad!G5 -> Vast uurtarief eigen arbeid - € 50 | D20: =IF(A20=0,0,SUM($E$98:$E$107)) -> 0 | F20: =Hulpblad!V5 | H20: =IF(OR(F20="",F20=" "),"",SUMIFS($G$37:$G$51,$B$37:$B$51,F20)+SUMIFS($G$59:$G$73,$B$59:$B$73,F20)+SUMIFS($C$81:$C$90,$B$81:$B$90,F20)+SUMIFS($E$98:$E$107,$B$98:$B$107,F20)+SUMIFS($I$172:$I$179,$B$172:$B$179,F20)+SUMIFS($E$132:$E$140,$B$132:$B$140,F20)+SUMIFS($E$148:$E$164,$B$148:$B$164,F20)+SUMIFS($E$115:$E$124,$B$115:$B$124,F20)+SUMIFS($F$187:$F$202,$B$187:$B$202,F20)+SUMIFS($C$210:$C$219,$B$210:$B$219,F20))
A21: =IFERROR(HLOOKUP(VLOOKUP(Projectinformatie!$B$26,Keuzeopties[#All],3,FALSE)&IF($C$6="Kennisinstelling","K",""),Keuze_Kostensoort[#All],6,FALSE),0) -> 0 | B21: =Hulpblad!G6 -> Vast uurtarief eigen arbeid - € 43 | D21: =IF(A21=0,0,SUM($E$115:$E$124)) -> 0 | F21: =Hulpblad!V6 | H21: =IF(OR(F21="",F21=" "),"",SUMIFS($G$37:$G$51,$B$37:$B$51,F21)+SUMIFS($G$59:$G$73,$B$59:$B$73,F21)+SUMIFS($C$81:$C$90,$B$81:$B$90,F21)+SUMIFS($E$98:$E$107,$B$98:$B$107,F21)+SUMIFS($I$172:$I$179,$B$172:$B$179,F21)+SUMIFS($E$132:$E$140,$B$132:$B$140,F21)+SUMIFS($E$148:$E$164,$B$148:$B$164,F21)+SUMIFS($E$115:$E$124,$B$115:$B$124,F21)+SUMIFS($F$187:$F$202,$B$187:$B$202,F21)+SUMIFS($C$210:$C$219,$B$210:$B$219,F21))
A22: =IFERROR(HLOOKUP(VLOOKUP(Projectinformatie!$B$26,Keuzeopties[#All],3,FALSE)&IF($C$6="Kennisinstelling","K",""),Keuze_Kostensoort[#All],7,FALSE),0) -> 0 | B22: =Hulpblad!G7 -> IKS voor kennisinstellingen | D22: =IF(A22=0,0,SUM($E$132:$E$140)) -> 0 | F22: =Hulpblad!V7 | H22: =IF(OR(F22="",F22=" "),"",SUMIFS($G$37:$G$51,$B$37:$B$51,F22)+SUMIFS($G$59:$G$73,$B$59:$B$73,F22)+SUMIFS($C$81:$C$90,$B$81:$B$90,F22)+SUMIFS($E$98:$E$107,$B$98:$B$107,F22)+SUMIFS($I$172:$I$179,$B$172:$B$179,F22)+SUMIFS($E$132:$E$140,$B$132:$B$140,F22)+SUMIFS($E$148:$E$164,$B$148:$B$164,F22)+SUMIFS($E$115:$E$124,$B$115:$B$124,F22)+SUMIFS($F$187:$F$202,$B$187:$B$202,F22)+SUMIFS($C$210:$C$219,$B$210:$B$219,F22))
A23: =IFERROR(HLOOKUP(VLOOKUP(Projectinformatie!$B$26,Keuzeopties[#All],3,FALSE)&IF($C$6="Kennisinstelling","K",""),Keuze_Kostensoort[#All],8,FALSE),0) -> Bijdragen in natura (niet subsidiabel bij openstelling EIP) | B23: =Hulpblad!G8 -> Bijdragen in natura (niet subsidiabel bij openstelling EIP) | D23: =IF(A23=0,0,SUM($E$148:$E$164)) -> 0 | F23: =Hulpblad!V8 | H23: =IF(OR(F23="",F23=" "),"",SUMIFS($G$37:$G$51,$B$37:$B$51,F23)+SUMIFS($G$59:$G$73,$B$59:$B$73,F23)+SUMIFS($C$81:$C$90,$B$81:$B$90,F23)+SUMIFS($E$98:$E$107,$B$98:$B$107,F23)+SUMIFS($I$172:$I$179,$B$172:$B$179,F23)+SUMIFS($E$132:$E$140,$B$132:$B$140,F23)+SUMIFS($E$148:$E$164,$B$148:$B$164,F23)+SUMIFS($E$115:$E$124,$B$115:$B$124,F23)+SUMIFS($F$187:$F$202,$B$187:$B$202,F23)+SUMIFS($C$210:$C$219,$B$210:$B$219,F23))
A24: =IFERROR(HLOOKUP(VLOOKUP(Projectinformatie!$B$26,Keuzeopties[#All],3,FALSE)&IF(C15="Kennisinstelling","K",""),Keuze_Kostensoort[#All],9,FALSE),0) -> Afschrijvingskosten (niet subsidiabel bij openstelling EIP) | B24: =Hulpblad!G9 -> Afschrijvingskosten (niet subsidiabel bij openstelling EIP) | D24: =IF(A24=0,0,SUM($I$172:$I$179)) -> 0 | F24: =Hulpblad!V9 | H24: =IF(OR(F24="",F24=" "),"",SUMIFS($G$37:$G$51,$B$37:$B$51,F24)+SUMIFS($G$59:$G$73,$B$59:$B$73,F24)+SUMIFS($C$81:$C$90,$B$81:$B$90,F24)+SUMIFS($E$98:$E$107,$B$98:$B$107,F24)+SUMIFS($I$172:$I$179,$B$172:$B$179,F24)+SUMIFS($E$132:$E$140,$B$132:$B$140,F24)+SUMIFS($E$148:$E$164,$B$148:$B$164,F24)+SUMIFS($E$115:$E$124,$B$115:$B$124,F24)+SUMIFS($F$187:$F$202,$B$187:$B$202,F24)+SUMIFS($C$210:$C$219,$B$210:$B$219,F24))
A25: =IFERROR(HLOOKUP(VLOOKUP(Projectinformatie!$B$26,Keuzeopties[#All],3,FALSE)&IF(C16="Kennisinstelling","K",""),Keuze_Kostensoort[#All],10,FALSE),0) -> Andere kosten | B25: =Hulpblad!G10 -> Andere kosten | D25: =IF(A25=0,0,SUM($F$187:$F$202)) -> 0 | F25: =Hulpblad!V10 | H25: =IF(OR(F25="",F25=" "),"",SUMIFS($G$37:$G$51,$B$37:$B$51,F25)+SUMIFS($G$59:$G$73,$B$59:$B$73,F25)+SUMIFS($C$81:$C$90,$B$81:$B$90,F25)+SUMIFS($E$98:$E$107,$B$98:$B$107,F25)+SUMIFS($I$172:$I$179,$B$172:$B$179,F25)+SUMIFS($E$132:$E$140,$B$132:$B$140,F25)+SUMIFS($E$148:$E$164,$B$148:$B$164,F25)+SUMIFS($E$115:$E$124,$B$115:$B$124,F25)+SUMIFS($F$187:$F$202,$B$187:$B$202,F25)+SUMIFS($C$210:$C$219,$B$210:$B$219,F25))
A26: =IFERROR(HLOOKUP(VLOOKUP(Projectinformatie!$B$26,Keuzeopties[#All],3,FALSE)&IF(C17="Kennisinstelling","K",""),Keuze_Kostensoort[#All],11,FALSE),0) -> 0 | B26: =Hulpblad!G11 -> Forfait 40% voor overige kosten | D26: =IF(A26=0,0,SUM($C$210:$C$219)) -> 0 | F26: =Hulpblad!V11 | H26: =IF(OR(F26="",F26=" "),"",SUMIFS($G$37:$G$51,$B$37:$B$51,F26)+SUMIFS($G$59:$G$73,$B$59:$B$73,F26)+SUMIFS($C$81:$C$90,$B$81:$B$90,F26)+SUMIFS($E$98:$E$107,$B$98:$B$107,F26)+SUMIFS($I$172:$I$179,$B$172:$B$179,F26)+SUMIFS($E$132:$E$140,$B$132:$B$140,F26)+SUMIFS($E$148:$E$164,$B$148:$B$164,F26)+SUMIFS($E$115:$E$124,$B$115:$B$124,F26)+SUMIFS($F$187:$F$202,$B$187:$B$202,F26)+SUMIFS($C$210:$C$219,$B$210:$B$219,F26))
B27: TOTAAL | D27: =SUM(D17:D26) -> 0 | F27: TOTAAL | H27: =SUM(H17:H26) -> 0
B29: CHECK: | C29: =IF(D27=H27,IF(C239<>"Ja","Let op: de financiering is nog niet gelijk aan de opgevoerde kosten. Zie ook de financieringstabel onder de kostenbegroting.","De kosten en financiering sluiten op elkaar aan."),"Let op: de totale kosten van bovenstaande tabellen zijn niet aan elkaar gelijk. Waarschijnlijk is bij één of meerdere inputregels nog geen werkpakket geselecteerd. "&"Als een werkpakketnaam gewijzigd is, moet deze opnieuw in de inputregel worden geselecteerd.") -> De kosten en financiering sluiten op elkaar aan.
B31: Kostenbegroting invoertabellen
A33: =IF($A$16=0,"",IF(COUNTIFS($A$17:$A$26,B33)=1,1,"nvt")) | B33: =B17 -> Loonkosten plus vast % (44,2% + 15%)
B34: =IF(A33="nvt",VLOOKUP(A33,Alle_Kostensoorten[],2,FALSE),VLOOKUP(B33,Alle_Kostensoorten[],2,FALSE)) -> Toelichting: Zie voor berekening tabblad 'Instructie'
B36: Werkpakket | C36: Functie medewerker(s) | D36: Jaar | E36: Uurtarief (incl. 15% overhead) | F36: Aantal uren | G36: Totale kosten
G37: =IF($A$33=1,$F37*$E37,0) -> 0
G38: =IF($A$33=1,$F38*$E38,0) -> 0
G39: =IF($A$33=1,$F39*$E39,0) -> 0
G40: =IF($A$33=1,$F40*$E40,0) -> 0
G41: =IF($A$33=1,$F41*$E41,0) -> 0
G42: =IF($A$33=1,$F42*$E42,0) -> 0
G43: =IF($A$33=1,$F43*$E43,0) -> 0
G44: =IF($A$33=1,$F44*$E44,0) -> 0
G45: =IF($A$33=1,$F45*$E45,0) -> 0
G46: =IF($A$33=1,$F46*$E46,0) -> 0
G47: =IF($A$33=1,$F47*$E47,0) -> 0
G48: =IF($A$33=1,$F48*$E48,0) -> 0
... G51: =IF($A$33=1,$F51*$E51,0) -> 0
B52: TOTAAL | G52: =SUM(G37:G51) -> 0
A55: =IF($A$16=0,"",IF(COUNTIFS($A$17:$A$26,B55)=1,1,"nvt")) | B55: =B18 -> Loonkosten plus vast % (44,2%)
B56: =IF(A55="nvt",VLOOKUP(A55,Alle_Kostensoorten[],2,FALSE),VLOOKUP(B55,Alle_Kostensoorten[],2,FALSE)) -> Toelichting: Zie voor berekening tabblad 'Instructie'
B58: Werkpakket | C58: Functie medewerker(s) | D58: Jaar | E58: Uurtarief | F58: Aantal uren | G58: Totale kosten
G59: =IF($A$55=1,$F59*$E59,0) -> 0
G60: =IF($A$55=1,$F60*55,0) -> 0
G61: =IF($A$55=1,$F61*55,0) -> 0
G62: =IF($A$55=1,$F62*55,0) -> 0
G63: =IF($A$55=1,$F63*55,0) -> 0
G64: =IF($A$55=1,$F64*55,0) -> 0
G65: =IF($A$55=1,$F65*55,0) -> 0
G66: =IF($A$55=1,$F66*55,0) -> 0
G67: =IF($A$55=1,$F67*55,0) -> 0
G68: =IF($A$55=1,$F68*55,0) -> 0
G69: =IF($A$55=1,$F69*55,0) -> 0
G70: =IF($A$55=1,$F70*55,0) -> 0
G71: =IF($A$55=1,$F71*55,0) -> 0
... G73: =IF($A$55=1,$F73*55,0) -> 0
B74: TOTAAL | G74: =SUM(G59:G73) -> 0
A77: =IF($A$16=0,"",IF(COUNTIFS($A$17:$A$26,B77)=1,1,"nvt")) | B77: =B19 -> Forfait van 23% voor loonkosten en eigen arbeid
B78: =IF(A77=1,VLOOKUP(B77,Alle_Kostensoorten[],2,FALSE),VLOOKUP(A77,Alle_Kostensoorten[],2,FALSE)) -> #N/A
B80: Werkpakket | C80: Totale kosten
B81: =Hulpblad!V2 | C81: =IF(AND($A$77=1,$B81<>"",$B81<>" "),(SUMIFS($E$148:$E$164,$B$148:$B$164,$B81)+SUMIFS($I$172:$I$179,$B$172:$B$179,$B81)+SUMIFS($F$187:$F$202,$B$187:$B$202,$B81))*0.23,0) -> 0
B82: =Hulpblad!V3 | C82: =IF(AND($A$77=1,$B82<>"",$B82<>" "),(SUMIFS($E$148:$E$164,$B$148:$B$164,$B82)+SUMIFS($I$172:$I$179,$B$172:$B$179,$B82)+SUMIFS($F$187:$F$202,$B$187:$B$202,$B82))*0.23,0) -> 0
B83: =Hulpblad!V4 | C83: =IF(AND($A$77=1,$B83<>"",$B83<>" "),(SUMIFS($E$148:$E$164,$B$148:$B$164,$B83)+SUMIFS($I$172:$I$179,$B$172:$B$179,$B83)+SUMIFS($F$187:$F$202,$B$187:$B$202,$B83))*0.23,0) -> 0
B84: =Hulpblad!V5 | C84: =IF(AND($A$77=1,$B84<>"",$B84<>" "),(SUMIFS($E$148:$E$164,$B$148:$B$164,$B84)+SUMIFS($I$172:$I$179,$B$172:$B$179,$B84)+SUMIFS($F$187:$F$202,$B$187:$B$202,$B84))*0.23,0) -> 0
B85: =Hulpblad!V6 | C85: =IF(AND($A$77=1,$B85<>"",$B85<>" "),(SUMIFS($E$148:$E$164,$B$148:$B$164,$B85)+SUMIFS($I$172:$I$179,$B$172:$B$179,$B85)+SUMIFS($F$187:$F$202,$B$187:$B$202,$B85))*0.23,0) -> 0
B86: =Hulpblad!V7 | C86: =IF(AND($A$77=1,$B86<>"",$B86<>" "),(SUMIFS($E$148:$E$164,$B$148:$B$164,$B86)+SUMIFS($I$172:$I$179,$B$172:$B$179,$B86)+SUMIFS($F$187:$F$202,$B$187:$B$202,$B86))*0.23,0) -> 0
B87: =Hulpblad!V8 | C87: =IF(AND($A$77=1,$B87<>"",$B87<>" "),(SUMIFS($E$148:$E$164,$B$148:$B$164,$B87)+SUMIFS($I$172:$I$179,$B$172:$B$179,$B87)+SUMIFS($F$187:$F$202,$B$187:$B$202,$B87))*0.23,0) -> 0
B88: =Hulpblad!V9 | C88: =IF(AND($A$77=1,$B88<>"",$B88<>" "),(SUMIFS($E$148:$E$164,$B$148:$B$164,$B88)+SUMIFS($I$172:$I$179,$B$172:$B$179,$B88)+SUMIFS($F$187:$F$202,$B$187:$B$202,$B88))*0.23,0) -> 0
B89: =Hulpblad!V10 | C89: =IF(AND($A$77=1,$B89<>"",$B89<>" "),(SUMIFS($E$148:$E$164,$B$148:$B$164,$B89)+SUMIFS($I$172:$I$179,$B$172:$B$179,$B89)+SUMIFS($F$187:$F$202,$B$187:$B$202,$B89))*0.23,0) -> 0
B90: =Hulpblad!V11 | C90: =IF(AND($A$77=1,$B90<>"",$B90<>" "),(SUMIFS($E$148:$E$164,$B$148:$B$164,$B90)+SUMIFS($I$172:$I$179,$B$172:$B$179,$B90)+SUMIFS($F$187:$F$202,$B$187:$B$202,$B90))*0.23,0) -> 0
B91: TOTAAL | C91: =SUM(C81:C90) -> 0
A94: =IF($A$16=0,"",IF(COUNTIFS($A$17:$A$26,B94)=1,1,"nvt")) | B94: =B20 -> Vast uurtarief eigen arbeid - € 50
B95: =IF(A94=1,VLOOKUP(B94,Alle_Kostensoorten[],2,FALSE),VLOOKUP(A94,Alle_Kostensoorten[],2,FALSE)) -> #N/A
B97: Werkpakket | C97: Functie medewerker(s) | D97: Aantal uren totaal | E97: Totale kosten
E98: =IF($A$94=1,$D98*50,0) -> 0
E99: =IF($A$94=1,$D99*50,0) -> 0
E100: =IF($A$94=1,$D100*50,0) -> 0
E101: =IF($A$94=1,$D101*50,0) -> 0
E102: =IF($A$94=1,$D102*50,0) -> 0
E103: =IF($A$94=1,$D103*50,0) -> 0
E104: =IF($A$94=1,$D104*50,0) -> 0
E105: =IF($A$94=1,$D105*50,0) -> 0
E106: =IF($A$94=1,$D106*50,0) -> 0
E107: =IF($A$94=1,$D107*50,0) -> 0
B108: TOTAAL | E108: =SUM(E98:E107) -> 0
A111: =IF($A$16=0,"",IF(COUNTIFS($A$17:$A$26,B111)=1,1,"nvt")) | B111: =B21 -> Vast uurtarief eigen arbeid - € 43
B112: =IF(A111=1,VLOOKUP(B111,Alle_Kostensoorten[],2,FALSE),VLOOKUP(A111,Alle_Kostensoorten[],2,FALSE)) -> #N/A
B114: Werkpakket | C114: Functie medewerker(s) | D114: Aantal uren totaal | E114: Totale kosten
E115: =IF($A$111=1,$D115*43,0) -> 0
E116: =IF($A$111=1,$D116*43,0) -> 0
E117: =IF($A$111=1,$D117*43,0) -> 0
E118: =IF($A$111=1,$D118*43,0) -> 0
E119: =IF($A$111=1,$D119*43,0) -> 0
E120: =IF($A$111=1,$D120*43,0) -> 0
E121: =IF($A$111=1,$D121*43,0) -> 0
E122: =IF($A$111=1,$D122*43,0) -> 0
E123: =IF($A$111=1,$D123*43,0) -> 0
E124: =IF($A$111=1,$D124*43,0) -> 0
B125: TOTAAL | E125: =SUM(E115:E124) -> 0
...

Sheet PP11
I1: Invoervelden | J1: Deze velden kunt u zelf invullen
B2: Naam Partner 11: | I2: Selectievelden | J2: Door met de cursor op het betreffende veld te gaan staan, verschijnt aan de rechterkant een pijltje waarmee u kunt kiezen.
I3: Doorrekenvelden | J3: Deze velden kunt u niet aanpassen
B4: Vestigingsplaats:
B5: KVK-nummer:
B6: Type organisatie:
B7: Omvang organisatie: | D7: *Gebruikersgids bij de definitie van MKB
B11: =IF(COUNTA(C2:D7)<5,"Vul eerst hierboven alle informatie over de projectpartner in.",IF(Projectinformatie!B26="","Er is voor het project nog geen optie gekozen voor het begroten en verantwoorden van de kosten. Kies de optie op tabblad 'Projectinformatie' onder de werkpakketten.",VLOOKUP(Projectinformatie!B26,Hulpblad!R:S,2,FALSE))) -> Vul eerst hierboven alle informatie over de projectpartner in.
B14: Samenvatting kostenbegroting (deze twee tabellen worden automatisch gevuld, u hoeft hier niets in te vullen!)
A16: =IF(OR(COUNTA(C2:D8)<5,Projectinformatie!B26=""),0,1) -> 0 | B16: Kostensoorten | D16: Totale kosten | F16: Werkpakket | H16: Totale kosten
A17: =IFERROR(HLOOKUP(VLOOKUP(Projectinformatie!$B$26,Keuzeopties[#All],3,FALSE)&IF($C$6="Kennisinstelling","K",""),Keuze_Kostensoort[#All],2,FALSE),0) -> Loonkosten plus vast % (44,2% + 15%) | B17: =Hulpblad!G2 -> Loonkosten plus vast % (44,2% + 15%) | D17: =IF(A17=0,0,SUM($G$37:$G$51)) -> 0 | F17: =Hulpblad!V2 | H17: =IF(OR(F17="",F17=" "),"",SUMIFS($G$37:$G$51,$B$37:$B$51,F17)+SUMIFS($G$59:$G$73,$B$59:$B$73,F17)+SUMIFS($C$81:$C$90,$B$81:$B$90,F17)+SUMIFS($E$98:$E$107,$B$98:$B$107,F17)+SUMIFS($I$172:$I$179,$B$172:$B$179,F17)+SUMIFS($E$132:$E$140,$B$132:$B$140,F17)+SUMIFS($E$148:$E$164,$B$148:$B$164,F17)+SUMIFS($E$115:$E$124,$B$115:$B$124,F17)+SUMIFS($F$187:$F$202,$B$187:$B$202,F17)+SUMIFS($C$210:$C$219,$B$210:$B$219,F17))
